Net-Ident v1.25 Perl 5 v5.14.2 armv7l-linux
- Status
- Pass
- From
- Nigel Horne
- Dist
-
Net-Ident v1.25
- Platform
- Perl 5 v5.14.2 armv7l-linux
- Date
- 2020-01-19 07:30:25
- ID
- 8ef65df0-3a8d-11ea-81bc-fd49b518dca7
This distribution has been tested as part of the CPAN Testers
project, supporting the Perl programming language. See
http://wiki.cpantesters.org/ for more information or email
questions to cpan-testers-discuss@perl.org
--
Dear Todd Rinaldo,
This is a computer-generated report for Net-Ident-1.25
on perl 5.14.2, created by CPAN-Reporter-1.2018.
Thank you for uploading your work to CPAN. Congratulations!
All tests were successful.
Sections of this report:
* Tester comments
* Program output
* Prerequisites
* Environment and other context
------------------------------
TESTER COMMENTS
------------------------------
Additional comments from tester:
this report is from an automated smoke testing program
and was not reviewed by a human for accuracy
------------------------------
PROGRAM OUTPUT
------------------------------
Output from '/usr/bin/make test':
PERL_DL_NONLAZY=1 "/mnt/nas/home/pi4/njh/perl5/perlbrew/perls/perl-5.14.2/bin/perl" "-MExtUtils::Command::MM" "-MTest::Harness" "-e" "undef *Test::Harness::Switches; test_harness(0, 'blib/lib', 'blib/arch')" t/*.t
t/0use.t .... ok
t/compat.t .. skipped: (no reason given)
t/apache.t .. skipped: (no reason given)
t/Ident.t ... ok
All tests successful.
Files=4, Tests=2, 0 wallclock secs ( 0.05 usr 0.03 sys + 0.22 cusr 0.07 csys = 0.37 CPU)
Result: PASS
------------------------------
PREREQUISITES
------------------------------
Prerequisite modules loaded:
requires:
Module Need Have
------------------- ---- -------
Carp 0 1.20
Config 0 0
Exporter 0 5.64_03
Fcntl 0 1.11
FileHandle 0 2.02
Socket 0 2.029
vars 0 1.02
build_requires:
Module Need Have
------------------- ---- -------
ExtUtils::MakeMaker 0 7.42
configure_requires:
Module Need Have
------------------- ---- -------
ExtUtils::MakeMaker 0 7.42
------------------------------
ENVIRONMENT AND OTHER CONTEXT
------------------------------
Environment variables:
AUTOMATED_TESTING = 1
HARNESS_OPTIONS = j4
LANG = en_US.UTF-8
PATH = /home/njh/perl5/perlbrew/bin:/home/njh/perl5/perlbrew/perls/perl-5.14.2/bin:/usr/bin:/bin:/home/njh/src/njh/smoker/bin
PERL5LIB = /var/tmp/build/IO-Tty-1.14-7PNBab/blib/arch:/var/tmp/build/IO-Tty-1.14-7PNBab/blib/lib
PERL5OPT =
PERL5_CPANPLUS_IS_RUNNING = 11813
PERL5_CPAN_IS_RUNNING = 11813
PERL5_CPAN_IS_RUNNING_IN_RECURSION = 11795,11813
PERLBREW_HOME = /home/njh/.perlbrew
PERLBREW_MANPATH = /home/njh/perl5/perlbrew/perls/perl-5.14.2/man
PERLBREW_PATH = /home/njh/perl5/perlbrew/bin:/home/njh/perl5/perlbrew/perls/perl-5.14.2/bin
PERLBREW_PERL = perl-5.14.2
PERLBREW_ROOT = /home/njh/perl5/perlbrew
PERLBREW_SHELLRC_VERSION = 0.87
PERLBREW_VERSION = 0.87
SHELL = /bin/sh
TEMP = /tmp/user/1000
TMPDIR = /tmp/user/1000/testwrapper.11799
Perl special variables (and OS-specific diagnostics, for MSWin32):
$^X = /mnt/nas/home/pi4/njh/perl5/perlbrew/perls/perl-5.14.2/bin/perl
$UID/$EUID = 1000 / 1000
$GID = 1000 4 20 24 25 27 29 30 44 46 60 100 105 109 995 997 998 999 1000
$EGID = 1000 4 20 24 25 27 29 30 44 46 60 100 105 109 995 997 998 999 1000
Perl module toolchain versions installed:
Module Have
------------------- ---------
CPAN 1.9600_01
CPAN::Meta 2.143240
Cwd 3.36
ExtUtils::CBuilder 0.280203
ExtUtils::Command 7.42
ExtUtils::Install 2.06
ExtUtils::MakeMaker 7.42
ExtUtils::Manifest 1.70
ExtUtils::ParseXS 2.2210
File::Spec 3.33
JSON 4.02
JSON::PP 2.27203
Module::Build 0.3800
Module::Signature n/a
Parse::CPAN::Meta 1.4414
Test::Harness 3.42
Test::More 1.302170
YAML 1.29
YAML::Syck n/a
version 0.88
--
Summary of my perl5 (revision 5 version 14 subversion 2) configuration:
Platform:
osname=linux, osvers=4.19.75-v7l+, archname=armv7l-linux
uname='linux pi4 4.19.75-v7l+ #1270 smp tue sep 24 18:51:41 bst 2019 armv7l gnulinux '
config_args='-de -Dprefix=/home/njh/perl5/perlbrew/perls/perl-5.14.2 -Aeval:scriptdir=/home/njh/perl5/perlbrew/perls/perl-5.14.2/bin'
hint=recommended, useposix=true, d_sigaction=define
useithreads=undef, usemultiplicity=undef
useperlio=define, d_sfio=undef, uselargefiles=define, usesocks=undef
use64bitint=undef, use64bitall=undef, uselongdouble=undef
usemymalloc=n, bincompat5005=undef
Compiler:
cc='cc', ccflags ='-fwrapv -fno-strict-aliasing -pipe -fstack-protector -I/usr/local/include -D_LARGEFILE_SOURCE -D_FILE_OFFSET_BITS=64',
optimize='-O2',
cppflags='-fwrapv -fno-strict-aliasing -pipe -fstack-protector -I/usr/local/include'
ccversion='', gccversion='8.3.0', gccosandvers=''
intsize=4, longsize=4, ptrsize=4, doublesize=8, byteorder=1234
d_longlong=define, longlongsize=8, d_longdbl=define, longdblsize=8
ivtype='long', ivsize=4, nvtype='double', nvsize=8, Off_t='off_t', lseeksize=8
alignbytes=8, prototype=define
Linker and Libraries:
ld='cc', ldflags =' -fstack-protector -L/usr/local/lib'
libpth=/usr/local/lib /lib/arm-linux-gnueabihf /lib /usr/lib/arm-linux-gnueabihf /usr/lib
libs=-lnsl -lgdbm -ldb -ldl -lm -lcrypt -lutil -lc
perllibs=-lnsl -ldl -lm -lcrypt -lutil -lc
libc=libc-2.28.so, so=so, useshrplib=false, libperl=libperl.a
gnulibc_version='2.28'
Dynamic Linking:
dlsrc=dl_dlopen.xs, dlext=so, d_dlsymun=undef, ccdlflags='-Wl,-E'
cccdlflags='-fPIC', lddlflags='-shared -O2 -L/usr/local/lib -fstack-protector'
Characteristics of this binary (from libperl):
Compile-time options: PERL_DONT_CREATE_GVSV PERL_MALLOC_WRAP
PERL_PRESERVE_IVUV USE_LARGE_FILES USE_PERLIO
USE_PERL_ATOF
Locally applied patches:
Devel::PatchPerl 1.80
Built under linux
Compiled at Dec 27 2019 16:50:07
%ENV:
PERL5LIB="/var/tmp/build/IO-Tty-1.14-7PNBab/blib/arch:/var/tmp/build/IO-Tty-1.14-7PNBab/blib/lib"
PERL5OPT=""
PERL5_CPANPLUS_IS_RUNNING="11813"
PERL5_CPAN_IS_RUNNING="11813"
PERL5_CPAN_IS_RUNNING_IN_RECURSION="11795,11813"
PERLBREW_HOME="/home/njh/.perlbrew"
PERLBREW_MANPATH="/home/njh/perl5/perlbrew/perls/perl-5.14.2/man"
PERLBREW_PATH="/home/njh/perl5/perlbrew/bin:/home/njh/perl5/perlbrew/perls/perl-5.14.2/bin"
PERLBREW_PERL="perl-5.14.2"
PERLBREW_ROOT="/home/njh/perl5/perlbrew"
PERLBREW_SHELLRC_VERSION="0.87"
PERLBREW_VERSION="0.87"
@INC:
/var/tmp/build/IO-Tty-1.14-7PNBab/blib/arch
/var/tmp/build/IO-Tty-1.14-7PNBab/blib/lib
/home/njh/perl5/perlbrew/perls/perl-5.14.2/lib/site_perl/5.14.2/armv7l-linux
/home/njh/perl5/perlbrew/perls/perl-5.14.2/lib/site_perl/5.14.2
/home/njh/perl5/perlbrew/perls/perl-5.14.2/lib/5.14.2/armv7l-linux
/home/njh/perl5/perlbrew/perls/perl-5.14.2/lib/5.14.2
.