Module-Pluggable v6.3 Perl 5 v5.43.3 darwin-2level
- Status
- Pass
- From
- Dist
-
Module-Pluggable v6.3
- Platform
- Perl 5 v5.43.3 darwin-2level
- Date
- 2025-09-23 16:22:54
- ID
- 8ef85f86-9899-11f0-8c0a-a94b9fa555e6
This distribution has been tested as part of the CPAN Testers
project, supporting the Perl programming language. See
http://wiki.cpantesters.org/ for more information or email
questions to cpan-testers-discuss@perl.org
--
Dear SIMONW,
This is a computer-generated report for Module-Pluggable-6.3
on perl 5.43.3, created by App::cpanminus::reporter 0.22 (1.7048).
Thank you for uploading your work to CPAN. Congratulations!
All tests were successful.
Sections of this report:
* Tester comments
* Program output
* Prerequisites
* Environment and other context
------------------------------
TESTER COMMENTS
------------------------------
Additional comments from tester:
none provided
------------------------------
PROGRAM OUTPUT
------------------------------
Output from '':
Building and testing Module-Pluggable-6.3
PERL_DL_NONLAZY=1 "/Volumes/chambord/Users/ether/perl5/perlbrew/perls/43.3/bin/perl5.43.3" "-MExtUtils::Command::MM" "-MTest::Harness" "-e" "undef *Test::Harness::Switches; test_harness(0, 'blib/lib', 'blib/arch')" t/*.t
t/02works.t .................. ok
t/03diffname.t ............... ok
t/01use.t .................... ok
t/04acmedir.t ................ ok
t/02alsoworks.t .............. ok
t/02works_taint.t ............ ok
t/04acmepath.t ............... ok
t/04acmedir_single.t ......... ok
t/05postpath.t ............... ok
t/04acmepath_single.t ........ ok
t/06multipath.t .............. ok
t/07instantiate.t ............ ok
t/10innerpack.t .............. ok
t/08nothing.t ................ ok
t/10innerpack_noinner.t ...... ok
t/09require.t ................ ok
t/10innerpack_onefile.t ...... ok
t/10innerpack_inner.t ........ ok
t/10innerpack_super.t ........ ok
t/10innerpack_override.t ..... ok
t/11usetwice.t ............... ok
t/12onlyarray.t .............. ok
t/12only.t ................... ok
t/12onlyregex.t .............. ok
t/13except.t ................. ok
t/13exceptarray.t ............ ok
t/12onlyrequire.t ............ ok
t/13exceptregex.t ............ ok
t/14package.t ................ ok
t/16different_extension.t .... ok
t/15topicsafe.t .............. ok
t/17devel_inner_package.t .... ok
t/19can_ok_clobber.t ......... ok
t/18skipped_package.t ........ ok
t/20dodgy_files.t ............ ok
t/21editor_junk.t ............ ok
t/22trigger.t ................ ok
t/23depth.t .................. ok
t/24local_inc_object.t ....... ok
t/24local_inc_package.t ...... ok
t/27app_fatpacker.t .......... skipped: App::FatPacker >= 0.10.0 not available
t/25single_letter_package.t .. ok
t/26inc_hook.t ............... ok
t/28appledouble.t ............ ok
t/29unreadable.t ............. ok
All tests successful.
Files=45, Tests=192, 0 wallclock secs ( 0.06 usr 0.04 sys + 1.17 cusr 0.35 csys = 1.62 CPU)
Result: PASS
------------------------------
PREREQUISITES
------------------------------
Prerequisite modules loaded:
runtime:
Module Need Have
--------------------- ----- --------
Exporter 5.57 5.79
File::Basename 0 2.86
File::Find 0 1.44
File::Spec 3.00 3.94
File::Spec::Functions 0 3.94
if 0 0.0610
perl 5.006 5.043003
Scalar::Util 0 1.70
strict 0 1.14
build:
Module Need Have
--------------------- ----- --------
ExtUtils::MakeMaker 0 7.77_02
configure:
Module Need Have
--------------------- ----- --------
ExtUtils::MakeMaker 0 7.77_02
------------------------------
ENVIRONMENT AND OTHER CONTEXT
------------------------------
Environment variables:
HARNESS_OPTIONS = j6:c
LANG = en_CA.UTF-8
LC_ALL = en_CA.UTF-8
LC_CTYPE = en_CA.UTF-8
NO_NETWORK_TESTING = 1
PATH = /Volumes/chambord/Users/ether/.perlbrew/libs/43.3@std/bin:/Volumes/chambord/Users/ether/perl5/perlbrew/bin:/Volumes/chambord/Users/ether/perl5/perlbrew/perls/43.3/bin:/Volumes/chambord/Users/ether/bin:/Volumes/chambord/Users/ether/git/misc/install/advocaat/bin:/Volumes/chambord/Users/ether/git/misc/install/generic/bin:/opt/local/bin:/opt/local/sbin:/Volumes/chambord/Users/ether/git/git-hub/lib:/usr/local/bin:/System/Cryptexes/App/usr/bin:/usr/bin:/bin:/usr/sbin:/sbin:/var/run/com.apple.security.cryptexd/codex.system/bootstrap/usr/local/bin:/var/run/com.apple.security.cryptexd/codex.system/bootstrap/usr/bin:/var/run/com.apple.security.cryptexd/codex.system/bootstrap/usr/appleinternal/bin:/Library/Apple/usr/bin:/opt/local/share/git-core/contrib/workdir
PERL5LIB = /Volumes/chambord/Users/ether/.perlbrew/libs/43.3@std/lib/perl5
PERLBREW_HOME = /Volumes/chambord/Users/ether/.perlbrew
PERLBREW_LIB = std
PERLBREW_MANPATH = /Volumes/chambord/Users/ether/.perlbrew/libs/43.3@std/man:/Volumes/chambord/Users/ether/perl5/perlbrew/perls/43.3/man
PERLBREW_PATH = /Volumes/chambord/Users/ether/.perlbrew/libs/43.3@std/bin:/Volumes/chambord/Users/ether/perl5/perlbrew/bin:/Volumes/chambord/Users/ether/perl5/perlbrew/perls/43.3/bin
PERLBREW_PERL = 43.3
PERLBREW_ROOT = /Volumes/chambord/Users/ether/perl5/perlbrew
PERLBREW_SHELLRC_VERSION = 1.01
PERLBREW_VERSION = 1.01
PERLDOC = -oansi
PERLDOC_PAGER = less -sicMr
PERL_AUTOINSTALL_PREFER_CPAN = 1
PERL_INSTALL_QUIET = 1
PERL_LOCAL_LIB_ROOT = /Volumes/chambord/Users/ether/.perlbrew/libs/43.3@std
PERL_MB_OPT = --install_base /Volumes/chambord/Users/ether/.perlbrew/libs/43.3@std
PERL_MM_OPT = INSTALL_BASE=/Volumes/chambord/Users/ether/.perlbrew/libs/43.3@std
PERL_TEST_HARNESS_ASAP = 1
PERL_USE_UNSAFE_INC = 0
SHELL = /bin/bash
TERM = xterm-color
Perl special variables (and OS-specific diagnostics, for MSWin32):
EGID = 20 20 12 61 79 80 81 98 701 704 703 702 705 33 100 204 250
EUID = 502
EXECUTABLE_NAME = /Volumes/chambord/Users/ether/perl5/perlbrew/perls/43.3/bin/perl5.43.3
GID = 20 20 12 61 79 80 81 98 701 704 703 702 705 33 100 204 250
UID = 502
Perl module toolchain versions installed:
Module Have
------------------- --------
CPAN 2.38
CPAN::Meta 2.150010
Cwd 3.94
ExtUtils::CBuilder 0.280242
ExtUtils::Command 7.77_02
ExtUtils::Install 2.22
ExtUtils::MakeMaker 7.77_02
ExtUtils::Manifest 1.75
ExtUtils::ParseXS 3.60
File::Spec 3.94
JSON 4.10
JSON::PP 4.16
Module::Build n/a
Module::Signature n/a
Parse::CPAN::Meta 2.150010
Test::Harness 3.52
Test::More 1.302214
YAML 1.31
YAML::Syck n/a
version 0.9933
--
Summary of my perl5 (revision 5 version 43 subversion 3) configuration:
Platform:
osname=darwin
osvers=24.6.0
archname=darwin-2level
uname='darwin advocaat 24.6.0 darwin kernel version 24.6.0: mon jul 14 11:30:51 pdt 2025; root:xnu-11417.140.69~1release_arm64_t8112 arm64 '
config_args='-de -Dprefix=/Volumes/chambord/Users/ether/perl5/perlbrew/perls/43.3 -Dman1dir=none -Dman3dir=none -Dusedevel -Aeval:scriptdir=/Volumes/chambord/Users/ether/perl5/perlbrew/perls/43.3/bin'
hint=recommended
useposix=true
d_sigaction=define
useithreads=undef
usemultiplicity=undef
use64bitint=define
use64bitall=define
uselongdouble=undef
usemymalloc=n
default_inc_excludes_dot=define
Compiler:
cc='cc'
ccflags ='-fno-common -DPERL_DARWIN -DNO_THREAD_SAFE_QUERYLOCALE -DNO_POSIX_2008_LOCALE -DHAS_BROKEN_LANGINFO_CODESET -DNO_LOCALE_COLLATE -fno-strict-aliasing -pipe -fstack-protector-strong -I/opt/local/include'
optimize='-O3'
cppflags='-fno-common -DPERL_DARWIN -DNO_THREAD_SAFE_QUERYLOCALE -DNO_POSIX_2008_LOCALE -DHAS_BROKEN_LANGINFO_CODESET -DNO_LOCALE_COLLATE -fno-strict-aliasing -pipe -fstack-protector-strong -I/opt/local/include'
ccversion=''
gccversion='Apple LLVM 17.0.0 (clang-1700.3.19.1)'
gccosandvers=''
intsize=4
longsize=8
ptrsize=8
doublesize=8
byteorder=12345678
doublekind=3
d_longlong=define
longlongsize=8
d_longdbl=define
longdblsize=8
longdblkind=0
ivtype='long'
ivsize=8
nvtype='double'
nvsize=8
Off_t='off_t'
lseeksize=8
alignbytes=8
prototype=define
Linker and Libraries:
ld='cc'
ldflags =' -fstack-protector-strong -L/opt/local/lib'
libpth=/Applications/Xcode.app/Contents/Developer/Toolchains/XcodeDefault.xctoolchain/usr/lib/clang/17/lib /Applications/Xcode.app/Contents/Developer/Platforms/MacOSX.platform/Developer/SDKs/MacOSX.sdk/usr/lib /Applications/Xcode.app/Contents/Developer/Toolchains/XcodeDefault.xctoolchain/usr/lib /opt/local/lib /usr/lib
libs=-lgdbm
perllibs=
libc=
so=dylib
useshrplib=false
libperl=libperl.a
gnulibc_version=''
Dynamic Linking:
dlsrc=dl_dlopen.xs
dlext=bundle
d_dlsymun=undef
ccdlflags=' '
cccdlflags=' '
lddlflags='-bundle -undefined dynamic_lookup -L/opt/local/lib -fstack-protector-strong'
Characteristics of this binary (from libperl):
Compile-time options:
HAS_LONG_DOUBLE
HAS_STRTOLD
HAS_TIMES
PERLIO_LAYERS
PERL_COPY_ON_WRITE
PERL_DONT_CREATE_GVSV
PERL_HASH_FUNC_SIPHASH13
PERL_HASH_USE_SBOX32
PERL_MALLOC_WRAP
PERL_OP_PARENT
PERL_PRESERVE_IVUV
PERL_USE_DEVEL
PERL_USE_SAFE_PUTENV
USE_64_BIT_ALL
USE_64_BIT_INT
USE_LARGE_FILES
USE_LOCALE
USE_LOCALE_CTYPE
USE_LOCALE_NUMERIC
USE_LOCALE_TIME
USE_PERLIO
USE_PERL_ATOF
Built under darwin
Compiled at Sep 23 2025 09:00:05
%ENV:
PERL5LIB="/Volumes/chambord/Users/ether/.perlbrew/libs/43.3@std/lib/perl5"
PERLBREW_HOME="/Volumes/chambord/Users/ether/.perlbrew"
PERLBREW_LIB="std"
PERLBREW_MANPATH="/Volumes/chambord/Users/ether/.perlbrew/libs/43.3@std/man:/Volumes/chambord/Users/ether/perl5/perlbrew/perls/43.3/man"
PERLBREW_PATH="/Volumes/chambord/Users/ether/.perlbrew/libs/43.3@std/bin:/Volumes/chambord/Users/ether/perl5/perlbrew/bin:/Volumes/chambord/Users/ether/perl5/perlbrew/perls/43.3/bin"
PERLBREW_PERL="43.3"
PERLBREW_ROOT="/Volumes/chambord/Users/ether/perl5/perlbrew"
PERLBREW_SHELLRC_VERSION="1.01"
PERLBREW_VERSION="1.01"
PERLDOC="-oansi"
PERLDOC_PAGER="less -sicMr"
PERL_AUTOINSTALL_PREFER_CPAN="1"
PERL_INSTALL_QUIET="1"
PERL_LOCAL_LIB_ROOT="/Volumes/chambord/Users/ether/.perlbrew/libs/43.3@std"
PERL_MB_OPT="--install_base /Volumes/chambord/Users/ether/.perlbrew/libs/43.3@std"
PERL_MM_OPT="INSTALL_BASE=/Volumes/chambord/Users/ether/.perlbrew/libs/43.3@std"
PERL_TEST_HARNESS_ASAP="1"
PERL_USE_UNSAFE_INC="0"
@INC:
/Volumes/chambord/Users/ether/.perlbrew/libs/43.3@std/lib/perl5/darwin-2level
/Volumes/chambord/Users/ether/.perlbrew/libs/43.3@std/lib/perl5
/Volumes/chambord/Users/ether/perl5/perlbrew/perls/43.3/lib/site_perl/5.43.3/darwin-2level
/Volumes/chambord/Users/ether/perl5/perlbrew/perls/43.3/lib/site_perl/5.43.3
/Volumes/chambord/Users/ether/perl5/perlbrew/perls/43.3/lib/5.43.3/darwin-2level
/Volumes/chambord/Users/ether/perl5/perlbrew/perls/43.3/lib/5.43.3