Report for WWW-Scripter-0.032

Back
From: metabase:user:320bfe00-2aae-11df-837a-5e0a49663a4f
Subject: PASS WWW-Scripter-0.032 v5.24.1 RC4 GNU/Linux
Date: 2016-11-08T21:44:43Z

This distribution has been tested as part of the CPAN Testers
project, supporting the Perl programming language.  See
http://wiki.cpantesters.org/ for more information or email
questions to cpan-testers-discuss@perl.org


--
Dear Father Chrysostomos,

This is a computer-generated report for WWW-Scripter-0.032
on perl 5.24.1, created by CPAN-Reporter-1.2018.

Thank you for uploading your work to CPAN.  Congratulations!
All tests were successful.

Sections of this report:

    * Tester comments
    * Program output
    * Prerequisites
    * Environment and other context

------------------------------
TESTER COMMENTS
------------------------------

Additional comments from tester:

this report is from an automated smoke testing program
and was not reviewed by a human for accuracy

------------------------------
PROGRAM OUTPUT
------------------------------

Output from '/usr/bin/make test':

PERL_DL_NONLAZY=1 "/tmp/basesmoker-reloperl-HRt1/bin/perl" "-MExtUtils::Command::MM" "-MTest::Harness" "-e" "undef *Test::Harness::Switches; test_harness(0, 'blib/lib', 'blib/arch')" t/*.t
t/base.t ............ ok
t/class-info.t ...... ok
t/clear_history.t ... ok
t/credentials.t ..... ok
t/dom.t ............. ok
t/double-colon.t .... ok
t/dustbin-man.t ..... ok
t/events.t .......... ok
t/fragments.t ....... ok
t/frames.t .......... ok
t/handlers.t ........ ok
t/history.t ......... ok
t/images.t .......... ok
t/links.t ........... ok
t/location.t ........ ok
t/navigator.t ....... ok
t/plugin-cloning.t .. ok
t/plugins.t ......... ok
t/rt-84472.t ........ ok
t/scripts.t ......... ok
t/scroll.t .......... ok
t/status.t .......... skipped: removed due to conflicts
t/submit.t .......... ok
t/target.t .......... ok
t/tied-_.t .......... ok
# This script (timers.t) pauses a few times.
t/timers.t .......... ok
t/title.t ........... ok
t/windows.t ......... ok
All tests successful.
Files=28, Tests=412, 18 wallclock secs ( 0.07 usr  0.11 sys +  5.01 cusr  0.87 csys =  6.06 CPU)
Result: PASS

------------------------------
PREREQUISITES
------------------------------

Prerequisite modules loaded:

requires:

    Module                     Need  Have     
    -------------------------- ----- ---------
    CSS::DOM::Interface        0     0.16     
    Encode                     0     2.80_01  
    Exporter                   5.57  5.72     
    HTML::DOM                  0.057 0.057    
    HTML::DOM::Collection      0     0.057    
    HTML::DOM::Element::Form   0.039 0.057    
    HTML::DOM::EventTarget     0.053 0.057    
    HTML::DOM::Interface       0.019 0.057    
    HTML::DOM::NodeList::Magic 0.02  0.057    
    HTML::DOM::View            0.018 0.057    
    HTTP::Headers::Util        0     6.11     
    HTTP::Message              1.34  6.11     
    HTTP::Request              1.29  6.11     
    HTTP::Response             1.35  6.11     
    IO::Uncompress::Gunzip     0     2.069_001
    lib                        0     0.63     
    List::Util                 0     1.46     
    LWP                        5     6.15     
    LWP::Protocol              0     6.15     
    overload                   0     1.26     
    Scalar::Util               1.09  1.46     
    strict                     0     1.11     
    Test::More                 0     1.302062 
    Time::HiRes                0     1.9740   
    URI                        0     1.71     
    URI::data                  0     1.71     
    URI::file                  0     4.21     
    utf8                       0     1.19     
    warnings                   0     1.36     
    WWW::Mechanize             1.52  1.83     
    WWW::Mechanize::Image      0     1.83     
    WWW::Mechanize::Link       0     1.83     

build_requires:

    Module                     Need  Have     
    -------------------------- ----- ---------
    ExtUtils::MakeMaker        0     7.24     

configure_requires:

    Module                     Need  Have     
    -------------------------- ----- ---------
    ExtUtils::MakeMaker        0     7.24     


------------------------------
ENVIRONMENT AND OTHER CONTEXT
------------------------------

Environment variables:

    AUTOMATED_TESTING = 1
    LANG = C
    PATH = /home/sand/bin:/usr/local/bin:/usr/bin:/bin:/usr/games:/usr/local/perl/bin:/usr/X11/bin:/sbin:/usr/sbin
    PERL5LIB = 
    PERL5OPT = 
    PERL5_CPANPLUS_IS_RUNNING = 12864
    PERL5_CPAN_IS_RUNNING = 12864
    PERL_CANARY_STABILITY_NOPROMPT = 1
    PERL_MM_USE_DEFAULT = 1
    SHELL = /usr/bin/zsh
    TERM = screen

Perl special variables (and OS-specific diagnostics, for MSWin32):

    $^X = /tmp/basesmoker-reloperl-HRt1/bin/perl
    $UID/$EUID = 1005 / 1005
    $GID = 1005 1005
    $EGID = 1005 1005

Perl module toolchain versions installed:

    Module              Have      
    ------------------- ----------
    CPAN                2.15      
    CPAN::Meta          2.150010  
    Cwd                 3.63_01   
    ExtUtils::CBuilder  0.280225  
    ExtUtils::Command   7.24      
    ExtUtils::Install   2.04      
    ExtUtils::MakeMaker 7.24      
    ExtUtils::Manifest  1.70      
    ExtUtils::ParseXS   3.31      
    File::Spec          3.63_01   
    JSON                2.90      
    JSON::PP            2.27300_01
    Module::Build       0.4220    
    Module::Signature   0.81      
    Parse::CPAN::Meta   2.150010  
    Test::Harness       3.36_01   
    Test::More          1.302062  
    YAML                1.18      
    YAML::Syck          1.29      
    version             0.9916    


--

Summary of my perl5 (revision 5 version 24 subversion 1) configuration:
  Commit id: 01aeece0064776ef8376d241eb4e3e4692362c23
  Platform:
    osname=linux, osvers=4.8.0-1-amd64, archname=x86_64-linux-thread-multi
    uname='linux k93x64sid 4.8.0-1-amd64 #1 smp debian 4.8.5-1 (2016-10-28) x86_64 gnulinux '
    config_args='-Dprefix=/home/sand/src/perl/repoperls/installed-perls/host/k93x64sid/v5.24.1-RC4/9af6 -Dmyhostname=k93x64sid -Dinstallusrbinperl=n -Uversiononly -Dusedevel -des -Ui_db -Dlibswanted=cl pthread socket inet nsl gdbm dbm malloc dl ld sun m crypt sec util c cposix posix ucb BSD gdbm_compat -Duseithreads -Uuselongdouble -DDEBUGGING=-g'
    hint=recommended, useposix=true, d_sigaction=define
    useithreads=define, usemultiplicity=define
    use64bitint=define, use64bitall=define, uselongdouble=undef
    usemymalloc=n, bincompat5005=undef
  Compiler:
    cc='cc', ccflags ='-D_REENTRANT -D_GNU_SOURCE -fwrapv -fno-strict-aliasing -pipe -fstack-protector-strong -I/usr/local/include -D_LARGEFILE_SOURCE -D_FILE_OFFSET_BITS=64',
    optimize='-O2 -g',
    cppflags='-D_REENTRANT -D_GNU_SOURCE -fwrapv -fno-strict-aliasing -pipe -fstack-protector-strong -I/usr/local/include'
    ccversion='', gccversion='6.2.0 20161103', gccosandvers=''
    intsize=4, longsize=8, ptrsize=8, doublesize=8, byteorder=12345678, doublekind=3
    d_longlong=define, longlongsize=8, d_longdbl=define, longdblsize=16, longdblkind=3
    ivtype='long', ivsize=8, nvtype='double', nvsize=8, Off_t='off_t', lseeksize=8
    alignbytes=8, prototype=define
  Linker and Libraries:
    ld='cc', ldflags =' -fstack-protector-strong -L/usr/local/lib'
    libpth=/usr/local/lib /usr/lib/gcc/x86_64-linux-gnu/6/include-fixed /usr/include/x86_64-linux-gnu /usr/lib /lib/x86_64-linux-gnu /lib/../lib /usr/lib/x86_64-linux-gnu /usr/lib/../lib /lib
    libs=-lpthread -lnsl -ldl -lm -lcrypt -lutil -lc
    perllibs=-lpthread -lnsl -ldl -lm -lcrypt -lutil -lc
    libc=libc-2.24.so, so=so, useshrplib=false, libperl=libperl.a
    gnulibc_version='2.24'
  Dynamic Linking:
    dlsrc=dl_dlopen.xs, dlext=so, d_dlsymun=undef, ccdlflags='-Wl,-E'
    cccdlflags='-fPIC', lddlflags='-shared -O2 -g -L/usr/local/lib -fstack-protector-strong'


Characteristics of this binary (from libperl): 
  Compile-time options: HAS_TIMES MULTIPLICITY PERLIO_LAYERS
                        PERL_COPY_ON_WRITE PERL_DONT_CREATE_GVSV
                        PERL_HASH_FUNC_ONE_AT_A_TIME_HARD
                        PERL_IMPLICIT_CONTEXT PERL_MALLOC_WRAP
                        PERL_PRESERVE_IVUV PERL_USE_DEVEL USE_64_BIT_ALL
                        USE_64_BIT_INT USE_ITHREADS USE_LARGE_FILES
                        USE_LOCALE USE_LOCALE_COLLATE USE_LOCALE_CTYPE
                        USE_LOCALE_NUMERIC USE_LOCALE_TIME USE_PERLIO
                        USE_PERL_ATOF USE_REENTRANT_API
  Locally applied patches:
	RC4
  Built under linux
  Compiled at Nov  8 2016 11:55:21
  %ENV:
    PERL5LIB=""
    PERL5OPT=""
    PERL5_CPANPLUS_IS_RUNNING="12864"
    PERL5_CPAN_IS_RUNNING="12864"
    PERL_CANARY_STABILITY_NOPROMPT="1"
    PERL_MM_USE_DEFAULT="1"
  @INC:
    /home/sand/src/perl/repoperls/installed-perls/host/k93x64sid/v5.24.1-RC4/9af6/lib/site_perl/5.24.1/x86_64-linux-thread-multi
    /home/sand/src/perl/repoperls/installed-perls/host/k93x64sid/v5.24.1-RC4/9af6/lib/site_perl/5.24.1
    /home/sand/src/perl/repoperls/installed-perls/host/k93x64sid/v5.24.1-RC4/9af6/lib/5.24.1/x86_64-linux-thread-multi
    /home/sand/src/perl/repoperls/installed-perls/host/k93x64sid/v5.24.1-RC4/9af6/lib/5.24.1
    .