Back
From: metabase:user:30f0bd62-2aae-11df-837a-5e0a49663a4f
Subject: PASS classes-0.944 v5.15.7 NetBSD
Date: 2012-04-22T13:24:59Z
This distribution has been tested as part of the CPAN Testers
project, supporting the Perl programming language. See
http://wiki.cpantesters.org/ for more information or email
questions to cpan-testers-discuss@perl.org
--
Dear Robert S. Muhlestein,
This is a computer-generated report for classes-0.944
on perl 5.15.7, created by CPAN-Reporter-1.2005.
Thank you for uploading your work to CPAN. Congratulations!
All tests were successful.
Sections of this report:
* Tester comments
* Program output
* Prerequisites
* Environment and other context
------------------------------
TESTER COMMENTS
------------------------------
Additional comments from tester:
this report is from an automated smoke testing program
and was not reviewed by a human for accuracy
------------------------------
PROGRAM OUTPUT
------------------------------
Output from '/usr/bin/make test':
PERL_DL_NONLAZY=1 /home/sts/cpansmoke/perl-5.15.7/bin/perl5.15.7 "-MExtUtils::Command::MM" "-e" "test_harness(0, 'blib/lib', 'blib/arch')" t/00-load.t t/classes.t t/dump.t t/init_args.t t/load.t t/ok.t t/pod-coverage.t t/pod.t t/sprintf.t t/SUPER.t t/throwable.t t/xclasses.t t/tags/attrs.t t/tags/attrs_pr.t t/tags/attrs_ro.t t/tags/base_exception.t t/tags/caller.t t/tags/class_attrs.t t/tags/class_attrs_pr.t t/tags/class_attrs_ro.t t/tags/def_base_exception.t t/tags/exceptions.t t/tags/extends.t t/tags/inherits.t t/tags/justahash.t t/tags/mixes.t t/tags/name.t t/tags/needs.t t/tags/noaccessors.t t/tags/unqualified.t
# Testing classes 0.944, Perl 5.015007, /home/sts/cpansmoke/perl-5.15.7/bin/perl5.15.7
t/00-load.t .................. ok
t/classes.t .................. ok
t/dump.t ..................... ok
t/init_args.t ................ ok
t/load.t ..................... skipped: Test::Exception needed
t/ok.t ....................... ok
t/pod-coverage.t ............. skipped: Test::Pod::Coverage 1.04 required for testing POD coverage
t/pod.t ...................... skipped: Test::Pod 1.14 required for testing POD
t/sprintf.t .................. skipped: Test::Exception needed
t/SUPER.t .................... skipped: Test::Exception needed
t/tags/attrs.t ............... skipped: Test::Exception needed
t/tags/attrs_pr.t ............ skipped: Test::Exception needed
t/tags/attrs_ro.t ............ skipped: Test::Exception needed
t/tags/base_exception.t ...... skipped: Test::Exception needed
t/tags/caller.t .............. skipped: Test::Exception needed
t/tags/class_attrs.t ......... skipped: Test::Exception needed
t/tags/class_attrs_pr.t ...... skipped: Test::Exception needed
t/tags/class_attrs_ro.t ...... skipped: Test::Exception needed
t/tags/def_base_exception.t .. skipped: Test::Exception needed
t/tags/exceptions.t .......... skipped: Test::Exception needed
t/tags/extends.t ............. skipped: Test::Exception needed
t/tags/inherits.t ............ skipped: Test::Exception needed
t/tags/justahash.t ........... skipped: Test::Exception needed
t/tags/mixes.t ............... skipped: Test::Exception needed
t/tags/name.t ................ skipped: Test::Exception needed
t/tags/needs.t ............... skipped: Test::Exception needed
t/tags/noaccessors.t ......... skipped: Test::Exception needed
t/tags/unqualified.t ......... skipped: Test::Exception needed
t/throwable.t ................ skipped: Test::Exception needed
t/xclasses.t ................. skipped: Test::Exception needed
All tests successful.
Files=30, Tests=84, 7 wallclock secs ( 0.37 usr 0.23 sys + 5.05 cusr 1.25 csys = 6.90 CPU)
Result: PASS
------------------------------
PREREQUISITES
------------------------------
Prerequisite modules loaded:
requires:
Module Need Have
------------------- ---- --------
Data::Dumper 0 2.135_03
Scalar::Util 0 1.23
Test::More 0 0.98
build_requires:
Module Need Have
------------------- ---- --------
ExtUtils::MakeMaker 0 6.63_02
------------------------------
ENVIRONMENT AND OTHER CONTEXT
------------------------------
Environment variables:
AUTOMATED_TESTING = 1
PATH = /home/sts/bin:/bin:/sbin:/usr/bin:/usr/sbin:/usr/X11R7/bin:/usr/X11R6/bin:/usr/pkg/bin:/usr/pkg/sbin:/usr/games:/usr/local/bin:/usr/local/sbin
PERL5LIB =
PERL5OPT =
PERL5_CPANPLUS_IS_RUNNING = 11374
PERL5_CPAN_IS_RUNNING = 11374
PERL5_CPAN_IS_RUNNING_IN_RECURSION = 10347,11374
PERL_CR_SMOKER_CURRENT = ProgressMonitor-0.33
PERL_EXTUTILS_AUTOINSTALL = --defaultdeps
PERL_MM_USE_DEFAULT = 1
SHELL = /usr/pkg/bin/bash
TERM = screen
TMPDIR = /home/sts/cpansmoke/tmp
Perl special variables (and OS-specific diagnostics, for MSWin32):
$^X = /home/sts/cpansmoke/perl-5.15.7/bin/perl5.15.7
$UID/$EUID = 1000 / 1000
$GID = 100 100 0
$EGID = 100 100 0
Perl module toolchain versions installed:
Module Have
------------------- --------
CPAN 1.9800
CPAN::Meta 2.113640
Cwd 3.39_01
ExtUtils::CBuilder 0.280205
ExtUtils::Command 1.17
ExtUtils::Install 1.57
ExtUtils::MakeMaker 6.63_02
ExtUtils::Manifest 1.61
ExtUtils::ParseXS 3.12
File::Spec 3.39_01
JSON n/a
JSON::PP 2.27200
Module::Build 0.39_01
Module::Signature n/a
Parse::CPAN::Meta 1.4401
Test::Harness 3.23
Test::More 0.98
YAML n/a
YAML::Syck n/a
version 0.96
--
Summary of my perl5 (revision 5 version 15 subversion 7) configuration:
Platform:
osname=netbsd, osvers=5.1.2, archname=i386-netbsd-thread-multi
uname='netbsd cpansmoke7 5.1.2 netbsd 5.1.2 (xen3_domu) #0: thu feb 2 17:18:31 utc 2012 builds@b6.netbsd.org:homebuildsabnetbsd-5-1-2-releasei386201202021012z-objhomebuildsabnetbsd-5-1-2-releasesrcsysarchi386compilexen3_domu i386 '
config_args='-des -Dusedevel -Dusethreads -Dprefix=/home/sts/cpansmoke/perl-5.15.7'
hint=recommended, useposix=true, d_sigaction=define
useithreads=define, usemultiplicity=define
useperlio=define, d_sfio=undef, uselargefiles=define, usesocks=undef
use64bitint=undef, use64bitall=undef, uselongdouble=undef
usemymalloc=n, bincompat5005=undef
Compiler:
cc='cc', ccflags ='-fno-strict-aliasing -pipe -fstack-protector -I/usr/pkg/include',
optimize='-O',
cppflags='-fno-strict-aliasing -pipe -fstack-protector -I/usr/pkg/include'
ccversion='', gccversion='4.1.3 20080704 prerelease (NetBSD nb2 20081120)', gccosandvers=''
intsize=4, longsize=4, ptrsize=4, doublesize=8, byteorder=1234
d_longlong=define, longlongsize=8, d_longdbl=define, longdblsize=12
ivtype='long', ivsize=4, nvtype='double', nvsize=8, Off_t='off_t', lseeksize=8
alignbytes=4, prototype=define
Linker and Libraries:
ld='cc', ldflags =' -Wl,-rpath,/usr/pkg/lib -Wl,-rpath,/usr/local/lib -fstack-protector -L/usr/pkg/lib'
libpth=/usr/pkg/lib /lib /usr/lib
libs=-lm -lcrypt -lutil -lc -lposix -lpthread
perllibs=-lm -lcrypt -lutil -lc -lposix -lpthread
libc=/lib/libc.so, so=so, useshrplib=false, libperl=libperl.a
gnulibc_version=''
Dynamic Linking:
dlsrc=dl_dlopen.xs, dlext=so, d_dlsymun=undef, ccdlflags='-Wl,-E '
cccdlflags='-DPIC -fPIC ', lddlflags='--whole-archive -shared -L/usr/pkg/lib -fstack-protector'
Characteristics of this binary (from libperl):
Compile-time options: HAS_TIMES MULTIPLICITY PERLIO_LAYERS
PERL_DONT_CREATE_GVSV PERL_IMPLICIT_CONTEXT
PERL_MALLOC_WRAP PERL_PRESERVE_IVUV PERL_USE_DEVEL
USE_ITHREADS USE_LARGE_FILES USE_LOCALE
USE_LOCALE_COLLATE USE_LOCALE_CTYPE
USE_LOCALE_NUMERIC USE_PERLIO USE_PERL_ATOF
USE_REENTRANT_API
Built under netbsd
Compiled at Feb 17 2012 21:37:12
%ENV:
PERL5LIB=""
PERL5OPT=""
PERL5_CPANPLUS_IS_RUNNING="11374"
PERL5_CPAN_IS_RUNNING="11374"
PERL5_CPAN_IS_RUNNING_IN_RECURSION="10347,11374"
PERL_CR_SMOKER_CURRENT="ProgressMonitor-0.33"
PERL_EXTUTILS_AUTOINSTALL="--defaultdeps"
PERL_MM_USE_DEFAULT="1"
@INC:
/home/sts/cpansmoke/perl-5.15.7/lib/site_perl/5.15.7/i386-netbsd-thread-multi
/home/sts/cpansmoke/perl-5.15.7/lib/site_perl/5.15.7
/home/sts/cpansmoke/perl-5.15.7/lib/5.15.7/i386-netbsd-thread-multi
/home/sts/cpansmoke/perl-5.15.7/lib/5.15.7
.