Back
From: metabase:user:314402c4-2aae-11df-837a-5e0a49663a4f
Subject: PASS GitStore-0.10 v5.14.0 FreeBSD
Date: 2012-06-18T21:35:44Z
This distribution has been tested as part of the CPAN Testers
project, supporting the Perl programming language. See
http://wiki.cpantesters.org/ for more information or email
questions to cpan-testers-discuss@perl.org
--
Dear Yanick Champoux,
This is a computer-generated report for GitStore-0.10
on perl 5.14.0, created by CPAN-Reporter-1.2006.
Thank you for uploading your work to CPAN. Congratulations!
All tests were successful.
Sections of this report:
* Tester comments
* Program output
* Prerequisites
* Environment and other context
------------------------------
TESTER COMMENTS
------------------------------
Additional comments from tester:
none provided
------------------------------
PROGRAM OUTPUT
------------------------------
Output from './Build test':
t/00-compile.t ........... ok
# Testing GitStore 0.07, Perl 5.014000, /usr/home/cpansand/var/ctps/5140_1/install/perl-5.14.0/bin/perl5.14.0
t/00-load.t .............. ok
# Testing with Perl 5.014000, /usr/home/cpansand/var/ctps/5140_1/install/perl-5.14.0/bin/perl5.14.0
# Carp version is 1.26
# DateTime version is 0.75
# File::Find version is 1.19
# File::Temp version is 0.22
# FindBin version is 1.50
# Git::PurePerl version is 0.47
# List::Util version is 1.24
# Module::Build version is 0.4
# Moose version is 2.0602
# Moose::Util::TypeConstraints version is 2.0602
# Path::Class version is 0.26
# Scalar::Util version is 1.24
# Storable version is 2.35
# Test::More version is 0.98
# strict version is 1.04
# warnings version is 1.12
t/000-report-versions.t .. ok
t/01-basic.t ............. ok
t/02-next.t .............. ok
t/03-next-next.t ......... ok
t/deleting-all.t ......... ok
t/history.t .............. ok
t/invalid-objects.t ...... ok
t/many-commits.t ......... ok
t/pod.t .................. ok
All tests successful.
Files=11, Tests=70, 18 wallclock secs ( 0.08 usr 0.02 sys + 14.45 cusr 2.33 csys = 16.88 CPU)
Result: PASS
------------------------------
PREREQUISITES
------------------------------
Prerequisite modules loaded:
requires:
Module Need Have
---------------------------- ------ --------
DateTime 0 0.75
Git::PurePerl 0 0.47
List::Util 0 1.24
Moose 0 2.0602
Moose::Util::TypeConstraints 0 2.0602
Storable 0 2.35
strict 0 1.04
warnings 0 1.12
build_requires:
Module Need Have
---------------------------- ------ --------
Carp 0 1.26
File::Find 0 1.19
File::Temp 0 0.22
FindBin 0 1.50
Module::Build 0.3601 0.40
Path::Class 0 0.26
perl 5.004 5.014000
Scalar::Util 0 1.24
Test::More 0.94 0.98
configure_requires:
Module Need Have
---------------------------- ------ --------
Module::Build 0.3601 0.40
------------------------------
ENVIRONMENT AND OTHER CONTEXT
------------------------------
Environment variables:
DBIC_NO_WARN_BAD_PERL = 1
PATH = /usr/local/bin:/usr/X11R6/bin:/usr/X11/bin:/usr/perl5.8.0/bin:/usr/bin:/bin:/usr/local/sbin:/usr/sbin:/sbin:/usr/local/pilot/bin:/home/cpansand/bin/freebsd8.0:/home/cpansand/bin/sh:/home/cpansand/bin:/usr/X386/bin:/usr/games:/home/cpansand/devel:/usr/home/e/eserte/work/srezic-misc/scripts
PERL5LIB = /usr/local/src/CPAN/build/Net-Graphite-0.01-rRuK2j/blib/arch:/usr/local/src/CPAN/build/Net-Graphite-0.01-rRuK2j/blib/lib:/usr/local/src/CPAN/build/Code-TidyAll-0.01-Pqcqz9/blib/arch:/usr/local/src/CPAN/build/Code-TidyAll-0.01-Pqcqz9/blib/lib:/usr/local/src/CPAN/build/Validation-Class-7.65-v9K8FQ/blib/arch:/usr/local/src/CPAN/build/Validation-Class-7.65-v9K8FQ/blib/lib:/usr/local/src/CPAN/build/Devel-PerlySense-0.0204-UeK5Fu/blib/arch:/usr/local/src/CPAN/build/Devel-PerlySense-0.0204-UeK5Fu/blib/lib
PERL5OPT =
PERL5_CPANPLUS_IS_RUNNING = 26097
PERL5_CPAN_IS_RUNNING = 26097
PERL5_CPAN_IS_RUNNING_IN_RECURSION = 26076,26097
PERL_BATCH = yes
PERL_CPAN_REPORTER_CONFIG = /var/tmp/cpansmoker-1023/Kf7NL3l8TH_config.ini
PERL_CPAN_REPORTER_DIR = /home/cpansand/var/ctps/5140_1/config/perl-5.14.0/cpanreporter
PERL_EXTUTILS_AUTOINSTALL = --defaultdeps
PERL_HTML_DISPLAY_CLASS = HTML::Display::Mozilla
SHELL = /usr/local/bin/zsh
TERM = screen
TMPDIR = /var/tmp/cpansmoker-1023
Perl special variables (and OS-specific diagnostics, for MSWin32):
$^X = /usr/home/cpansand/var/ctps/5140_1/install/perl-5.14.0/bin/perl5.14.0
$UID/$EUID = 1023 / 1023
$GID = 1023 1023
$EGID = 1023 1023
Perl module toolchain versions installed:
Module Have
------------------- --------
CPAN 1.9800
CPAN::Meta 2.120921
Cwd 3.36
ExtUtils::CBuilder 0.280203
ExtUtils::Command 1.17
ExtUtils::Install 1.56
ExtUtils::MakeMaker 6.62
ExtUtils::Manifest 1.60
ExtUtils::ParseXS 3.15
File::Spec 3.33
JSON 2.53
JSON::PP 2.27200
Module::Build 0.40
Module::Signature 0.68
Parse::CPAN::Meta 1.4403
Test::Harness 3.23
Test::More 0.98
YAML 0.81
YAML::Syck 1.20
version 0.98
--
Summary of my perl5 (revision 5 version 14 subversion 0) configuration:
Platform:
osname=freebsd, osvers=8.0-release, archname=i386-freebsd
uname='freebsd biokovo.herceg.de 8.0-release freebsd 8.0-release #0: sat nov 21 15:48:17 utc 2009 root@almeida.cse.buffalo.edu:usrobjusrsrcsysgeneric i386 '
config_args='-ds -e -Uversiononly -Dinstallusrbinperl=n -Dusedevel -Dprefix=/home/cpansand/var/ctps/5140_1/install/perl-5.14.0'
hint=recommended, useposix=true, d_sigaction=define
useithreads=undef, usemultiplicity=undef
useperlio=define, d_sfio=undef, uselargefiles=define, usesocks=undef
use64bitint=undef, use64bitall=undef, uselongdouble=undef
usemymalloc=n, bincompat5005=undef
Compiler:
cc='cc', ccflags ='-DHAS_FPSETMASK -DHAS_FLOATINGPOINT_H -fno-strict-aliasing -pipe -fstack-protector -I/usr/local/include',
optimize='-O',
cppflags='-DHAS_FPSETMASK -DHAS_FLOATINGPOINT_H -fno-strict-aliasing -pipe -fstack-protector -I/usr/local/include'
ccversion='', gccversion='4.2.1 20070719 [FreeBSD]', gccosandvers=''
intsize=4, longsize=4, ptrsize=4, doublesize=8, byteorder=1234
d_longlong=define, longlongsize=8, d_longdbl=define, longdblsize=12
ivtype='long', ivsize=4, nvtype='double', nvsize=8, Off_t='off_t', lseeksize=8
alignbytes=4, prototype=define
Linker and Libraries:
ld='cc', ldflags ='-Wl,-E -fstack-protector -L/usr/local/lib'
libpth=/usr/lib /usr/local/lib
libs=-lgdbm -lm -lcrypt -lutil -lc
perllibs=-lm -lcrypt -lutil -lc
libc=, so=so, useshrplib=false, libperl=libperl.a
gnulibc_version=''
Dynamic Linking:
dlsrc=dl_dlopen.xs, dlext=so, d_dlsymun=undef, ccdlflags=' '
cccdlflags='-DPIC -fPIC', lddlflags='-shared -L/usr/local/lib -fstack-protector'
Characteristics of this binary (from libperl):
Compile-time options: PERL_DONT_CREATE_GVSV PERL_MALLOC_WRAP
PERL_PRESERVE_IVUV PERL_USE_DEVEL USE_LARGE_FILES
USE_PERLIO USE_PERL_ATOF
Built under freebsd
Compiled at May 16 2011 22:19:43
%ENV:
PERL5LIB="/usr/local/src/CPAN/build/Net-Graphite-0.01-rRuK2j/blib/arch:/usr/local/src/CPAN/build/Net-Graphite-0.01-rRuK2j/blib/lib:/usr/local/src/CPAN/build/Code-TidyAll-0.01-Pqcqz9/blib/arch:/usr/local/src/CPAN/build/Code-TidyAll-0.01-Pqcqz9/blib/lib:/usr/local/src/CPAN/build/Validation-Class-7.65-v9K8FQ/blib/arch:/usr/local/src/CPAN/build/Validation-Class-7.65-v9K8FQ/blib/lib:/usr/local/src/CPAN/build/Devel-PerlySense-0.0204-UeK5Fu/blib/arch:/usr/local/src/CPAN/build/Devel-PerlySense-0.0204-UeK5Fu/blib/lib"
PERL5OPT=""
PERL5_CPANPLUS_IS_RUNNING="26097"
PERL5_CPAN_IS_RUNNING="26097"
PERL5_CPAN_IS_RUNNING_IN_RECURSION="26076,26097"
PERL_BATCH="yes"
PERL_CPAN_REPORTER_CONFIG="/var/tmp/cpansmoker-1023/Kf7NL3l8TH_config.ini"
PERL_CPAN_REPORTER_DIR="/home/cpansand/var/ctps/5140_1/config/perl-5.14.0/cpanreporter"
PERL_EXTUTILS_AUTOINSTALL="--defaultdeps"
PERL_HTML_DISPLAY_CLASS="HTML::Display::Mozilla"
@INC:
/usr/local/src/CPAN/build/Net-Graphite-0.01-rRuK2j/blib/arch
/usr/local/src/CPAN/build/Net-Graphite-0.01-rRuK2j/blib/lib
/usr/local/src/CPAN/build/Code-TidyAll-0.01-Pqcqz9/blib/arch
/usr/local/src/CPAN/build/Code-TidyAll-0.01-Pqcqz9/blib/lib
/usr/local/src/CPAN/build/Validation-Class-7.65-v9K8FQ/blib/arch
/usr/local/src/CPAN/build/Validation-Class-7.65-v9K8FQ/blib/lib
/usr/local/src/CPAN/build/Devel-PerlySense-0.0204-UeK5Fu/blib/arch
/usr/local/src/CPAN/build/Devel-PerlySense-0.0204-UeK5Fu/blib/lib
/home/cpansand/var/ctps/5140_1/install/perl-5.14.0/lib/site_perl/5.14.0/i386-freebsd
/home/cpansand/var/ctps/5140_1/install/perl-5.14.0/lib/site_perl/5.14.0
/home/cpansand/var/ctps/5140_1/install/perl-5.14.0/lib/5.14.0/i386-freebsd
/home/cpansand/var/ctps/5140_1/install/perl-5.14.0/lib/5.14.0
.