Sort-DataTypes v3.01 Perl 5 v5.41.4 x86_64-linux
- Status
- Pass
- From
- Carlos Guevara
- Dist
-
Sort-DataTypes v3.01
- Platform
- Perl 5 v5.41.4 x86_64-linux
- Date
- 2024-09-05 06:17:42
- ID
- 8f2bdc04-6b4e-11ef-a25f-9a9d1592c54c
This distribution has been tested as part of the CPAN Testers
project, supporting the Perl programming language. See
http://wiki.cpantesters.org/ for more information or email
questions to cpan-testers-discuss@perl.org
--
Dear Sullivan Beck,
This is a computer-generated report for Sort-DataTypes-3.01
on perl 5.41.4, created by CPAN-Reporter-1.2020.
Thank you for uploading your work to CPAN. Congratulations!
All tests were successful.
Sections of this report:
* Tester comments
* Program output
* Prerequisites
* Environment and other context
------------------------------
TESTER COMMENTS
------------------------------
Additional comments from tester:
this report is from an automated smoke testing program
and was not reviewed by a human for accuracy
------------------------------
PROGRAM OUTPUT
------------------------------
Output from './Build test':
Possible precedence problem between ! and string eq at /home/cpan/bin/perl/lib/site_perl/5.41.4/Test/Inter.pm line 870.
t/alphabetic.t ......... ok
Possible precedence problem between ! and string eq at /home/cpan/bin/perl/lib/site_perl/5.41.4/Test/Inter.pm line 870.
t/alphanum.t ........... ok
Possible precedence problem between ! and string eq at /home/cpan/bin/perl/lib/site_perl/5.41.4/Test/Inter.pm line 870.
Possible precedence problem between ! and string eq at /home/cpan/bin/perl/lib/site_perl/5.41.4/Date/Manip/Date.pm line 2695.
Possible precedence problem between ! and string eq at /home/cpan/bin/perl/lib/site_perl/5.41.4/Date/Manip/Delta.pm line 1117.
WARNING: the TZ Date::Manip config variable is deprecated
and will be removed in version 7.00. Please use
the SetDate or ForceDate config variables instead.
at /home/cpan/bin/perl/lib/site_perl/5.41.4/Date/Manip/Obj.pm line 286.
t/date.t ............... ok
Possible precedence problem between ! and string eq at /home/cpan/bin/perl/lib/site_perl/5.41.4/Test/Inter.pm line 870.
t/domain.t ............. ok
Possible precedence problem between ! and string eq at /home/cpan/bin/perl/lib/site_perl/5.41.4/Test/Inter.pm line 870.
t/function_byname.t .... ok
Possible precedence problem between ! and string eq at /home/cpan/bin/perl/lib/site_perl/5.41.4/Test/Inter.pm line 870.
t/function_byref.t ..... ok
Possible precedence problem between ! and string eq at /home/cpan/bin/perl/lib/site_perl/5.41.4/Test/Inter.pm line 870.
t/ip.t ................. ok
Possible precedence problem between ! and string eq at /home/cpan/bin/perl/lib/site_perl/5.41.4/Test/Inter.pm line 870.
t/length.t ............. ok
Possible precedence problem between ! and string eq at /home/cpan/bin/perl/lib/site_perl/5.41.4/Test/Inter.pm line 870.
t/line.t ............... ok
Possible precedence problem between ! and string eq at /home/cpan/bin/perl/lib/site_perl/5.41.4/Test/Inter.pm line 870.
t/nosort.t ............. ok
Possible precedence problem between ! and string eq at /home/cpan/bin/perl/lib/site_perl/5.41.4/Test/Inter.pm line 870.
t/numdomain.t .......... ok
Possible precedence problem between ! and string eq at /home/cpan/bin/perl/lib/site_perl/5.41.4/Test/Inter.pm line 870.
t/numerical.t .......... ok
Possible precedence problem between ! and string eq at /home/cpan/bin/perl/lib/site_perl/5.41.4/Test/Inter.pm line 870.
t/numerical_cmp.t ...... ok
Possible precedence problem between ! and string eq at /home/cpan/bin/perl/lib/site_perl/5.41.4/Test/Inter.pm line 870.
t/numerical_cmp_rev.t .. ok
Possible precedence problem between ! and string eq at /home/cpan/bin/perl/lib/site_perl/5.41.4/Test/Inter.pm line 870.
t/numerical_rev.t ...... ok
Possible precedence problem between ! and string eq at /home/cpan/bin/perl/lib/site_perl/5.41.4/Test/Inter.pm line 870.
t/numline.t ............ ok
Possible precedence problem between ! and string eq at /home/cpan/bin/perl/lib/site_perl/5.41.4/Test/Inter.pm line 870.
t/numpath.t ............ ok
Possible precedence problem between ! and string eq at /home/cpan/bin/perl/lib/site_perl/5.41.4/Test/Inter.pm line 870.
t/partial.t ............ ok
Possible precedence problem between ! and string eq at /home/cpan/bin/perl/lib/site_perl/5.41.4/Test/Inter.pm line 870.
t/path.t ............... ok
Possible precedence problem between ! and string eq at /home/cpan/bin/perl/lib/site_perl/5.41.4/Test/Inter.pm line 870.
t/pod.t ................ ok
Possible precedence problem between ! and string eq at /home/cpan/bin/perl/lib/site_perl/5.41.4/Test/Inter.pm line 870.
t/pod_coverage.t ....... ok
Possible precedence problem between ! and string eq at /home/cpan/bin/perl/lib/site_perl/5.41.4/Test/Inter.pm line 870.
Possible precedence problem between ! and string eq at /home/cpan/bin/perl/lib/site_perl/5.41.4/Date/Manip/Date.pm line 2695.
Possible precedence problem between ! and string eq at /home/cpan/bin/perl/lib/site_perl/5.41.4/Date/Manip/Delta.pm line 1117.
WARNING: the TZ Date::Manip config variable is deprecated
and will be removed in version 7.00. Please use
the SetDate or ForceDate config variables instead.
at /home/cpan/bin/perl/lib/site_perl/5.41.4/Date/Manip/Obj.pm line 286.
t/sort.t ............... ok
Possible precedence problem between ! and string eq at /home/cpan/bin/perl/lib/site_perl/5.41.4/Test/Inter.pm line 870.
t/split.t .............. ok
Possible precedence problem between ! and string eq at /home/cpan/bin/perl/lib/site_perl/5.41.4/Test/Inter.pm line 870.
t/split_re.t ........... ok
Possible precedence problem between ! and string eq at /home/cpan/bin/perl/lib/site_perl/5.41.4/Test/Inter.pm line 870.
t/valid_method.t ....... ok
Possible precedence problem between ! and string eq at /home/cpan/bin/perl/lib/site_perl/5.41.4/Test/Inter.pm line 870.
t/version.t ............ ok
All tests successful.
Files=26, Tests=88, 1 wallclock secs ( 0.05 usr 0.03 sys + 0.97 cusr 0.24 csys = 1.29 CPU)
Result: PASS
------------------------------
PREREQUISITES
------------------------------
Prerequisite modules loaded:
requires:
Module Need Have
------------- ----- --------
Date::Manip 0 6.95
Exporter 0 5.78
perl 5.000 5.041004
Storable 0 3.34
build_requires:
Module Need Have
------------- ----- --------
Test::Inter 0 1.11
configure_requires:
Module Need Have
------------- ----- --------
Module::Build 0.36 0.4234
------------------------------
ENVIRONMENT AND OTHER CONTEXT
------------------------------
Environment variables:
AUTOMATED_TESTING = 1
DATE_MANIP_TEST_DM5 = 1
LANG = C.UTF-8
LC_COLLATE = C
NONINTERACTIVE_TESTING = 1
NO_NETWORK_TESTING = 1
PATH = /home/cpan/bin/perl/bin:/usr/local/sbin:/usr/local/bin:/usr/sbin:/usr/bin:/sbin:/bin
PERL5LIB =
PERL5OPT =
PERL5_CPANPLUS_IS_RUNNING = 20660
PERL5_CPAN_IS_RUNNING = 20660
PERL_MM_USE_DEFAULT = 1
PERL_USE_UNSAFE_INC = 1
SHELL = /bin/bash
TERM = screen
Perl special variables (and OS-specific diagnostics, for MSWin32):
$^X = /home/cpan/bin/perl/bin/perl5.41.4
$UID/$EUID = 1001 / 1001
$GID = 1001 1001
$EGID = 1001 1001
Perl module toolchain versions installed:
Module Have
------------------- --------
CPAN 2.37
CPAN::Meta 2.150010
Cwd 3.92
ExtUtils::CBuilder 0.280240
ExtUtils::Command 7.70
ExtUtils::Install 2.22
ExtUtils::MakeMaker 7.70
ExtUtils::Manifest 1.75
ExtUtils::ParseXS 3.54
File::Spec 3.92
JSON 4.10
JSON::PP 4.16
Module::Build 0.4234
Module::Signature n/a
Parse::CPAN::Meta 2.150010
Test2 1.302202
Test::Harness 3.50
Test::More 1.302202
YAML 1.31
YAML::Syck 1.34
version 0.9933
--
Summary of my perl5 (revision 5 version 41 subversion 4) configuration:
Commit id: 67e852168ec3177f4cc76c2ad00a677ce7479667
Platform:
osname=linux
osvers=6.6.49-0-lts
archname=x86_64-linux
uname='linux cjg-alpine3 6.6.49-0-lts #1-alpine smp preempt_dynamic 2024-09-04 12:53:09 x86_64 linux '
config_args='-des -Dprefix=/home/cpan/bin/perl -Dscriptdir=/home/cpan/bin/perl/bin -Dusedevel -Duse64bitall'
hint=recommended
useposix=true
d_sigaction=define
useithreads=undef
usemultiplicity=undef
use64bitint=define
use64bitall=define
uselongdouble=undef
usemymalloc=n
default_inc_excludes_dot=define
Compiler:
cc='cc'
ccflags ='-D_GNU_SOURCE -fwrapv -fno-strict-aliasing -pipe -fstack-protector-strong -D_LARGEFILE_SOURCE -D_FILE_OFFSET_BITS=64'
optimize='-O2'
cppflags='-D_GNU_SOURCE -fwrapv -fno-strict-aliasing -pipe -fstack-protector-strong'
ccversion=''
gccversion='13.2.1 20240309'
gccosandvers=''
intsize=4
longsize=8
ptrsize=8
doublesize=8
byteorder=12345678
doublekind=3
d_longlong=define
longlongsize=8
d_longdbl=define
longdblsize=16
longdblkind=3
ivtype='long'
ivsize=8
nvtype='double'
nvsize=8
Off_t='off_t'
lseeksize=8
alignbytes=8
prototype=define
Linker and Libraries:
ld='cc'
ldflags =' -fstack-protector-strong -L/usr/local/lib'
libpth=/usr/lib /usr/local/lib /lib
libs=-lpthread -ldb -ldl -lm -lcrypt -lutil -lc
perllibs=-lpthread -ldl -lm -lcrypt -lutil -lc
libc=/usr/lib/libc.a
so=so
useshrplib=false
libperl=libperl.a
gnulibc_version=''
Dynamic Linking:
dlsrc=dl_dlopen.xs
dlext=so
d_dlsymun=undef
ccdlflags='-Wl,-E'
cccdlflags='-fPIC'
lddlflags='-shared -O2 -L/usr/local/lib -fstack-protector-strong'
Characteristics of this binary (from libperl):
Compile-time options:
HAS_LONG_DOUBLE
HAS_STRTOLD
HAS_TIMES
PERLIO_LAYERS
PERL_COPY_ON_WRITE
PERL_DONT_CREATE_GVSV
PERL_HASH_FUNC_SIPHASH13
PERL_HASH_USE_SBOX32
PERL_MALLOC_WRAP
PERL_OP_PARENT
PERL_PRESERVE_IVUV
PERL_USE_DEVEL
PERL_USE_SAFE_PUTENV
USE_64_BIT_ALL
USE_64_BIT_INT
USE_LARGE_FILES
USE_LOCALE
USE_LOCALE_COLLATE
USE_LOCALE_CTYPE
USE_LOCALE_NUMERIC
USE_LOCALE_TIME
USE_PERLIO
USE_PERL_ATOF
Built under linux
Compiled at Sep 4 2024 11:40:25
%ENV:
PERL5LIB=""
PERL5OPT=""
PERL5_CPANPLUS_IS_RUNNING="20660"
PERL5_CPAN_IS_RUNNING="20660"
PERL_MM_USE_DEFAULT="1"
PERL_USE_UNSAFE_INC="1"
@INC:
/home/cpan/bin/perl/lib/site_perl/5.41.4/x86_64-linux
/home/cpan/bin/perl/lib/site_perl/5.41.4
/home/cpan/bin/perl/lib/5.41.4/x86_64-linux
/home/cpan/bin/perl/lib/5.41.4
.