Role-Cache-LRU v0.05 Perl 5 v5.28.1 amd64-freebsd-ld
- Status
- Pass
- From
- Slaven Rezić (SREZIC)
- Dist
-
Role-Cache-LRU v0.05
- Platform
- Perl 5 v5.28.1 amd64-freebsd-ld
- Date
- 2019-05-09 08:50:56
- ID
- 8f650f12-7237-11e9-bc2e-ba7a1f24ea8f
This distribution has been tested as part of the CPAN Testers
project, supporting the Perl programming language. See
http://wiki.cpantesters.org/ for more information or email
questions to cpan-testers-discuss@perl.org
--
Dear Kian Meng, Ang,
This is a computer-generated report for Role-Cache-LRU-0.05
on perl 5.28.1, created by CPAN-Reporter-1.2018.
Thank you for uploading your work to CPAN. Congratulations!
All tests were successful.
Sections of this report:
* Tester comments
* Program output
* Prerequisites
* Environment and other context
------------------------------
TESTER COMMENTS
------------------------------
Additional comments from tester:
none provided
------------------------------
PROGRAM OUTPUT
------------------------------
Output from './Build test':
t/00-compile.t .............. ok
# Testing with Perl 5.028001, /usr/perl5.28.1Dp/bin/perl5.28.1
# Cache::LRU version is 0.04
# File::Spec version is 3.74
# IO::Handle version is 1.39
# IPC::Open3 version is 1.20
# Module::Build::Tiny version is 0.039
# Moo version is 2.003004
# Pod::Coverage::TrustPod version is 0.100005
# Sub::Quote version is 2.006003
# Test::CPAN::Meta version is 0.25
# Test::DistManifest version is 1.014
# Test::Exception version is 0.43
# Test::HasVersion version is 0.014
# Test::More version is 1.302162
# Test::Perl::Critic version is 1.04
# Test::Warn version is 0.36
# Types::Standard version is 1.004004
# namespace::clean version is 0.27
# strictures version is 2.000006
t/000-report-versions.t ..... ok
t/00_setget.t ............... ok
t/author-critic.t ........... skipped: these tests are for testing by the author
t/author-eol.t .............. skipped: these tests are for testing by the author
t/author-minimum-version.t .. skipped: these tests are for testing by the author
t/author-pod-coverage.t ..... skipped: these tests are for testing by the author
t/author-pod-syntax.t ....... skipped: these tests are for testing by the author
t/release-distmeta.t ........ skipped: these tests are for release candidate testing
t/release-has-version.t ..... skipped: these tests are for release candidate testing
t/release-kwalitee.t ........ skipped: these tests are for release candidate testing
t/release-unused-vars.t ..... skipped: these tests are for release candidate testing
All tests successful.
Files=12, Tests=26, 2 wallclock secs ( 0.06 usr 0.09 sys + 1.03 cusr 0.33 csys = 1.51 CPU)
Result: PASS
------------------------------
PREREQUISITES
------------------------------
Prerequisite modules loaded:
requires:
Module Need Have
----------------------- -------- --------
Cache::LRU 0 0.04
Moo 0 2.003004
namespace::clean 0 0.27
perl 5.008005 5.028001
strictures 2 2.000006
Sub::Quote 0 2.006003
Types::Standard 0 1.004004
build_requires:
Module Need Have
----------------------- -------- --------
File::Spec 0 3.74
IO::Handle 0 1.39
IPC::Open3 0 1.20
Pod::Coverage::TrustPod 0 0.100005
Test::CPAN::Meta 0 0.25
Test::DistManifest 0 1.014
Test::Exception 0 0.43
Test::HasVersion 0 0.014
Test::Kwalitee 0 1.28
Test::More 0 1.302162
Test::Perl::Critic 0 1.04
Test::Pod::Coverage 0 1.10
Test::Warn 0 0.36
configure_requires:
Module Need Have
----------------------- -------- --------
Module::Build::Tiny 0.034 0.039
------------------------------
ENVIRONMENT AND OTHER CONTEXT
------------------------------
Environment variables:
PATH = /usr/local/bin:/usr/bin:/bin:/usr/local/sbin:/usr/sbin:/sbin:/home/cpansand/bin/sh:/home/cpansand/bin:/usr/games:/home/cpansand/devel:/usr/home/eserte/src/srezic-misc/scripts
PERL5LIB =
PERL5OPT =
PERL5_CPANPLUS_IS_RUNNING = 46421
PERL5_CPAN_IS_RUNNING = 46421
PERL5_CPAN_IS_RUNNING_IN_RECURSION = 62174,46421
PERL_BATCH = yes
PERL_CANARY_STABILITY_NOPROMPT = 1
PERL_CPAN_REPORTER_CONFIG = /var/tmp/cpansmoker-1023/2019050905/cpanreporter_000_config.ini
PERL_EXTUTILS_AUTOINSTALL = --defaultdeps
PERL_USE_UNSAFE_INC = 1
SHELL = /bin/sh
TMPDIR = /var/tmp/cpansmoker-1023/2019050905
Perl special variables (and OS-specific diagnostics, for MSWin32):
$^X = /usr/perl5.28.1Dp/bin/perl5.28.1
$UID/$EUID = 1023 / 1023
$GID = 1023 1023
$EGID = 1023 1023
Perl module toolchain versions installed:
Module Have
------------------- --------
CPAN 2.20
CPAN::Meta 2.150010
Cwd 3.74
ExtUtils::CBuilder 0.280231
ExtUtils::Command 7.34
ExtUtils::Install 2.14
ExtUtils::MakeMaker 7.34
ExtUtils::Manifest 1.70
ExtUtils::ParseXS 3.39
File::Spec 3.74
JSON 4.02
JSON::PP 2.97001
Module::Build 0.4229
Module::Signature n/a
Parse::CPAN::Meta 2.150010
Test::Harness 3.42
Test::More 1.302162
YAML 1.27
YAML::Syck 1.31
version 0.9923
--
Summary of my perl5 (revision 5 version 28 subversion 1) configuration:
Platform:
osname=freebsd
osvers=12.0-stable
archname=amd64-freebsd-ld
uname='freebsd cloud1.bbbike.org 12.0-stable freebsd 12.0-stable 851f4c1257c(stable12) generic amd64 '
config_args='-ds -e -Dprefix=/usr/perl5.28.1Dp -Duselongdouble -Dcf_email=srezic@cpan.org -Doptimize=-O2 -pipe'
hint=recommended
useposix=true
d_sigaction=define
useithreads=undef
usemultiplicity=undef
use64bitint=define
use64bitall=define
uselongdouble=define
usemymalloc=n
default_inc_excludes_dot=define
bincompat5005=undef
Compiler:
cc='cc'
ccflags ='-DHAS_FPSETMASK -DHAS_FLOATINGPOINT_H -fno-strict-aliasing -pipe -fstack-protector-strong -I/usr/local/include -D_FORTIFY_SOURCE=2'
optimize='-O2 -pipe'
cppflags='-DHAS_FPSETMASK -DHAS_FLOATINGPOINT_H -fno-strict-aliasing -pipe -fstack-protector-strong -I/usr/local/include'
ccversion=''
gccversion='4.2.1 Compatible FreeBSD Clang 7.0.1 (tags/RELEASE_701/final 349250)'
gccosandvers=''
intsize=4
longsize=8
ptrsize=8
doublesize=8
byteorder=12345678
doublekind=3
d_longlong=define
longlongsize=8
d_longdbl=define
longdblsize=16
longdblkind=3
ivtype='long'
ivsize=8
nvtype='long double'
nvsize=16
Off_t='off_t'
lseeksize=8
alignbytes=16
prototype=define
Linker and Libraries:
ld='cc'
ldflags ='-pthread -Wl,-E -fstack-protector-strong -L/usr/local/lib'
libpth=/usr/lib /usr/local/lib /usr/lib/clang/7.0.1/lib /usr/lib
libs=-lpthread -lgdbm -ldl -lm -lcrypt -lutil -lc
perllibs=-lpthread -ldl -lm -lcrypt -lutil -lc
libc=
so=so
useshrplib=false
libperl=libperl.a
gnulibc_version=''
Dynamic Linking:
dlsrc=dl_dlopen.xs
dlext=so
d_dlsymun=undef
ccdlflags=' '
cccdlflags='-DPIC -fPIC'
lddlflags='-shared -L/usr/local/lib -fstack-protector-strong'
Characteristics of this binary (from libperl):
Compile-time options:
HAS_TIMES
PERLIO_LAYERS
PERL_COPY_ON_WRITE
PERL_DONT_CREATE_GVSV
PERL_MALLOC_WRAP
PERL_OP_PARENT
PERL_PRESERVE_IVUV
USE_64_BIT_ALL
USE_64_BIT_INT
USE_LARGE_FILES
USE_LOCALE
USE_LOCALE_COLLATE
USE_LOCALE_CTYPE
USE_LOCALE_NUMERIC
USE_LOCALE_TIME
USE_LONG_DOUBLE
USE_PERLIO
USE_PERL_ATOF
Built under freebsd
Compiled at Mar 25 2019 22:00:02
%ENV:
PERL5LIB=""
PERL5OPT=""
PERL5_CPANPLUS_IS_RUNNING="46421"
PERL5_CPAN_IS_RUNNING="46421"
PERL5_CPAN_IS_RUNNING_IN_RECURSION="62174,46421"
PERL_BATCH="yes"
PERL_CANARY_STABILITY_NOPROMPT="1"
PERL_CPAN_REPORTER_CONFIG="/var/tmp/cpansmoker-1023/2019050905/cpanreporter_000_config.ini"
PERL_EXTUTILS_AUTOINSTALL="--defaultdeps"
PERL_USE_UNSAFE_INC="1"
@INC:
/usr/perl5.28.1Dp/lib/site_perl/5.28.1/amd64-freebsd-ld
/usr/perl5.28.1Dp/lib/site_perl/5.28.1
/usr/perl5.28.1Dp/lib/5.28.1/amd64-freebsd-ld
/usr/perl5.28.1Dp/lib/5.28.1
.