Report for Tie-File-FixedRecLen-2.112531

Back
From: metabase:user:9820532a-708b-1014-9a05-b18a96298da1
Subject: PASS Tie-File-FixedRecLen-2.112531 v5.15.4 GNU/Linux
Date: 2011-11-05T14:07:56Z

This distribution has been tested as part of the CPAN Testers
project, supporting the Perl programming language.  See
http://wiki.cpantesters.org/ for more information or email
questions to cpan-testers-discuss@perl.org


--
Dear Oliver Gorwits,

This is a computer-generated report for Tie-File-FixedRecLen-2.112531
on perl 5.15.4, created by CPAN-Reporter-1.2002.

Thank you for uploading your work to CPAN.  Congratulations!
All tests were successful.

Sections of this report:

    * Tester comments
    * Program output
    * Prerequisites
    * Environment and other context

------------------------------
TESTER COMMENTS
------------------------------

Additional comments from tester:

this report is from an automated smoke testing program
and was not reviewed by a human for accuracy

------------------------------
PROGRAM OUTPUT
------------------------------

Output from '/usr/bin/make test':

PERL_DL_NONLAZY=1 /home/bri/perl5/perlbrew/perls/perl-5.15.4-th/bin/perl5.15.4 "-MExtUtils::Command::MM" "-e" "test_harness(0, 'blib/lib', 'blib/arch')" t/*.t
t/01_gen.t ........... ok
t/02_fetchsize.t ..... ok
t/03_longfetch.t ..... ok
t/04_splice.t ........ ok
t/05_size.t .......... ok
t/06_fixrec.t ........ ok
t/07_rv_splice.t ..... ok
t/08_ro.t ............ ok
t/09_gen_rs.t ........ ok
t/10_splice_rs.t ..... ok
t/11_rv_splice_rs.t .. ok
t/12_longfetch_rs.t .. ok
t/13_size_rs.t ....... ok
t/14_lock.t .......... ok
t/15_pushpop.t ....... ok
t/16_handle.t ........ ok
t/17_misc_meth.t ..... ok
t/18_rs_fixrec.t ..... ok
t/19_cache.t ......... skipped: (no reason given)
t/20_cache_full.t .... skipped: (no reason given)
t/21_win32.t ......... skipped: (no reason given)
t/22_autochomp.t ..... ok
t/23_rv_ac_splice.t .. ok
t/24_cache_loop.t .... ok
t/25_gen_nocache.t ... ok
t/26_twrite.t ........ ok
t/27_iwrite.t ........ ok
t/28_mtwrite.t ....... ok
t/29_downcopy.t ...... ok
t/29a_upcopy.t ....... ok
t/30_defer.t ......... skipped: (no reason given)
t/31_autodefer.t ..... skipped: (no reason given)
t/32_defer_misc.t .... skipped: (no reason given)
t/33_defer_vs.t ...... skipped: (no reason given)
t/40_abs_cache.t ..... ok
t/41_heap.t .......... ok
t/42_offset.t ........ ok
t/90_store.t ......... ok
t/pod.t .............. ok
All tests successful.
Files=39, Tests=4328,  9 wallclock secs ( 0.89 usr  0.05 sys +  4.20 cusr  1.43 csys =  6.57 CPU)
Result: PASS

------------------------------
PREREQUISITES
------------------------------

Prerequisite modules loaded:

requires:

    Module              Need Have   
    ------------------- ---- -------
    base                0    2.18   
    Carp                0    1.23   
    Fcntl               0    1.11   
    strict              0    1.04   
    Symbol              0    1.07   
    Tie::File           0    0.97_02
    warnings            0    1.12   

build_requires:

    Module              Need Have   
    ------------------- ---- -------
    Config              0    0      
    File::Spec          0    3.34   
    POSIX               0    1.26   
    Test::More          0    0.98   

configure_requires:

    Module              Need Have   
    ------------------- ---- -------
    ExtUtils::MakeMaker 6.30 6.62   


------------------------------
ENVIRONMENT AND OTHER CONTEXT
------------------------------

Environment variables:

    AUTOMATED_TESTING = 1
    LANG = C
    LANGUAGE = en_GB:en
    LC_ALL = C
    PATH = /home/bri/bin:/home/bri/perl5/perlbrew/bin:/home/bri/perl5/perlbrew/perls/perl-5.15.4-th/bin:~/bin:/usr/local/sbin:/usr/local/bin:/usr/sbin:/usr/bin:/sbin:/bin:/usr/games
    PATH_WITHOUT_PERLBREW = ~/bin:/usr/local/sbin:/usr/local/bin:/usr/sbin:/usr/bin:/sbin:/bin:/usr/games
    PERL5LIB = 
    PERL5OPT = 
    PERL5_CPANPLUS_IS_RUNNING = 4561
    PERL5_CPAN_IS_RUNNING = 4561
    PERL5_CPAN_IS_RUNNING_IN_RECURSION = 1981,4561
    PERLBREW_BASHRC_VERSION = 0.31
    PERLBREW_HOME = /home/bri/.perlbrew
    PERLBREW_PATH = /home/bri/perl5/perlbrew/bin:/home/bri/perl5/perlbrew/perls/perl-5.15.4-th/bin
    PERLBREW_PERL = perl-5.15.4-th
    PERLBREW_ROOT = /home/bri/perl5/perlbrew
    PERLBREW_VERSION = 0.31
    PERL_CPANM_OPT = --prompt --mirror http://172.16.1.3/cpan/
    PERL_CR_SMOKER_CURRENT = YATG-4.112532
    PERL_EXTUTILS_AUTOINSTALL = --defaultdeps
    PERL_MM_USE_DEFAULT = 1
    SHELL = /bin/bash
    TERM = linux

Perl special variables (and OS-specific diagnostics, for MSWin32):

    $^X = /home/bri/perl5/perlbrew/perls/perl-5.15.4-th/bin/perl5.15.4
    $UID/$EUID = 1000 / 1000
    $GID = 1000 4 20 24 46 112 120 122 1000
    $EGID = 1000 4 20 24 46 112 120 122 1000

Perl module toolchain versions installed:

    Module              Have    
    ------------------- --------
    CPAN                1.9800  
    CPAN::Meta          2.112621
    Cwd                 3.37    
    ExtUtils::CBuilder  0.280204
    ExtUtils::Command   1.17    
    ExtUtils::Install   1.57    
    ExtUtils::MakeMaker 6.62    
    ExtUtils::Manifest  1.60    
    ExtUtils::ParseXS   3.05    
    File::Spec          3.34    
    JSON                2.53    
    JSON::PP            2.27200 
    Module::Build       0.39_01 
    Module::Signature   n/a     
    Parse::CPAN::Meta   1.4401  
    Test::Harness       3.23    
    Test::More          0.98    
    YAML                0.77    
    YAML::Syck          1.17_02 
    version             0.94    


--

Summary of my perl5 (revision 5 version 15 subversion 4) configuration:
   
  Platform:
    osname=linux, osvers=2.6.38-11-generic, archname=i686-linux-thread-multi
    uname='linux lappy 2.6.38-11-generic #48-ubuntu smp fri jul 29 19:05:14 utc 2011 i686 i686 i386 gnulinux '
    config_args='-de -Dprefix=/home/bri/perl5/perlbrew/perls/perl-5.15.4-th -Dusethreads -Dusedevel'
    hint=recommended, useposix=true, d_sigaction=define
    useithreads=define, usemultiplicity=define
    useperlio=define, d_sfio=undef, uselargefiles=define, usesocks=undef
    use64bitint=undef, use64bitall=undef, uselongdouble=undef
    usemymalloc=n, bincompat5005=undef
  Compiler:
    cc='cc', ccflags ='-D_REENTRANT -D_GNU_SOURCE -fno-strict-aliasing -pipe -fstack-protector -I/usr/local/include -D_LARGEFILE_SOURCE -D_FILE_OFFSET_BITS=64',
    optimize='-O2',
    cppflags='-D_REENTRANT -D_GNU_SOURCE -fno-strict-aliasing -pipe -fstack-protector -I/usr/local/include'
    ccversion='', gccversion='4.5.2', gccosandvers=''
    intsize=4, longsize=4, ptrsize=4, doublesize=8, byteorder=1234
    d_longlong=define, longlongsize=8, d_longdbl=define, longdblsize=12
    ivtype='long', ivsize=4, nvtype='double', nvsize=8, Off_t='off_t', lseeksize=8
    alignbytes=4, prototype=define
  Linker and Libraries:
    ld='cc', ldflags =' -fstack-protector -L/usr/local/lib'
    libpth=/usr/local/lib /lib /usr/lib /usr/lib/i386-linux-gnu /usr/lib64
    libs=-lnsl -ldl -lm -lcrypt -lutil -lpthread -lc
    perllibs=-lnsl -ldl -lm -lcrypt -lutil -lpthread -lc
    libc=, so=so, useshrplib=false, libperl=libperl.a
    gnulibc_version='2.13'
  Dynamic Linking:
    dlsrc=dl_dlopen.xs, dlext=so, d_dlsymun=undef, ccdlflags='-Wl,-E'
    cccdlflags='-fPIC', lddlflags='-shared -O2 -L/usr/local/lib -fstack-protector'


Characteristics of this binary (from libperl): 
  Compile-time options: HAS_TIMES MULTIPLICITY PERLIO_LAYERS
                        PERL_DONT_CREATE_GVSV PERL_IMPLICIT_CONTEXT
                        PERL_MALLOC_WRAP PERL_PRESERVE_IVUV PERL_USE_DEVEL
                        USE_ITHREADS USE_LARGE_FILES USE_LOCALE
                        USE_LOCALE_COLLATE USE_LOCALE_CTYPE
                        USE_LOCALE_NUMERIC USE_PERLIO USE_PERL_ATOF
                        USE_REENTRANT_API
  Built under linux
  Compiled at Nov  3 2011 17:34:50
  %ENV:
    PERL5LIB=""
    PERL5OPT=""
    PERL5_CPANPLUS_IS_RUNNING="4561"
    PERL5_CPAN_IS_RUNNING="4561"
    PERL5_CPAN_IS_RUNNING_IN_RECURSION="1981,4561"
    PERLBREW_BASHRC_VERSION="0.31"
    PERLBREW_HOME="/home/bri/.perlbrew"
    PERLBREW_PATH="/home/bri/perl5/perlbrew/bin:/home/bri/perl5/perlbrew/perls/perl-5.15.4-th/bin"
    PERLBREW_PERL="perl-5.15.4-th"
    PERLBREW_ROOT="/home/bri/perl5/perlbrew"
    PERLBREW_VERSION="0.31"
    PERL_CPANM_OPT="--prompt --mirror http://172.16.1.3/cpan/"
    PERL_CR_SMOKER_CURRENT="YATG-4.112532"
    PERL_EXTUTILS_AUTOINSTALL="--defaultdeps"
    PERL_MM_USE_DEFAULT="1"
  @INC:
    /home/bri/perl5/perlbrew/perls/perl-5.15.4-th/lib/site_perl/5.15.4/i686-linux-thread-multi
    /home/bri/perl5/perlbrew/perls/perl-5.15.4-th/lib/site_perl/5.15.4
    /home/bri/perl5/perlbrew/perls/perl-5.15.4-th/lib/5.15.4/i686-linux-thread-multi
    /home/bri/perl5/perlbrew/perls/perl-5.15.4-th/lib/5.15.4
    .