Report for XML-Parser-2.44

Back
From: metabase:user:323dcade-2aae-11df-837a-5e0a49663a4f
Subject: PASS XML-Parser-2.44 v5.23.1 Mac OS X
Date: 2015-07-08T14:13:52Z

This distribution has been tested as part of the CPAN Testers
project, supporting the Perl programming language.  See
http://wiki.cpantesters.org/ for more information or email
questions to cpan-testers-discuss@perl.org


--
Dear Todd Rinaldo,

This is a computer-generated report for XML-Parser-2.44
on perl 5.23.1, created by CPAN-Reporter-1.2014.

Thank you for uploading your work to CPAN.  Congratulations!
All tests were successful.

Sections of this report:

    * Tester comments
    * Program output
    * Prerequisites
    * Environment and other context

------------------------------
TESTER COMMENTS
------------------------------

Additional comments from tester:

this report is from an automated smoke testing program
and was not reviewed by a human for accuracy

------------------------------
PROGRAM OUTPUT
------------------------------

Output from '/usr/bin/make test':

Running Mkbootstrap for XML::Parser::Expat ()
chmod 644 "Expat.bs"
Manifying 1 pod document
PERL_DL_NONLAZY=1 "/usr/local/bin/perl5.23.1d-nt-asan@ba707cdc" "-MExtUtils::Command::MM" "-MTest::Harness" "-e" "undef *Test::Harness::Switches; test_harness(0, 'blib/lib', 'blib/arch')" t/*.t
t/astress.t ........... ok
t/cdata.t ............. ok
t/decl.t .............. ok
t/defaulted.t ......... ok
t/encoding.t .......... ok
t/external_ent.t ...... ok
t/file.t .............. ok
t/file_open_scalar.t .. ok
t/finish.t ............ ok
t/namespaces.t ........ ok
t/parament.t .......... ok
t/partial.t ........... ok
t/skip.t .............. ok
t/stream.t ............ ok
t/styles.t ............ ok
All tests successful.
Files=15, Tests=141,  7 wallclock secs ( 0.34 usr  0.82 sys +  3.76 cusr  2.61 csys =  7.53 CPU)
Result: PASS

------------------------------
PREREQUISITES
------------------------------

Prerequisite modules loaded:

requires:

    Module              Need    Have    
    ------------------- ------- --------
    LWP::UserAgent      0       6.13    
    perl                5.00405 5.023001

build_requires:

    Module              Need    Have    
    ------------------- ------- --------
    Test::More          0       1.001014

configure_requires:

    Module              Need    Have    
    ------------------- ------- --------
    ExtUtils::MakeMaker 0       7.04_01 


------------------------------
ENVIRONMENT AND OTHER CONTEXT
------------------------------

Environment variables:

    AUTOMATED_TESTING = 1
    LANG = en_US.UTF-8
    LC_CTYPE = en_US.UTF-8
    NONINTERACTIVE_TESTING = 1
    PATH = /Users/rurban/.opam/system/bin:/opt/local/libexec/gnubin:/opt/local/bin:/opt/local/sbin:/Users/rurban/bin:/opt/local/libexec/perl5.18/sitebin:/usr/local/bin:/usr/bin:/bin:/usr/sbin:/sbin:/opt/X11/bin
    PERL5LIB = /Users/rurban/.opam/system/lib/perl5
    PERL5OPT = 
    PERL5_CPANPLUS_IS_RUNNING = 59685
    PERL5_CPAN_IS_RUNNING = 59685
    PERL_MM_USE_DEFAULT = 1
    SHELL = /bin/bash
    TERM = xterm-256color
    TMPDIR = /var/folders/px/n5mb0_td0czbxztsqz1cg5c80000gn/T/

Perl special variables (and OS-specific diagnostics, for MSWin32):

    $^X = /usr/local/bin/perl5.23.1d-nt-asan@ba707cdc
    $UID/$EUID = 501 / 501
    $GID = 20 20 12 61 79 80 81 98 702 33 100 204 398 399 701
    $EGID = 20 20 12 61 79 80 81 98 702 33 100 204 398 399 701

Perl module toolchain versions installed:

    Module              Have    
    ------------------- --------
    CPAN                2.11    
    CPAN::Meta          2.150005
    Cwd                 3.56    
    ExtUtils::CBuilder  0.280223
    ExtUtils::Command   1.20    
    ExtUtils::Install   2.04    
    ExtUtils::MakeMaker 7.04_01 
    ExtUtils::Manifest  1.70    
    ExtUtils::ParseXS   3.28    
    File::Spec          3.56    
    JSON                2.90    
    JSON::PP            2.27300 
    Module::Build       0.4214  
    Module::Signature   0.79    
    Parse::CPAN::Meta   1.4417  
    Test::Harness       3.35    
    Test::More          1.001014
    YAML                1.15    
    YAML::Syck          n/a     
    version             0.9912  


--

Summary of my perl5 (revision 5 version 23 subversion 1) configuration:
  Derived from: ba707cdc782d882662421af06658ff4afdf31003
  Platform:
    osname=darwin, osvers=14.4.0, archname=darwin-2level-debug-asan@ba707cdc
    uname='darwin airc 14.4.0 darwin kernel version 14.4.0: thu may 28 11:35:04 pdt 2015; root:xnu-2782.30.5~1release_x86_64 x86_64 i386 macbookair6,2 darwin '
    config_args='-de -Dusedevel -Uversiononly -Dinstallman1dir=none -Dinstallman3dir=none -Dinstallsiteman1dir=none -Dinstallsiteman3dir=none -DEBUGGING -Uuseithreads -D'cc=clang-3.7' -D'optimize='-fno-omit-frame-pointer -gline-tables-only'' -A'ccflags=-fsanitize=address' -A'ldflags=-fsanitize=address\ -Wl,-no_pie' -A'lddlflags=-bundle\ -fsanitize=address\ -Wl,-no_pie' -Duseshrplib -Dld='gcc-mp-4.8' -Duseshrplib -Dld=clang-3.7 -Accflags=-Wno-unused-value'
    hint=recommended, useposix=true, d_sigaction=define
    useithreads=undef, usemultiplicity=undef
    use64bitint=define, use64bitall=define, uselongdouble=undef
    usemymalloc=n, bincompat5005=undef
  Compiler:
    cc='clang-3.7', ccflags ='-fno-common -DPERL_DARWIN -no-cpp-precomp -fsanitize=address -Wno-unused-value -DDEBUGGING -fno-strict-aliasing -pipe  -I/usr/local/include -I/opt/local/include',
    optimize='-fno-omit-frame-pointer -gline-tables-only',
    cppflags='-no-cpp-precomp -fno-common -DPERL_DARWIN -no-cpp-precomp -fsanitize=address -Wno-unused-value -DDEBUGGING -fno-strict-aliasing -pipe  -I/usr/local/include -I/opt/local/include'
    ccversion='', gccversion='4.2.1 Compatible Clang 3.7.0 (trunk 241630) (llvm/trunk 241629)', gccosandvers=''
    intsize=4, longsize=8, ptrsize=8, doublesize=8, byteorder=12345678, doublekind=3
    d_longlong=define, longlongsize=8, d_longdbl=define, longdblsize=16, longdblkind=3
    ivtype='long', ivsize=8, nvtype='double', nvsize=8, Off_t='off_t', lseeksize=8
    alignbytes=8, prototype=define
  Linker and Libraries:
    ld='clang-3.7', ldflags =' -fsanitize=address -Wl,-no_pie  -L/usr/local/lib -L/opt/local/lib'
    libpth=/usr/local/lib /usr/src/llvm/r241629/build/bin/../lib/clang/3.7.0/lib /usr/lib /opt/local/lib
    libs=-lpthread -lgdbm -ldbm -ldl -lm -lutil -lc
    perllibs=-lpthread -ldl -lm -lutil -lc
    libc=, so=dylib, useshrplib=true, libperl=libperl.dylib
    gnulibc_version=''
  Dynamic Linking:
    dlsrc=dl_dlopen.xs, dlext=bundle, d_dlsymun=undef, ccdlflags=' '
    cccdlflags=' ', lddlflags=' -bundle -undefined dynamic_lookup -bundle -fsanitize=address -Wl,-no_pie -L/usr/local/lib -L/opt/local/lib '


Characteristics of this binary (from libperl): 
  Compile-time options: DEBUGGING HAS_TIMES PERLIO_LAYERS PERL_COPY_ON_WRITE
                        PERL_DONT_CREATE_GVSV
                        PERL_HASH_FUNC_ONE_AT_A_TIME_HARD PERL_MALLOC_WRAP
                        PERL_PRESERVE_IVUV PERL_USE_DEVEL USE_64_BIT_ALL
                        USE_64_BIT_INT USE_LARGE_FILES USE_LOCALE
                        USE_LOCALE_COLLATE USE_LOCALE_CTYPE
                        USE_LOCALE_NUMERIC USE_LOCALE_TIME USE_PERLIO
                        USE_PERL_ATOF
  Locally applied patches:
	uncommitted-changes
	Devel::PatchPerl 1.30
  Built under darwin
  Compiled at Jul  8 2015 09:48:56
  %ENV:
    PERL5LIB="/Users/rurban/.opam/system/lib/perl5"
    PERL5OPT=""
    PERL5_CPANPLUS_IS_RUNNING="59685"
    PERL5_CPAN_IS_RUNNING="59685"
    PERL_MM_USE_DEFAULT="1"
  @INC:
    /Users/rurban/.opam/system/lib/perl5
    /usr/local/lib/perl5/site_perl/5.23.1/darwin-2level-debug-asan@ba707cdc
    /usr/local/lib/perl5/site_perl/5.23.1
    /usr/local/lib/perl5/5.23.1/darwin-2level-debug-asan@ba707cdc
    /usr/local/lib/perl5/5.23.1
    /usr/local/lib/perl5/site_perl/5.22.0
    /usr/local/lib/perl5/site_perl/5.21.11
    /usr/local/lib/perl5/site_perl/5.21.10
    /usr/local/lib/perl5/site_perl/5.21.9
    /usr/local/lib/perl5/site_perl/5.21.8
    /usr/local/lib/perl5/site_perl/5.21.5
    /usr/local/lib/perl5/site_perl/5.21.4
    /usr/local/lib/perl5/site_perl/5.21.3
    /usr/local/lib/perl5/site_perl/5.21.2
    /usr/local/lib/perl5/site_perl/5.21.1
    /usr/local/lib/perl5/site_perl/5.20.2
    /usr/local/lib/perl5/site_perl/5.20.1
    /usr/local/lib/perl5/site_perl/5.20.0
    /usr/local/lib/perl5/site_perl/5.19.9
    /usr/local/lib/perl5/site_perl/5.19.8
    /usr/local/lib/perl5/site_perl/5.19.6
    /usr/local/lib/perl5/site_perl/5.19.4
    /usr/local/lib/perl5/site_perl/5.19.2
    /usr/local/lib/perl5/site_perl/5.18.4
    /usr/local/lib/perl5/site_perl/5.18.2
    /usr/local/lib/perl5/site_perl/5.18.1
    /usr/local/lib/perl5/site_perl/5.18.0
    /usr/local/lib/perl5/site_perl/5.16.3
    /usr/local/lib/perl5/site_perl/5.16.1
    /usr/local/lib/perl5/site_perl/5.15.8
    /usr/local/lib/perl5/site_perl/5.14.4
    /usr/local/lib/perl5/site_perl/5.14.3
    /usr/local/lib/perl5/site_perl/5.14.2
    /usr/local/lib/perl5/site_perl/5.14.1
    /usr/local/lib/perl5/site_perl/5.14.0
    /usr/local/lib/perl5/site_perl/5.12.5
    /usr/local/lib/perl5/site_perl/5.12.4
    /usr/local/lib/perl5/site_perl/5.10.1
    /usr/local/lib/perl5/site_perl/5.8.9
    /usr/local/lib/perl5/site_perl/5.8.8
    /usr/local/lib/perl5/site_perl/5.8.5
    /usr/local/lib/perl5/site_perl/5.8.4
    /usr/local/lib/perl5/site_perl/5.6.2
    /usr/local/lib/perl5/site_perl
    .