Report for Data-Session-1.15

Back
From: metabase:user:6f0cc372-4c19-11e2-91ab-d83883dc70e1
Subject: PASS Data-Session-1.15 v5.16.2 GNU/Linux
Date: 2013-06-22T09:53:16Z

This distribution has been tested as part of the CPAN Testers
project, supporting the Perl programming language.  See
http://wiki.cpantesters.org/ for more information or email
questions to cpan-testers-discuss@perl.org


--
Dear Ron Savage,

This is a computer-generated report for Data-Session-1.15
on perl 5.16.2, created by CPAN-Reporter-1.2009.

Thank you for uploading your work to CPAN.  Congratulations!
All tests were successful.

Sections of this report:

    * Tester comments
    * Program output
    * Prerequisites
    * Environment and other context

------------------------------
TESTER COMMENTS
------------------------------

Additional comments from tester:

this report is from an automated smoke testing program
and was not reviewed by a human for accuracy

------------------------------
PROGRAM OUTPUT
------------------------------

Output from './Build test':

# Test: File.1. DSN: dbi:File:. ID generator: AutoIncrement. Serializer: DataDumper
# id 1: 1002
# Test: File.1. DSN: dbi:File:. ID generator: AutoIncrement. Serializer: FreezeThaw
# id 1: 1008
# Test: File.1. DSN: dbi:File:. ID generator: AutoIncrement. Serializer: JSON
# id 1: 1014
# Test: File.1. DSN: dbi:File:. ID generator: AutoIncrement. Serializer: Storable
# id 1: 1020
# Test: File.1. DSN: dbi:File:. ID generator: AutoIncrement. Serializer: YAML
# id 1: 1026
# Test: File.1. DSN: dbi:File:. ID generator: MD5. Serializer: DataDumper
# id 1: 497a4abdeff2c0854bb7c9a9d026eb1b
# Test: File.1. DSN: dbi:File:. ID generator: MD5. Serializer: FreezeThaw
# id 1: 223b7a00c1ac96db1ca8c854683e8b09
# Test: File.1. DSN: dbi:File:. ID generator: MD5. Serializer: JSON
# id 1: 19605b4f757d9c5992d8099a90062b50
# Test: File.1. DSN: dbi:File:. ID generator: MD5. Serializer: Storable
# id 1: 896badbda0ba5ddfcc85b822a3f8b40b
# Test: File.1. DSN: dbi:File:. ID generator: MD5. Serializer: YAML
# id 1: c1eb5bd2ee1b5eacd791d85810801c3b
# Test: File.1. DSN: dbi:File:. ID generator: SHA1. Serializer: DataDumper
# id 1: 2e89545d1c053700d0f5fb900102abc453013b13
# Test: File.1. DSN: dbi:File:. ID generator: SHA1. Serializer: FreezeThaw
# id 1: ea15ba86b7c0454692630eac9e4972ca2d6accab
# Test: File.1. DSN: dbi:File:. ID generator: SHA1. Serializer: JSON
# id 1: 51617dba31b02c7d597d66e36a774e89f2050fe2
# Test: File.1. DSN: dbi:File:. ID generator: SHA1. Serializer: Storable
# id 1: f5480e2829e445e3901a59115ec81a2decc70749
# Test: File.1. DSN: dbi:File:. ID generator: SHA1. Serializer: YAML
# id 1: 0dbe161fc95c6f87d3af118db927abe6e959fb71
# Test: File.1. DSN: dbi:File:. ID generator: SHA256. Serializer: DataDumper
# id 1: 007c80e44392c26392ba24acf6872d6a6f626ac37dc6037787ad0a48ea3e7b4b
# Test: File.1. DSN: dbi:File:. ID generator: SHA256. Serializer: FreezeThaw
# id 1: ae3027af06e3198e01cce580410d10833c5fb5209cfac5ad2918e977563b052c
# Test: File.1. DSN: dbi:File:. ID generator: SHA256. Serializer: JSON
# id 1: 059a0e273dbaceda8141838097f6288bc94fb4ceeb6b59c6abc95dbf850ef66b
# Test: File.1. DSN: dbi:File:. ID generator: SHA256. Serializer: Storable
# id 1: 8815f48ad201159ccf694ecac60b003979fab04e973cee209252d04dc1510a4d
# Test: File.1. DSN: dbi:File:. ID generator: SHA256. Serializer: YAML
# id 1: 4beb960ad0ea9e920737e446c39c402a85adc4e7932221066f27be90696c8aee
# Test: File.1. DSN: dbi:File:. ID generator: SHA512. Serializer: DataDumper
# id 1: 9f9871f938646f468950e51ad663b63a3bb12b8667b853ebb85e99a323626d0843cd32c7b1f97f3d37b822369b2651ee26b68881f2a5db639abfd5211ce0b7b7
# Test: File.1. DSN: dbi:File:. ID generator: SHA512. Serializer: FreezeThaw
# id 1: 1e4c9f772fb262eb07b7907ded4448de68e50ce820d13d2e0f4222d685cc40e5e00950eea48d7f62f17f7d5bc140c92fe8ce7046157db9e2815c5fbaa338d1df
# Test: File.1. DSN: dbi:File:. ID generator: SHA512. Serializer: JSON
# id 1: 898ab5a0a7382b92d7c00241c809dc110247e358370e392ef7d2eb83a412a85c8b175ce19a8a993fe59c3f6b09ef40c175d22ca88a63c578a8721502aa6b9ea1
# Test: File.1. DSN: dbi:File:. ID generator: SHA512. Serializer: Storable
# id 1: 27d765ec6e7d3b05380b4785ec297df8f5cf2bae9f6c0d79165a0eeaedfb9334ccb7c4470992c9ed5231ca519e09e74d1b0c16f8be66cf7c201228086aa3874e
# Test: File.1. DSN: dbi:File:. ID generator: SHA512. Serializer: YAML
# id 1: 53d869e76eb74b091d78c07bc4ad540c180971484e7c6c9d8ef077d95a952d3cbcfda92615baa208ab115b92eccdd78d9c9e957560b3c2d0c3b4b3e80ecdb106
# Test: File.1. DSN: dbi:File:. ID generator: Static. Serializer: DataDumper
# id 1: 1234
# Test: File.1. DSN: dbi:File:. ID generator: Static. Serializer: FreezeThaw
# id 1: 1234
# Test: File.1. DSN: dbi:File:. ID generator: Static. Serializer: JSON
# id 1: 1234
# Test: File.1. DSN: dbi:File:. ID generator: Static. Serializer: Storable
# id 1: 1234
# Test: File.1. DSN: dbi:File:. ID generator: Static. Serializer: YAML
# id 1: 1234
# Test: File.1. DSN: dbi:File:. ID generator: UUID34. Serializer: DataDumper
# id 1: 0x846D1A19DB2111E286E5ED2B8290AACB
# Test: File.1. DSN: dbi:File:. ID generator: UUID34. Serializer: FreezeThaw
# id 1: 0x84794F0FDB2111E286E5ED2B8290AACB
# Test: File.1. DSN: dbi:File:. ID generator: UUID34. Serializer: JSON
# id 1: 0x848276C5DB2111E286E5ED2B8290AACB
# Test: File.1. DSN: dbi:File:. ID generator: UUID34. Serializer: Storable
# id 1: 0x848D2525DB2111E286E5ED2B8290AACB
# Test: File.1. DSN: dbi:File:. ID generator: UUID34. Serializer: YAML
# id 1: 0x8497D37ADB2111E286E5ED2B8290AACB
# Test: File.1. DSN: dbi:File:. ID generator: UUID36. Serializer: DataDumper
# id 1: 84A281D0-DB21-11E2-86E5-ED2B8290AACB
# Test: File.1. DSN: dbi:File:. ID generator: UUID36. Serializer: FreezeThaw
# id 1: 84AEB6D1-DB21-11E2-86E5-ED2B8290AACB
# Test: File.1. DSN: dbi:File:. ID generator: UUID36. Serializer: JSON
# id 1: 84B7DE87-DB21-11E2-86E5-ED2B8290AACB
# Test: File.1. DSN: dbi:File:. ID generator: UUID36. Serializer: Storable
# id 1: 84C28CDD-DB21-11E2-86E5-ED2B8290AACB
# Test: File.1. DSN: dbi:File:. ID generator: UUID36. Serializer: YAML
# id 1: 84CBB49D-DB21-11E2-86E5-ED2B8290AACB
# Skipping dsn 'dbi:SQLite:dbname=/tmp/sessions.sqlite' because the SQLite directory does not exist
# 
# Testing HTTP header generation
# 
# Testing expire the session. Sleeping for 1 second ...
# Expiring id: 84DC7D73-DB21-11E2-86E5-ED2B8290AACB
# 
# Testing expire a session parameter. Sleeping for 1 second ...
t/basic.t ..... ok
t/pod.t ....... ok
# DSN name: File.1. DSN: dbi:File:. ID generator: MD5. Serializer: DataDumper
# id1: a4cc3d32a04a978422192bbad0b5ba19
# 1: Recovered known id 378dbd8d08cfb3b9febc82df5ad6701f from traverse
# 2: Recovered known id 44259e86d4577d32dd69b50c21cf785d from traverse
# 3: Recovered known id 68c68791549c5d53b1f9c4d6af9b5fc9 from traverse
# 4: Recovered known id 882e872452ca3c26061cff27a0b63817 from traverse
# Skipping dsn 'dbi:SQLite:dbname=/tmp/sessions.sqlite' because the SQLite directory does not exist
t/traverse.t .. ok
All tests successful.
Files=3, Tests=80, 14 wallclock secs ( 0.40 usr  0.04 sys +  6.77 cusr  0.86 csys =  8.07 CPU)
Result: PASS

------------------------------
PREREQUISITES
------------------------------

Prerequisite modules loaded:

requires:

    Module                   Need    Have   
    ------------------------ ------- -------
    autovivification         0       0.11   
    CGI                      3.63    3.63   
    Class::Load              0.19    0.20   
    Config::Tiny             2.14    2.14   
    Data::Dumper             2.145   2.145  
    Data::UUID               1.218   1.218  
    DBD::SQLite              1.39    1.39   
    DBI                      1.627   1.627  
    DBIx::Admin::CreateTable 2.07    2.07   
    Digest::MD5              2.52    2.52   
    Digest::SHA              5.84    5.84   
    Fcntl                    1.06    1.11   
    File::Basename           2.77    2.84   
    File::Path               2.07    2.09   
    File::Slurp              9999.19 9999.19
    File::Spec               3.3     3.39_02
    File::Temp               0.22    0.22   
    FreezeThaw               0.5001  0.5001 
    Hash::FieldHash          0.14    0.14   
    JSON                     2.59    2.59   
    overload                 0       1.18   
    parent                   0       0.225  
    Safe                     2.35    2.35   
    Scalar::Util             1.27    1.27   
    Storable                 2.39    2.39   
    strict                   0       1.07   
    Try::Tiny                0.12    0.12   
    vars                     0       1.02   
    warnings                 0       1.13   
    YAML::Tiny               1.51    1.51   

build_requires:

    Module                   Need    Have   
    ------------------------ ------- -------
    Config::Tiny             2.14    2.14   
    DBIx::Admin::CreateTable 2.07    2.07   
    Test::More               0.92    0.98   

configure_requires:

    Module                   Need    Have   
    ------------------------ ------- -------
    Module::Build            0.38    0.39_01


------------------------------
ENVIRONMENT AND OTHER CONTEXT
------------------------------

Environment variables:

    AUTOMATED_TESTING = 1
    LANG = C
    PATH = /home/danaj/perl5/perlbrew/bin:/home/danaj/perl5/perlbrew/perls/perl-5.16.2/bin:/usr/local/bin:/usr/bin:/bin:/usr/bin/X11:/usr/games
    PERL5LIB = /home/danaj/.cpan/build/JSON-2.59-SjB9Y0/blib/arch:/home/danaj/.cpan/build/JSON-2.59-SjB9Y0/blib/lib:/home/danaj/.cpan/build/DBIx-Admin-CreateTable-2.07-ptv6BJ/blib/arch:/home/danaj/.cpan/build/DBIx-Admin-CreateTable-2.07-ptv6BJ/blib/lib:/home/danaj/.cpan/build/Test-Pod-1.48-a4xRoF/blib/arch:/home/danaj/.cpan/build/Test-Pod-1.48-a4xRoF/blib/lib:/home/danaj/.cpan/build/Hash-FieldHash-0.14-JOUcfY/blib/arch:/home/danaj/.cpan/build/Hash-FieldHash-0.14-JOUcfY/blib/lib:/home/danaj/.cpan/build/Test-LeakTrace-0.14-7M5Yb4/blib/arch:/home/danaj/.cpan/build/Test-LeakTrace-0.14-7M5Yb4/blib/lib:/home/danaj/.cpan/build/Data-Dumper-2.145-AmTujO/blib/arch:/home/danaj/.cpan/build/Data-Dumper-2.145-AmTujO/blib/lib:/home/danaj/.cpan/build/FreezeThaw-0.5001-eGwfDX/blib/arch:/home/danaj/.cpan/build/FreezeThaw-0.5001-eGwfDX/blib/lib:/home/danaj/.cpan/build/YAML-Tiny-1.51-85pnHL/blib/arch:/home/danaj/.cpan/build/YAML-Tiny-1.51-85pnHL/blib/lib:/home/danaj/.cpan/build/DBI-1.627-ItnheD/blib/arch:/home/danaj/.cpan/build/DBI-1.627-ItnheD/blib/lib:/home/danaj/.cpan/build/Safe-2.35-bvSyUd/blib/arch:/home/danaj/.cpan/build/Safe-2.35-bvSyUd/blib/lib:/home/danaj/.cpan/build/autovivification-0.11-6FFguF/blib/arch:/home/danaj/.cpan/build/autovivification-0.11-6FFguF/blib/lib:/home/danaj/.cpan/build/Digest-SHA-5.84-x3L3dg/blib/arch:/home/danaj/.cpan/build/Digest-SHA-5.84-x3L3dg/blib/lib:/home/danaj/.cpan/build/CGI.pm-3.63-Bh1IUa/blib/arch:/home/danaj/.cpan/build/CGI.pm-3.63-Bh1IUa/blib/lib:/home/danaj/.cpan/build/FCGI-0.74-VJ2w_l/blib/arch:/home/danaj/.cpan/build/FCGI-0.74-VJ2w_l/blib/lib:/home/danaj/.cpan/build/DBD-SQLite-1.39-cgmcYe/blib/arch:/home/danaj/.cpan/build/DBD-SQLite-1.39-cgmcYe/blib/lib:/home/danaj/.cpan/build/Scalar-List-Utils-1.27-inyBek/blib/arch:/home/danaj/.cpan/build/Scalar-List-Utils-1.27-inyBek/blib/lib
    PERL5OPT = 
    PERL5_CPANPLUS_IS_RUNNING = 6207
    PERL5_CPAN_IS_RUNNING = 6207
    PERL5_CPAN_IS_RUNNING_IN_RECURSION = 22204,6207
    PERLBREW_BASHRC_VERSION = 0.58
    PERLBREW_HOME = /home/danaj/.perlbrew
    PERLBREW_MANPATH = /home/danaj/perl5/perlbrew/perls/perl-5.16.2/man
    PERLBREW_PATH = /home/danaj/perl5/perlbrew/bin:/home/danaj/perl5/perlbrew/perls/perl-5.16.2/bin
    PERLBREW_PERL = perl-5.16.2
    PERLBREW_ROOT = /home/danaj/perl5/perlbrew
    PERLBREW_VERSION = 0.58
    PERL_CR_SMOKER_CURRENT = Data-Session-1.15
    PERL_EXTUTILS_AUTOINSTALL = --defaultdeps
    PERL_LWP_SSL_VERIFY_HOSTNAME = 0
    PERL_MM_USE_DEFAULT = 1
    SHELL = /bin/bash
    TERM = xterm

Perl special variables (and OS-specific diagnostics, for MSWin32):

    $^X = /home/danaj/perl5/perlbrew/perls/perl-5.16.2/bin/perl
    $UID/$EUID = 10339 / 10339
    $GID = 10000 10000
    $EGID = 10000 10000

Perl module toolchain versions installed:

    Module              Have    
    ------------------- --------
    CPAN                2.00    
    CPAN::Meta          2.120630
    Cwd                 3.39_02 
    ExtUtils::CBuilder  0.280206
    ExtUtils::Command   1.17    
    ExtUtils::Install   1.58    
    ExtUtils::MakeMaker 6.63_02 
    ExtUtils::Manifest  1.61    
    ExtUtils::ParseXS   3.18    
    File::Spec          3.39_02 
    JSON                2.59    
    JSON::PP            2.27200 
    Module::Build       0.39_01 
    Module::Signature   n/a     
    Parse::CPAN::Meta   1.4402  
    Test::Harness       3.26    
    Test::More          0.98    
    YAML                0.84    
    YAML::Syck          1.24    
    version             0.9902  


--

Summary of my perl5 (revision 5 version 16 subversion 2) configuration:
   
  Platform:
    osname=linux, osvers=2.6.22.19, archname=parisc-linux
    uname='linux dingo 2.6.22.19 #10 smp tue mar 3 22:38:26 cet 2009 parisc gnulinux '
    config_args='-de -Dprefix=/home/danaj/perl5/perlbrew/perls/perl-5.16.2 -Aeval:scriptdir=/home/danaj/perl5/perlbrew/perls/perl-5.16.2/bin'
    hint=recommended, useposix=true, d_sigaction=define
    useithreads=undef, usemultiplicity=undef
    useperlio=define, d_sfio=undef, uselargefiles=define, usesocks=undef
    use64bitint=undef, use64bitall=undef, uselongdouble=undef
    usemymalloc=n, bincompat5005=undef
  Compiler:
    cc='cc', ccflags ='-fno-strict-aliasing -pipe -I/usr/local/include -D_LARGEFILE_SOURCE -D_FILE_OFFSET_BITS=64',
    optimize='-O2',
    cppflags='-fno-strict-aliasing -pipe -I/usr/local/include'
    ccversion='', gccversion='4.3.2', gccosandvers=''
    intsize=4, longsize=4, ptrsize=4, doublesize=8, byteorder=4321
    d_longlong=define, longlongsize=8, d_longdbl=define, longdblsize=8
    ivtype='long', ivsize=4, nvtype='double', nvsize=8, Off_t='off_t', lseeksize=8
    alignbytes=8, prototype=define
  Linker and Libraries:
    ld='cc', ldflags =' -L/usr/local/lib'
    libpth=/usr/local/lib /lib /usr/lib
    libs=-lnsl -ldb -ldl -lm -lcrypt -lutil -lc
    perllibs=-lnsl -ldl -lm -lcrypt -lutil -lc
    libc=/lib/libc-2.7.so, so=so, useshrplib=false, libperl=libperl.a
    gnulibc_version='2.7'
  Dynamic Linking:
    dlsrc=dl_dlopen.xs, dlext=so, d_dlsymun=undef, ccdlflags='-Wl,-E'
    cccdlflags='-fPIC', lddlflags='-shared -O2 -L/usr/local/lib'


Characteristics of this binary (from libperl): 
  Compile-time options: HAS_TIMES PERLIO_LAYERS PERL_DONT_CREATE_GVSV
                        PERL_MALLOC_WRAP PERL_PRESERVE_IVUV USE_LARGE_FILES
                        USE_LOCALE USE_LOCALE_COLLATE USE_LOCALE_CTYPE
                        USE_LOCALE_NUMERIC USE_PERLIO USE_PERL_ATOF
  Built under linux
  Compiled at Dec 22 2012 09:01:14
  %ENV:
    PERL5LIB="/home/danaj/.cpan/build/JSON-2.59-SjB9Y0/blib/arch:/home/danaj/.cpan/build/JSON-2.59-SjB9Y0/blib/lib:/home/danaj/.cpan/build/DBIx-Admin-CreateTable-2.07-ptv6BJ/blib/arch:/home/danaj/.cpan/build/DBIx-Admin-CreateTable-2.07-ptv6BJ/blib/lib:/home/danaj/.cpan/build/Test-Pod-1.48-a4xRoF/blib/arch:/home/danaj/.cpan/build/Test-Pod-1.48-a4xRoF/blib/lib:/home/danaj/.cpan/build/Hash-FieldHash-0.14-JOUcfY/blib/arch:/home/danaj/.cpan/build/Hash-FieldHash-0.14-JOUcfY/blib/lib:/home/danaj/.cpan/build/Test-LeakTrace-0.14-7M5Yb4/blib/arch:/home/danaj/.cpan/build/Test-LeakTrace-0.14-7M5Yb4/blib/lib:/home/danaj/.cpan/build/Data-Dumper-2.145-AmTujO/blib/arch:/home/danaj/.cpan/build/Data-Dumper-2.145-AmTujO/blib/lib:/home/danaj/.cpan/build/FreezeThaw-0.5001-eGwfDX/blib/arch:/home/danaj/.cpan/build/FreezeThaw-0.5001-eGwfDX/blib/lib:/home/danaj/.cpan/build/YAML-Tiny-1.51-85pnHL/blib/arch:/home/danaj/.cpan/build/YAML-Tiny-1.51-85pnHL/blib/lib:/home/danaj/.cpan/build/DBI-1.627-ItnheD/blib/arch:/home/danaj/.cpan/build/DBI-1.627-ItnheD/blib/lib:/home/danaj/.cpan/build/Safe-2.35-bvSyUd/blib/arch:/home/danaj/.cpan/build/Safe-2.35-bvSyUd/blib/lib:/home/danaj/.cpan/build/autovivification-0.11-6FFguF/blib/arch:/home/danaj/.cpan/build/autovivification-0.11-6FFguF/blib/lib:/home/danaj/.cpan/build/Digest-SHA-5.84-x3L3dg/blib/arch:/home/danaj/.cpan/build/Digest-SHA-5.84-x3L3dg/blib/lib:/home/danaj/.cpan/build/CGI.pm-3.63-Bh1IUa/blib/arch:/home/danaj/.cpan/build/CGI.pm-3.63-Bh1IUa/blib/lib:/home/danaj/.cpan/build/FCGI-0.74-VJ2w_l/blib/arch:/home/danaj/.cpan/build/FCGI-0.74-VJ2w_l/blib/lib:/home/danaj/.cpan/build/DBD-SQLite-1.39-cgmcYe/blib/arch:/home/danaj/.cpan/build/DBD-SQLite-1.39-cgmcYe/blib/lib:/home/danaj/.cpan/build/Scalar-List-Utils-1.27-inyBek/blib/arch:/home/danaj/.cpan/build/Scalar-List-Utils-1.27-inyBek/blib/lib"
    PERL5OPT=""
    PERL5_CPANPLUS_IS_RUNNING="6207"
    PERL5_CPAN_IS_RUNNING="6207"
    PERL5_CPAN_IS_RUNNING_IN_RECURSION="22204,6207"
    PERLBREW_BASHRC_VERSION="0.58"
    PERLBREW_HOME="/home/danaj/.perlbrew"
    PERLBREW_MANPATH="/home/danaj/perl5/perlbrew/perls/perl-5.16.2/man"
    PERLBREW_PATH="/home/danaj/perl5/perlbrew/bin:/home/danaj/perl5/perlbrew/perls/perl-5.16.2/bin"
    PERLBREW_PERL="perl-5.16.2"
    PERLBREW_ROOT="/home/danaj/perl5/perlbrew"
    PERLBREW_VERSION="0.58"
    PERL_CR_SMOKER_CURRENT="Data-Session-1.15"
    PERL_EXTUTILS_AUTOINSTALL="--defaultdeps"
    PERL_LWP_SSL_VERIFY_HOSTNAME="0"
    PERL_MM_USE_DEFAULT="1"
  @INC:
    /home/danaj/.cpan/build/JSON-2.59-SjB9Y0/blib/arch
    /home/danaj/.cpan/build/JSON-2.59-SjB9Y0/blib/lib
    /home/danaj/.cpan/build/DBIx-Admin-CreateTable-2.07-ptv6BJ/blib/arch
    /home/danaj/.cpan/build/DBIx-Admin-CreateTable-2.07-ptv6BJ/blib/lib
    /home/danaj/.cpan/build/Test-Pod-1.48-a4xRoF/blib/arch
    /home/danaj/.cpan/build/Test-Pod-1.48-a4xRoF/blib/lib
    /home/danaj/.cpan/build/Hash-FieldHash-0.14-JOUcfY/blib/arch
    /home/danaj/.cpan/build/Hash-FieldHash-0.14-JOUcfY/blib/lib
    /home/danaj/.cpan/build/Test-LeakTrace-0.14-7M5Yb4/blib/arch
    /home/danaj/.cpan/build/Test-LeakTrace-0.14-7M5Yb4/blib/lib
    /home/danaj/.cpan/build/Data-Dumper-2.145-AmTujO/blib/arch
    /home/danaj/.cpan/build/Data-Dumper-2.145-AmTujO/blib/lib
    /home/danaj/.cpan/build/FreezeThaw-0.5001-eGwfDX/blib/arch
    /home/danaj/.cpan/build/FreezeThaw-0.5001-eGwfDX/blib/lib
    /home/danaj/.cpan/build/YAML-Tiny-1.51-85pnHL/blib/arch
    /home/danaj/.cpan/build/YAML-Tiny-1.51-85pnHL/blib/lib
    /home/danaj/.cpan/build/DBI-1.627-ItnheD/blib/arch
    /home/danaj/.cpan/build/DBI-1.627-ItnheD/blib/lib
    /home/danaj/.cpan/build/Safe-2.35-bvSyUd/blib/arch
    /home/danaj/.cpan/build/Safe-2.35-bvSyUd/blib/lib
    /home/danaj/.cpan/build/autovivification-0.11-6FFguF/blib/arch
    /home/danaj/.cpan/build/autovivification-0.11-6FFguF/blib/lib
    /home/danaj/.cpan/build/Digest-SHA-5.84-x3L3dg/blib/arch
    /home/danaj/.cpan/build/Digest-SHA-5.84-x3L3dg/blib/lib
    /home/danaj/.cpan/build/CGI.pm-3.63-Bh1IUa/blib/arch
    /home/danaj/.cpan/build/CGI.pm-3.63-Bh1IUa/blib/lib
    /home/danaj/.cpan/build/FCGI-0.74-VJ2w_l/blib/arch
    /home/danaj/.cpan/build/FCGI-0.74-VJ2w_l/blib/lib
    /home/danaj/.cpan/build/DBD-SQLite-1.39-cgmcYe/blib/arch
    /home/danaj/.cpan/build/DBD-SQLite-1.39-cgmcYe/blib/lib
    /home/danaj/.cpan/build/Scalar-List-Utils-1.27-inyBek/blib/arch
    /home/danaj/.cpan/build/Scalar-List-Utils-1.27-inyBek/blib/lib
    /home/danaj/perl5/perlbrew/perls/perl-5.16.2/lib/site_perl/5.16.2/parisc-linux
    /home/danaj/perl5/perlbrew/perls/perl-5.16.2/lib/site_perl/5.16.2
    /home/danaj/perl5/perlbrew/perls/perl-5.16.2/lib/5.16.2/parisc-linux
    /home/danaj/perl5/perlbrew/perls/perl-5.16.2/lib/5.16.2
    .