Report for POE-Component-SSLify-1.008

Back
From: metabase:user:322078bc-2aae-11df-837a-5e0a49663a4f
Subject: PASS POE-Component-SSLify-1.008 v5.14.0 GNU/Linux
Date: 2011-05-16T12:46:47Z

This distribution has been tested as part of the CPAN Testers
project, supporting the Perl programming language.  See
http://wiki.cpantesters.org/ for more information or email
questions to cpan-testers-discuss@perl.org


--

Dear APOCAL,

This is a computer-generated error report created automatically by
CPANPLUS, version 0.9105. Testers personal comments may appear
at the end of this report.

MAKE TEST passed:
t/00-compile.t ................ ok
# 
# 
# Generated by Dist::Zilla::Plugin::ReportVersions::Tiny v1.03
# perl: v5.14.0 (wanted 5.006) on linux from /opt/perl-5.14.0/bin/perl
# 
# Exporter                                      => 5.64_03    (want any version)
# File::Find                                    => 1.19       (want any version)
# File::Temp                                    => 0.22       (want any version)
# IO::Handle                                    => 1.31       (want 1.28)   
# Module::Build                                 => 0.38       (want 0.3601) 
# Net::SSLeay                                   => 1.36       (want 1.36)   
# POE                                           => 1.311      (want 1.267)  
# POE::Component::Client::TCP                   => 1.311      (want any version)
# POE::Component::Server::TCP                   => 1.311      (want any version)
# Scalar::Util                                  => 1.23       (want any version)
# Socket                                        => 1.94       (want any version)
# Symbol                                        => 1.07       (want any version)
# Task::Weaken                                  => 1.04       (want 1.03)   
# Test::More                                    => 0.98       (want 0.88)   
# parent                                        => 0.225      (want any version)
# 
# Thanks for using my code.  I hope it works for you.
# If not, please try and include this output in the bug report.
# That will help me reproduce the issue and solve your problem.
# 
t/000-report-versions-tiny.t .. ok
t/1_simple.t .................. ok
t/2_renegotiate_client.t ...... ok
t/3_upgrade.t ................. ok
t/4_connect_hook.t ............ ok
t/5_connfail_client.t ......... ok
t/6_connfail_server.t ......... ok
t/7_connect_hook_nodata.t ..... ok
t/8_renegotiate_server.t ...... ok
t/98_renegotiate.t ............ skipped: AUTHOR TEST
t/99_mire_test.t .............. skipped: AUTHOR TEST
t/apocalypse.t ................ skipped: Test::Apocalypse required for validating the distribution
All tests successful.
Files=13, Tests=131,  3 wallclock secs ( 0.12 usr  0.02 sys +  2.96 cusr  0.37 csys =  3.47 CPU)
Result: PASS

[MSG] [Mon May 16 13:46:46 2011] Sending test report for 'POE-Component-SSLify-1.008'

This report was machine-generated by CPANPLUS::Dist::YACSmoke 0.62.

------------------------------
ENVIRONMENT AND OTHER CONTEXT
------------------------------

Environment variables:

    AUTOMATED_TESTING = 1
    LANG = en_GB.UTF-8
    PATH = /usr/local/sbin:/usr/local/bin:/usr/sbin:/usr/bin:/sbin:/bin
    PERL5LIB = :/opt/perl-5.14.0/.cpanplus/5.14.0/build/POE-Component-SSLify-1.008/blib/lib:/opt/perl-5.14.0/.cpanplus/5.14.0/build/POE-Component-SSLify-1.008/blib/arch
    PERL5_CPANPLUS_IS_RUNNING = 14347
    PERL5_CPANPLUS_IS_VERSION = 0.9105
    PERL_EXTUTILS_AUTOINSTALL = --defaultdeps
    PERL_MM_USE_DEFAULT = 1
    SHELL = /bin/bash
    TERM = screen

Perl special variables (and OS-specific diagnostics, for MSWin32):

    Perl: $^X = /opt/perl-5.14.0/bin/perl
    UID:  $<  = 0
    EUID: $>  = 0
    GID:  $(  = 0 0
    EGID: $)  = 0 0


-------------------------------


--

Summary of my perl5 (revision 5 version 14 subversion 0) configuration:
   
  Platform:
    osname=linux, osvers=2.6.32-24-generic-pae, archname=i686-linux
    uname='linux scc507 2.6.32-24-generic-pae #43-ubuntu smp thu sep 16 15:30:27 utc 2010 i686 gnulinux '
    config_args='-des -Dprefix=/opt/perl-5.14.0'
    hint=recommended, useposix=true, d_sigaction=define
    useithreads=undef, usemultiplicity=undef
    useperlio=define, d_sfio=undef, uselargefiles=define, usesocks=undef
    use64bitint=undef, use64bitall=undef, uselongdouble=undef
    usemymalloc=n, bincompat5005=undef
  Compiler:
    cc='cc', ccflags ='-fno-strict-aliasing -pipe -fstack-protector -I/usr/local/include -D_LARGEFILE_SOURCE -D_FILE_OFFSET_BITS=64',
    optimize='-O2',
    cppflags='-fno-strict-aliasing -pipe -fstack-protector -I/usr/local/include'
    ccversion='', gccversion='4.4.3', gccosandvers=''
    intsize=4, longsize=4, ptrsize=4, doublesize=8, byteorder=1234
    d_longlong=define, longlongsize=8, d_longdbl=define, longdblsize=12
    ivtype='long', ivsize=4, nvtype='double', nvsize=8, Off_t='off_t', lseeksize=8
    alignbytes=4, prototype=define
  Linker and Libraries:
    ld='cc', ldflags =' -fstack-protector -L/usr/local/lib'
    libpth=/usr/local/lib /lib/../lib /usr/lib/../lib /lib /usr/lib /usr/lib64
    libs=-lnsl -ldl -lm -lcrypt -lutil -lc
    perllibs=-lnsl -ldl -lm -lcrypt -lutil -lc
    libc=/lib/libc-2.11.1.so, so=so, useshrplib=false, libperl=libperl.a
    gnulibc_version='2.11.1'
  Dynamic Linking:
    dlsrc=dl_dlopen.xs, dlext=so, d_dlsymun=undef, ccdlflags='-Wl,-E'
    cccdlflags='-fPIC', lddlflags='-shared -O2 -L/usr/local/lib -fstack-protector'


Characteristics of this binary (from libperl): 
  Compile-time options: PERL_DONT_CREATE_GVSV PERL_MALLOC_WRAP
                        PERL_PRESERVE_IVUV USE_LARGE_FILES USE_PERLIO
                        USE_PERL_ATOF
  Built under linux
  Compiled at May 16 2011 12:49:23
  %ENV:
    PERL5LIB=":/opt/perl-5.14.0/.cpanplus/5.14.0/build/POE-Component-SSLify-1.008/blib/lib:/opt/perl-5.14.0/.cpanplus/5.14.0/build/POE-Component-SSLify-1.008/blib/arch"
    PERL5_CPANPLUS_IS_RUNNING="14347"
    PERL5_CPANPLUS_IS_VERSION="0.9105"
    PERL_EXTUTILS_AUTOINSTALL="--defaultdeps"
    PERL_MM_USE_DEFAULT="1"
  @INC:
    /opt/perl-5.14.0/.cpanplus/5.14.0/build/POE-Component-SSLify-1.008/blib/lib
    /opt/perl-5.14.0/.cpanplus/5.14.0/build/POE-Component-SSLify-1.008/blib/arch
    /opt/perl-5.14.0/lib/site_perl/5.14.0/i686-linux
    /opt/perl-5.14.0/lib/site_perl/5.14.0
    /opt/perl-5.14.0/lib/5.14.0/i686-linux
    /opt/perl-5.14.0/lib/5.14.0
    .