Back
From: metabase:user:30977d10-2aae-11df-837a-5e0a49663a4f
Subject: PASS HTML-Widgets-Index-0.61 v5.8.9 GNU/Linux
Date: 2011-08-05T11:25:02Z
This distribution has been tested as part of the CPAN Testers
project, supporting the Perl programming language. See
http://wiki.cpantesters.org/ for more information or email
questions to cpan-testers-discuss@perl.org
--
Dear Francesc Guasch,
This is a computer-generated report for HTML-Widgets-Index-0.61
on perl 5.8.9, created by CPAN-Reporter-1.1902.
Thank you for uploading your work to CPAN. Congratulations!
All tests were successful.
Sections of this report:
* Tester comments
* Program output
* Prerequisites
* Environment and other context
------------------------------
TESTER COMMENTS
------------------------------
Additional comments from tester:
this report is from an automated smoke testing program
and was not reviewed by a human for accuracy
------------------------------
PROGRAM OUTPUT
------------------------------
Output from '/usr/bin/make test':
make[1]: Entering directory `/home/trushel/cpan/build/5.8.9/HTML-Widgets-Index-0.61-Hnz1Cs/Format'
make[2]: Entering directory `/home/trushel/cpan/build/5.8.9/HTML-Widgets-Index-0.61-Hnz1Cs/Format/Item'
make[2]: Leaving directory `/home/trushel/cpan/build/5.8.9/HTML-Widgets-Index-0.61-Hnz1Cs/Format/Item'
make[1]: Leaving directory `/home/trushel/cpan/build/5.8.9/HTML-Widgets-Index-0.61-Hnz1Cs/Format'
make[1]: Entering directory `/home/trushel/cpan/build/5.8.9/HTML-Widgets-Index-0.61-Hnz1Cs/Item'
make[1]: Leaving directory `/home/trushel/cpan/build/5.8.9/HTML-Widgets-Index-0.61-Hnz1Cs/Item'
make[1]: Entering directory `/home/trushel/cpan/build/5.8.9/HTML-Widgets-Index-0.61-Hnz1Cs/Javascript'
make[1]: Leaving directory `/home/trushel/cpan/build/5.8.9/HTML-Widgets-Index-0.61-Hnz1Cs/Javascript'
PERL_DL_NONLAZY=1 /home/trushel/perl/perl589/bin/perl "-MExtUtils::Command::MM" "-e" "test_harness(0, 'blib/lib', 'blib/arch')" t/*.t
t/00_base.t ............. ok
DBI connect('test','',...) failed: Can't connect to local MySQL server through socket '/var/run/mysqld/mysqld.sock' (2) at t/10_minim_mysql.t line 30
t/10_minim_mysql.t ...... skipped: (no reason given)
t/20_table_format.t ..... skipped: (no reason given)
t/25_table_js.t ......... skipped: (no reason given)
t/30_teleco.t ........... skipped: (no reason given)
t/32_teleco_children.t .. skipped: (no reason given)
t/35_teleco_js.t ........ skipped: (no reason given)
t/40_auth.t ............. skipped: (no reason given)
t/50_picoxova.t ......... skipped: TODO test #2
t/60_minixova.t ......... skipped: (no reason given)
t/70_nephews.t .......... skipped: TODO
t/99_clean.t ............ skipped: (no reason given)
All tests successful.
Files=12, Tests=1, 1 wallclock secs ( 0.04 usr 0.02 sys + 0.51 cusr 0.10 csys = 0.67 CPU)
Result: PASS
make[1]: Entering directory `/home/trushel/cpan/build/5.8.9/HTML-Widgets-Index-0.61-Hnz1Cs/Format'
make[2]: Entering directory `/home/trushel/cpan/build/5.8.9/HTML-Widgets-Index-0.61-Hnz1Cs/Format/Item'
make[2]: Leaving directory `/home/trushel/cpan/build/5.8.9/HTML-Widgets-Index-0.61-Hnz1Cs/Format/Item'
PERL_DL_NONLAZY=1 /home/trushel/perl/perl589/bin/perl "-MExtUtils::Command::MM" "-e" "test_harness(0, '../blib/lib', '../blib/arch')" t/*.t
t/00_base.t .. ok
All tests successful.
Files=1, Tests=1, 0 wallclock secs ( 0.02 usr 0.00 sys + 0.01 cusr 0.02 csys = 0.05 CPU)
Result: PASS
PERL_DL_NONLAZY=1 /home/trushel/perl/perl589/bin/perl "-I../blib/lib" "-I../blib/arch" test.pl
1..1
# Running under perl version 5.008009 for linux
# Current time local: Fri Aug 5 04:21:06 2011
# Current time GMT: Fri Aug 5 11:21:06 2011
# Using Test.pm version 1.25_02
ok 1
make[2]: Entering directory `/home/trushel/cpan/build/5.8.9/HTML-Widgets-Index-0.61-Hnz1Cs/Format/Item'
PERL_DL_NONLAZY=1 /home/trushel/perl/perl589/bin/perl "-MExtUtils::Command::MM" "-e" "test_harness(0, '../../blib/lib', '../../blib/arch')" t/*.t
t/00_base.t .. ok
All tests successful.
Files=1, Tests=1, 0 wallclock secs ( 0.02 usr 0.00 sys + 0.01 cusr 0.01 csys = 0.04 CPU)
Result: PASS
PERL_DL_NONLAZY=1 /home/trushel/perl/perl589/bin/perl "-I../../blib/lib" "-I../../blib/arch" test.pl
1..1
# Running under perl version 5.008009 for linux
# Current time local: Fri Aug 5 04:21:06 2011
# Current time GMT: Fri Aug 5 11:21:06 2011
# Using Test.pm version 1.25_02
ok 1
make[2]: Leaving directory `/home/trushel/cpan/build/5.8.9/HTML-Widgets-Index-0.61-Hnz1Cs/Format/Item'
make[1]: Leaving directory `/home/trushel/cpan/build/5.8.9/HTML-Widgets-Index-0.61-Hnz1Cs/Format'
make[1]: Entering directory `/home/trushel/cpan/build/5.8.9/HTML-Widgets-Index-0.61-Hnz1Cs/Item'
PERL_DL_NONLAZY=1 /home/trushel/perl/perl589/bin/perl "-MExtUtils::Command::MM" "-e" "test_harness(0, '../blib/lib', '../blib/arch')" t/*.t
t/00_base.t .. ok
All tests successful.
Files=1, Tests=2, 0 wallclock secs ( 0.01 usr 0.01 sys + 0.02 cusr 0.00 csys = 0.04 CPU)
Result: PASS
make[1]: Leaving directory `/home/trushel/cpan/build/5.8.9/HTML-Widgets-Index-0.61-Hnz1Cs/Item'
make[1]: Entering directory `/home/trushel/cpan/build/5.8.9/HTML-Widgets-Index-0.61-Hnz1Cs/Javascript'
PERL_DL_NONLAZY=1 /home/trushel/perl/perl589/bin/perl "-MExtUtils::Command::MM" "-e" "test_harness(0, '../blib/lib', '../blib/arch')" t/*.t
t/00_base.t .. ok
All tests successful.
Files=1, Tests=1, 0 wallclock secs ( 0.00 usr 0.02 sys + 0.01 cusr 0.01 csys = 0.04 CPU)
Result: PASS
PERL_DL_NONLAZY=1 /home/trushel/perl/perl589/bin/perl "-I../blib/lib" "-I../blib/arch" test.pl
1..1
ok 1
make[1]: Leaving directory `/home/trushel/cpan/build/5.8.9/HTML-Widgets-Index-0.61-Hnz1Cs/Javascript'
------------------------------
PREREQUISITES
------------------------------
Prerequisite modules loaded:
requires:
Module Need Have
------------------- ---- -----
DBD::mysql 0.01 4.019
HTTP::BrowserDetect 0.97 1.26
build_requires:
Module Need Have
------------------- ---- -----
ExtUtils::MakeMaker 0 6.58
configure_requires:
Module Need Have
------------------- ---- -----
ExtUtils::MakeMaker 0 6.58
------------------------------
ENVIRONMENT AND OTHER CONTEXT
------------------------------
Environment variables:
AUTOMATED_TESTING = 1
LANG = en_US.UTF-8
LANGUAGE = en
LC_COLLATE = C
LC_MONETARY = C
LC_NUMERIC = C
LC_TIME = C
PATH = /usr/local/sbin:/usr/local/bin:/usr/sbin:/usr/bin:/sbin:/bin
PERL5LIB =
PERL5OPT =
PERL5_CPANPLUS_IS_RUNNING = 28129
PERL5_CPAN_IS_RUNNING = 28129
PERL5_CPAN_IS_RUNNING_IN_RECURSION = 2491,28129
PERL_CR_SMOKER_CURRENT = HTML-Widgets-Index-0.61
PERL_EXTUTILS_AUTOINSTALL = --defaultdeps
PERL_MM_USE_DEFAULT = 1
SHELL = /bin/bash
TERM = xterm
Perl special variables (and OS-specific diagnostics, for MSWin32):
$^X = /home/trushel/perl/perl589/bin/perl
$UID/$EUID = 138375 / 138375
$GID = 5762 4 20 21 24 25 26 30 44 46 104 105 119 122 431 5762
$EGID = 5762 4 20 21 24 25 26 30 44 46 104 105 119 122 431 5762
Perl module toolchain versions installed:
Module Have
------------------- --------
CPAN 1.97_51
Cwd 3.33
ExtUtils::CBuilder 0.280202
ExtUtils::Command 1.16
ExtUtils::Install 1.54
ExtUtils::MakeMaker 6.58
ExtUtils::Manifest 1.58
ExtUtils::ParseXS 2.2206
File::Spec 3.33
Module::Build 0.3800
Module::Signature n/a
Test::Harness 3.23
Test::More 0.98
YAML 0.73
YAML::Syck 1.17
version 0.93
--
Summary of my perl5 (revision 5 version 8 subversion 9) configuration:
Platform:
osname=linux, osvers=2.6.32-33-generic, archname=x86_64-linux
uname='linux trushel-glaptop 2.6.32-33-generic #70-ubuntu smp thu jul 7 21:13:52 utc 2011 x86_64 gnulinux '
config_args=''
hint=recommended, useposix=true, d_sigaction=define
usethreads=undef use5005threads=undef useithreads=undef usemultiplicity=undef
useperlio=define d_sfio=undef uselargefiles=define usesocks=undef
use64bitint=define use64bitall=define uselongdouble=undef
usemymalloc=n, bincompat5005=undef
Compiler:
cc='cc', ccflags ='-fno-strict-aliasing -pipe -I/usr/local/include -D_LARGEFILE_SOURCE -D_FILE_OFFSET_BITS=64',
optimize='-O2',
cppflags='-fno-strict-aliasing -pipe -I/usr/local/include'
ccversion='', gccversion='4.4.3', gccosandvers=''
intsize=4, longsize=8, ptrsize=8, doublesize=8, byteorder=12345678
d_longlong=define, longlongsize=8, d_longdbl=define, longdblsize=16
ivtype='long', ivsize=8, nvtype='double', nvsize=8, Off_t='off_t', lseeksize=8
alignbytes=8, prototype=define
Linker and Libraries:
ld='cc', ldflags =' -L/usr/local/lib'
libpth=/usr/local/lib /lib /usr/lib /lib64 /usr/lib64
libs=-lnsl -ldb -ldl -lm -lcrypt -lutil -lc
perllibs=-lnsl -ldl -lm -lcrypt -lutil -lc
libc=/lib/libc-2.11.1.so, so=so, useshrplib=false, libperl=libperl.a
gnulibc_version='2.11.1'
Dynamic Linking:
dlsrc=dl_dlopen.xs, dlext=so, d_dlsymun=undef, ccdlflags='-Wl,-E'
cccdlflags='-fPIC', lddlflags='-shared -O2 -L/usr/local/lib'
Characteristics of this binary (from libperl):
Compile-time options: PERL_MALLOC_WRAP USE_64_BIT_ALL USE_64_BIT_INT
USE_FAST_STDIO USE_LARGE_FILES USE_PERLIO
Built under linux
Compiled at Aug 1 2011 06:12:45
%ENV:
PERL5LIB=""
PERL5OPT=""
PERL5_CPANPLUS_IS_RUNNING="28129"
PERL5_CPAN_IS_RUNNING="28129"
PERL5_CPAN_IS_RUNNING_IN_RECURSION="2491,28129"
PERL_CR_SMOKER_CURRENT="HTML-Widgets-Index-0.61"
PERL_EXTUTILS_AUTOINSTALL="--defaultdeps"
PERL_MM_USE_DEFAULT="1"
@INC:
/home/trushel/perl/perl589/lib/5.8.9/x86_64-linux
/home/trushel/perl/perl589/lib/5.8.9
/home/trushel/perl/perl589/lib/site_perl/5.8.9/x86_64-linux
/home/trushel/perl/perl589/lib/site_perl/5.8.9
.