Report for MooseX-Getopt-Defanged-v1.18.0

Back
From: metabase:user:320bfe00-2aae-11df-837a-5e0a49663a4f
Subject: PASS MooseX-Getopt-Defanged-v1.18.0 v5.22.2 Windows (Cygwin)
Date: 2016-09-18T08:02:15Z

This distribution has been tested as part of the CPAN Testers
project, supporting the Perl programming language.  See
http://wiki.cpantesters.org/ for more information or email
questions to cpan-testers-discuss@perl.org


--
Dear Elliot Shank,

This is a computer-generated report for MooseX-Getopt-Defanged-v1.18.0
on perl 5.22.2, created by CPAN-Reporter-1.2018.

Thank you for uploading your work to CPAN.  Congratulations!
All tests were successful.

Sections of this report:

    * Tester comments
    * Program output
    * Prerequisites
    * Environment and other context

------------------------------
TESTER COMMENTS
------------------------------

Additional comments from tester:

none provided

------------------------------
PROGRAM OUTPUT
------------------------------

Output from './Build test':

Passing a list of values to enum is deprecated. Enum values should be wrapped in an arrayref. at /usr/lib/perl5/site_perl/5.22/Test/Compile/Internal.pm line 197.
	eval ' 
#line 197 "/usr/lib/perl5/site_perl/5.22/Test/Compile/Internal.pm"
CORE::require($file); 
' called at /usr/lib/perl5/site_perl/5.22/UNIVERSAL/require.pm line 99
	UNIVERSAL::require("MooseX::Getopt::Defanged::Meta::Attribute::Trait::_Getopt") called at /usr/lib/perl5/site_perl/5.22/Test/Compile/Internal.pm line 197
	Test::Compile::Internal::__ANON__() called at /usr/lib/perl5/site_perl/5.22/Test/Compile/Internal.pm line 316
	Test::Compile::Internal::_run_subprocess(Test::Compile::Internal=HASH(0x60055a788), CODE(0x6005ea2a0)) called at /usr/lib/perl5/site_perl/5.22/Test/Compile/Internal.pm line 208
	Test::Compile::Internal::pm_file_compiles(Test::Compile::Internal=HASH(0x60055a788), "blib/lib/MooseX/Getopt/Defanged/Meta/Attribute/Trait/_Getopt.pm") called at /usr/lib/perl5/site_perl/5.22/Test/Compile.pm line 280
	Test::Compile::pm_file_ok("blib/lib/MooseX/Getopt/Defanged/Meta/Attribute/Trait/_Getopt.pm") called at /usr/lib/perl5/site_perl/5.22/Test/Compile.pm line 222
	Test::Compile::all_pm_files_ok() called at t/00-use-ok.t line 15
t/00-use-ok.t ..................... ok
Passing a list of values to enum is deprecated. Enum values should be wrapped in an arrayref. at /usr/lib/perl5/vendor_perl/5.22/Module/Runtime.pm line 317.
	Module::Runtime::require_module("MooseX::Getopt::Defanged::Meta::Attribute::Trait::_Getopt") called at /usr/lib/perl5/vendor_perl/5.22/Module/Runtime.pm line 381
	eval {...} called at /usr/lib/perl5/vendor_perl/5.22/Module/Runtime.pm line 381
	Module::Runtime::use_package_optimistically("MooseX::Getopt::Defanged::Meta::Attribute::Trait::_Getopt") called at /usr/lib/perl5/site_perl/5.22/x86_64-cygwin-threads/Moose/Util.pm line 239
	Moose::Util::resolve_metaclass_alias("Attribute", "MooseX::Getopt::Defanged::Meta::Attribute::Trait::_Getopt", "trait", 1) called at /usr/lib/perl5/site_perl/5.22/x86_64-cygwin-threads/Moose/Util.pm line 211
	Moose::Util::resolve_metatrait_alias("Attribute", "MooseX::Getopt::Defanged::Meta::Attribute::Trait::_Getopt") called at /usr/lib/perl5/site_perl/5.22/x86_64-cygwin-threads/Moose/Meta/Attribute.pm line 38
	Moose::Meta::Attribute::try {...} () called at /usr/lib/perl5/site_perl/5.22/Try/Tiny.pm line 101
	eval {...} called at /usr/lib/perl5/site_perl/5.22/Try/Tiny.pm line 94
	Try::Tiny::try(CODE(0x601bf5f20)) called at /usr/lib/perl5/site_perl/5.22/x86_64-cygwin-threads/Moose/Meta/Attribute.pm line 39
	Moose::Meta::Attribute::does(Moose::Meta::Attribute=HASH(0x601bf09b0), "MooseX::Getopt::Defanged::Meta::Attribute::Trait::_Getopt") called at /cygdrive/c/Users/k/.cpan/build/MooseX-Getopt-Defanged-v1.18.0-0/blib/lib/MooseX/Getopt/Defanged.pm line 63
	MooseX::Getopt::Defanged::_getopt_get_option_attributes(MooseX::Getopt::Defanged::MinimalConsumer=HASH(0x601bf06e0)) called at /cygdrive/c/Users/k/.cpan/build/MooseX-Getopt-Defanged-v1.18.0-0/blib/lib/MooseX/Getopt/Defanged.pm line 95
	MooseX::Getopt::Defanged::_getopt_invoke_getopt_long(MooseX::Getopt::Defanged::MinimalConsumer=HASH(0x601bf06e0), ARRAY(0x601be1f90)) called at /cygdrive/c/Users/k/.cpan/build/MooseX-Getopt-Defanged-v1.18.0-0/blib/lib/MooseX/Getopt/Defanged.pm line 48
	MooseX::Getopt::Defanged::parse_command_line(MooseX::Getopt::Defanged::MinimalConsumer=HASH(0x601bf06e0), ARRAY(0x601be1f90)) called at t/getopt.t line 149
	MooseX::Getopt::Defanged::Test::test_3_can_parse_command_line_for_minimal_consumer(MooseX::Getopt::Defanged::Test=HASH(0x601baadd8)) called at /usr/lib/perl5/site_perl/5.22/Test/Class.pm line 293
	Test::Class::try {...} () called at /usr/lib/perl5/site_perl/5.22/Try/Tiny.pm line 101
	eval {...} called at /usr/lib/perl5/site_perl/5.22/Try/Tiny.pm line 94
	Try::Tiny::try(CODE(0x601bf2e38), Try::Tiny::Catch=REF(0x601bf5e78)) called at /usr/lib/perl5/site_perl/5.22/Test/Class.pm line 293
	Test::Class::_run_method(MooseX::Getopt::Defanged::Test=HASH(0x601baadd8), "test_3_can_parse_command_line_for_minimal_consumer", ARRAY(0x60069f8c8)) called at /usr/lib/perl5/site_perl/5.22/Test/Class.pm line 395
	Test::Class::runtests("MooseX::Getopt::Defanged::Test") called at t/getopt.t line 113
t/getopt.t ........................ ok
Passing a list of values to enum is deprecated. Enum values should be wrapped in an arrayref. at /usr/lib/perl5/vendor_perl/5.22/Module/Runtime.pm line 317.
	Module::Runtime::require_module("MooseX::Getopt::Defanged::Meta::Attribute::Trait::_Getopt") called at /usr/lib/perl5/vendor_perl/5.22/Module/Runtime.pm line 381
	eval {...} called at /usr/lib/perl5/vendor_perl/5.22/Module/Runtime.pm line 381
	Module::Runtime::use_package_optimistically("MooseX::Getopt::Defanged::Meta::Attribute::Trait::_Getopt") called at /usr/lib/perl5/site_perl/5.22/x86_64-cygwin-threads/Moose/Util.pm line 239
	Moose::Util::resolve_metaclass_alias("Attribute", "MooseX::Getopt::Defanged::Meta::Attribute::Trait::_Getopt", "trait", 1) called at /usr/lib/perl5/site_perl/5.22/x86_64-cygwin-threads/Moose/Util.pm line 211
	Moose::Util::resolve_metatrait_alias("Attribute", "MooseX::Getopt::Defanged::Meta::Attribute::Trait::_Getopt") called at /usr/lib/perl5/site_perl/5.22/x86_64-cygwin-threads/Moose/Meta/Attribute.pm line 38
	Moose::Meta::Attribute::try {...} () called at /usr/lib/perl5/site_perl/5.22/Try/Tiny.pm line 101
	eval {...} called at /usr/lib/perl5/site_perl/5.22/Try/Tiny.pm line 94
	Try::Tiny::try(CODE(0x601a60878)) called at /usr/lib/perl5/site_perl/5.22/x86_64-cygwin-threads/Moose/Meta/Attribute.pm line 39
	Moose::Meta::Attribute::does("Moose::Meta::Attribute", "MooseX::Getopt::Defanged::Meta::Attribute::Trait::_Getopt") called at /usr/lib/perl5/site_perl/5.22/x86_64-cygwin-threads/Moose/Meta/Attribute.pm line 132
	Moose::Meta::Attribute::interpolate_class("Moose::Meta::Attribute", HASH(0x600e956e0)) called at /usr/lib/perl5/site_perl/5.22/x86_64-cygwin-threads/Moose/Meta/Attribute.pm line 98
	Moose::Meta::Attribute::interpolate_class_and_new("Moose::Meta::Attribute", "test3", "definition_context", HASH(0x6015800d0), "traits", ARRAY(0x6013cad60), "is", "ro", ...) called at /usr/lib/perl5/site_perl/5.22/x86_64-cygwin-threads/Moose/Meta/Class.pm line 711
	Moose::Meta::Class::_process_new_attribute(Moose::Meta::Class=HASH(0x600638470), "test3", "definition_context", HASH(0x6015800d0), "traits", ARRAY(0x6013cad60), "is", "ro", ...) called at /usr/lib/perl5/site_perl/5.22/x86_64-cygwin-threads/Moose/Meta/Class.pm line 704
	Moose::Meta::Class::_process_attribute(Moose::Meta::Class=HASH(0x600638470), "test3", "definition_context", HASH(0x6015800d0), "traits", ARRAY(0x6013cad60), "is", "ro", ...) called at /usr/lib/perl5/site_perl/5.22/x86_64-cygwin-threads/Moose/Meta/Class.pm line 568
	Moose::Meta::Class::add_attribute(Moose::Meta::Class=HASH(0x600638470), "test3", "definition_context", HASH(0x6015800d0), "traits", ARRAY(0x6013cad60), "is", "ro", ...) called at /usr/lib/perl5/site_perl/5.22/x86_64-cygwin-threads/Moose.pm line 74
	Moose::has(Moose::Meta::Class=HASH(0x600638470), "test3", "traits", ARRAY(0x6013cad60), "is", "ro", "isa", "Str") called at /usr/lib/perl5/site_perl/5.22/x86_64-cygwin-threads/Moose/Exporter.pm line 419
	Moose::has("test3", "traits", ARRAY(0x6013cad60), "is", "ro", "isa", "Str") called at t/inheritance.d/lib/MooseX/Getopt/Defanged/BaseClass.pm line 13
	require MooseX/Getopt/Defanged/BaseClass.pm called at /usr/lib/perl5/vendor_perl/5.22/Module/Runtime.pm line 317
	Module::Runtime::require_module("MooseX::Getopt::Defanged::BaseClass") called at /usr/lib/perl5/vendor_perl/5.22/Module/Runtime.pm line 381
	eval {...} called at /usr/lib/perl5/vendor_perl/5.22/Module/Runtime.pm line 381
	Module::Runtime::use_package_optimistically("MooseX::Getopt::Defanged::BaseClass") called at /usr/lib/perl5/site_perl/5.22/x86_64-cygwin-threads/Moose/Util.pm line 352
	Moose::Util::_load_user_class("MooseX::Getopt::Defanged::BaseClass", undef) called at /usr/lib/perl5/site_perl/5.22/x86_64-cygwin-threads/Moose/Meta/Class.pm line 556
	Moose::Meta::Class::superclasses(undef, "MooseX::Getopt::Defanged::BaseClass") called at /usr/lib/perl5/site_perl/5.22/x86_64-cygwin-threads/Moose.pm line 53
	Moose::extends(Moose::Meta::Class=HASH(0x6012415a8), "MooseX::Getopt::Defanged::BaseClass") called at /usr/lib/perl5/site_perl/5.22/x86_64-cygwin-threads/Moose/Exporter.pm line 419
	Moose::extends("MooseX::Getopt::Defanged::BaseClass") called at t/inheritance.d/lib/MooseX/Getopt/Defanged/SubClass.pm line 11
	require MooseX/Getopt/Defanged/SubClass.pm called at t/inheritance.t line 22
	main::BEGIN() called at /cygdrive/c/Users/k/.cpan/build/MooseX-Getopt-Defanged-v1.18.0-0/blib/lib/MooseX/Getopt/Defanged/Meta/Attribute/Trait/_Getopt.pm line 0
	eval {...} called at /cygdrive/c/Users/k/.cpan/build/MooseX-Getopt-Defanged-v1.18.0-0/blib/lib/MooseX/Getopt/Defanged/Meta/Attribute/Trait/_Getopt.pm line 0
t/inheritance.t ................... ok
Passing a list of values to enum is deprecated. Enum values should be wrapped in an arrayref. at /cygdrive/c/Users/k/.cpan/build/MooseX-Getopt-Defanged-v1.18.0-0/blib/lib/MooseX/Getopt/Defanged/Meta/Attribute/Trait/_Getopt.pm line 0.
	eval {...} called at /cygdrive/c/Users/k/.cpan/build/MooseX-Getopt-Defanged-v1.18.0-0/blib/lib/MooseX/Getopt/Defanged/Meta/Attribute/Trait/_Getopt.pm line 0
t/meta-attribute-trait-_getopt.t .. ok
All tests successful.
Files=4, Tests=380,  5 wallclock secs ( 0.03 usr  0.05 sys +  3.31 cusr  1.48 csys =  4.86 CPU)
Result: PASS

------------------------------
PREREQUISITES
------------------------------

Prerequisite modules loaded:

requires:

    Module                              Need Have    
    ----------------------------------- ---- --------
    autodie                             0    2.26    
    English                             0    1.09    
    Exception::Class                    0    1.40    
    Exporter                            0    5.72    
    Getopt::Long                        0    2.45    
    Moose                               0.92 2.1805  
    Moose::Role                         0.92 2.1805  
    Moose::Util::TypeConstraints        0.92 2.1805  
    MooseX::Accessors::ReadWritePrivate 0    v1.4.0  
    MooseX::AttributeHelpers            0.2  0.25    
    MooseX::StrictConstructor           0.08 0.19    
    Readonly                            0    2.05    
    Scalar::Util                        0    1.45    
    strict                              0    1.09    
    utf8                                0    1.17    
    version                             0    0.9909  
    warnings                            0    1.34    

build_requires:

    Module                              Need Have    
    ----------------------------------- ---- --------
    Carp                                0    1.38    
    File::Spec::Functions               0    3.62    
    lib                                 0    0.63    
    overload                            0    1.26    
    parent                              0    0.232   
    Test::Class                         0    0.50    
    Test::Compile                       0    v1.3.0  
    Test::Deep                          0    1.123   
    Test::Exception                     0    0.43    
    Test::Moose                         0    2.1805  
    Test::More                          0.88 1.302056

configure_requires:

    Module                              Need Have    
    ----------------------------------- ---- --------
    Module::Build                       0.33 0.4220  

opt_requires:

    Module                              Need Have    
    ----------------------------------- ---- --------
    Readonly::XS                        0    1.05    


------------------------------
ENVIRONMENT AND OTHER CONTEXT
------------------------------

Environment variables:

    COMSPEC = C:\WINDOWS\system32\cmd.exe
    LANG = en_GB.UTF-8
    NUMBER_OF_PROCESSORS = 4
    PATH = /usr/local/bin:/usr/bin:/cygdrive/c/Program Files (x86)/Intel/iCLS Client:/cygdrive/c/Program Files/Intel/iCLS Client:/cygdrive/c/WINDOWS/system32:/cygdrive/c/WINDOWS:/cygdrive/c/WINDOWS/System32/Wbem:/cygdrive/c/WINDOWS/System32/WindowsPowerShell/v1.0:/cygdrive/c/Program Files/Intel/Intel(R) Management Engine Components/DAL:/cygdrive/c/Program Files/Intel/Intel(R) Management Engine Components/IPT:/cygdrive/c/Program Files (x86)/Intel/Intel(R) Management Engine Components/DAL:/cygdrive/c/Program Files (x86)/Intel/Intel(R) Management Engine Components/IPT:/cygdrive/c/Program Files (x86)/Intel/OpenCL SDK/2.0/bin/x86:/cygdrive/c/Program Files (x86)/Intel/OpenCL SDK/2.0/bin/x64:/cygdrive/c/Program Files (x86)/Git/cmd:/cygdrive/c/Program Files (x86)/Git/bin:/cygdrive/c/Program Files/Intel/WiFi/bin:/cygdrive/c/Program Files/Common Files/Intel/WirelessCommon:/cygdrive/c/Strawberry/c/bin:/cygdrive/c/Strawberry/perl/site/bin:/cygdrive/c/Strawberry/perl/bin:/cygdrive/c/Users/k/AppData/Local/Microsoft/WindowsApps
    PERL5LIB = 
    PERL5OPT = 
    PERL5_CPANPLUS_IS_RUNNING = 6308
    PERL5_CPAN_IS_RUNNING = 6308
    PROCESSOR_IDENTIFIER = Intel64 Family 6 Model 58 Stepping 9, GenuineIntel
    SHELL = /bin/bash
    TEMP = /tmp
    TERM = xterm

Perl special variables (and OS-specific diagnostics, for MSWin32):

    $^X = /usr/bin/perl
    $UID/$EUID = 197609 / 197609
    $GID = 197121 197121 545 4 66049 11 15 113 66048 262154 401408
    $EGID = 197121 197121 545 4 66049 11 15 113 66048 262154 401408

Perl module toolchain versions installed:

    Module              Have    
    ------------------- --------
    CPAN                2.15    
    CPAN::Meta          2.150010
    Cwd                 3.62    
    ExtUtils::CBuilder  0.280224
    ExtUtils::Command   7.24    
    ExtUtils::Install   2.04    
    ExtUtils::MakeMaker 7.24    
    ExtUtils::Manifest  1.70    
    ExtUtils::ParseXS   3.28    
    File::Spec          3.62    
    JSON                2.90    
    JSON::PP            2.27400 
    Module::Build       0.4220  
    Module::Signature   0.80    
    Parse::CPAN::Meta   2.150010
    Test::Harness       3.36    
    Test::More          1.302056
    YAML                1.18    
    YAML::Syck          1.29    
    version             0.9909  


--

Summary of my perl5 (revision 5 version 22 subversion 2) configuration:
   
  Platform:
    osname=cygwin, osvers=2.5.1(0.29753), archname=cygwin-thread-multi
    uname='cygwin_nt-6.3 cygwin 2.5.1(0.29753) 2016-04-21 22:14 x86_64 cygwin '
    config_args='-des -Dprefix=/usr -Dmksymlinks -Darchname=x86_64-cygwin-threads -Dlibperl=cygperl5_22.dll -Dcc=gcc -Dld=g++ -Accflags=-ggdb -O2 -pipe -Wimplicit-function-declaration -fdebug-prefix-map=/mnt/share/maint/perl.x86_64/build=/usr/src/debug/perl-5.22.2-1 -fdebug-prefix-map=/mnt/share/maint/perl.x86_64/src/perl-5.22.2=/usr/src/debug/perl-5.22.2-1 -fwrapv'
    hint=recommended, useposix=true, d_sigaction=define
    useithreads=define, usemultiplicity=define
    use64bitint=define, use64bitall=define, uselongdouble=undef
    usemymalloc=n, bincompat5005=undef
  Compiler:
    cc='gcc', ccflags ='-DPERL_USE_SAFE_PUTENV -D_GNU_SOURCE -U__STRICT_ANSI__ -ggdb -O2 -pipe -Wimplicit-function-declaration -fdebug-prefix-map=/mnt/share/maint/perl.x86_64/build=/usr/src/debug/perl-5.22.2-1 -fdebug-prefix-map=/mnt/share/maint/perl.x86_64/src/perl-5.22.2=/usr/src/debug/perl-5.22.2-1 -fwrapv -fno-strict-aliasing -fstack-protector-strong -D_FORTIFY_SOURCE=2',
    optimize='-O3',
    cppflags='-DPERL_USE_SAFE_PUTENV -D_GNU_SOURCE -U__STRICT_ANSI__ -ggdb -O2 -pipe -Wimplicit-function-declaration -fdebug-prefix-map=/mnt/share/maint/perl.x86_64/build=/usr/src/debug/perl-5.22.2-1 -fdebug-prefix-map=/mnt/share/maint/perl.x86_64/src/perl-5.22.2=/usr/src/debug/perl-5.22.2-1 -fwrapv -fno-strict-aliasing -fstack-protector-strong'
    ccversion='', gccversion='5.3.0', gccosandvers=''
    intsize=4, longsize=8, ptrsize=8, doublesize=8, byteorder=12345678, doublekind=3
    d_longlong=define, longlongsize=8, d_longdbl=define, longdblsize=16, longdblkind=3
    ivtype='long', ivsize=8, nvtype='double', nvsize=8, Off_t='off_t', lseeksize=8
    alignbytes=8, prototype=define
  Linker and Libraries:
    ld='g++', ldflags =' -Wl,--enable-auto-import -Wl,--export-all-symbols -Wl,--enable-auto-image-base -fstack-protector-strong'
    libpth=/usr/lib
    libs=-lpthread -lgdbm -ldb -ldl -lcrypt -lgdbm_compat
    perllibs=-lpthread -ldl -lcrypt
    libc=/usr/lib/libcygwin.a, so=dll, useshrplib=true, libperl=cygperl5_22.dll
    gnulibc_version=''
  Dynamic Linking:
    dlsrc=dl_dlopen.xs, dlext=dll, d_dlsymun=undef, ccdlflags=' '
    cccdlflags=' ', lddlflags=' --shared  -Wl,--enable-auto-import -Wl,--export-all-symbols -Wl,--enable-auto-image-base -fstack-protector-strong'


Characteristics of this binary (from libperl): 
  Compile-time options: HAS_TIMES MULTIPLICITY PERLIO_LAYERS
                        PERL_DONT_CREATE_GVSV
                        PERL_HASH_FUNC_ONE_AT_A_TIME_HARD
                        PERL_IMPLICIT_CONTEXT PERL_NEW_COPY_ON_WRITE
                        PERL_PRESERVE_IVUV PERL_USE_SAFE_PUTENV
                        USE_64_BIT_ALL USE_64_BIT_INT USE_ITHREADS
                        USE_LARGE_FILES USE_LOCALE USE_LOCALE_COLLATE
                        USE_LOCALE_CTYPE USE_LOCALE_NUMERIC USE_LOCALE_TIME
                        USE_PERLIO USE_PERL_ATOF USE_REENTRANT_API
  Built under cygwin
  Compiled at Apr 30 2016 17:04:50
  %ENV:
    PERL5LIB=""
    PERL5OPT=""
    PERL5_CPANPLUS_IS_RUNNING="6308"
    PERL5_CPAN_IS_RUNNING="6308"
  @INC:
    /usr/lib/perl5/site_perl/5.22/x86_64-cygwin-threads
    /usr/lib/perl5/site_perl/5.22
    /usr/lib/perl5/vendor_perl/5.22/x86_64-cygwin-threads
    /usr/lib/perl5/vendor_perl/5.22
    /usr/lib/perl5/5.22/x86_64-cygwin-threads
    /usr/lib/perl5/5.22
    .