Report for GitStore-0.17

Back
From: metabase:user:314402c4-2aae-11df-837a-5e0a49663a4f
Subject: PASS GitStore-0.17 v5.20.2 FreeBSD
Date: 2015-02-15T14:11:40Z

This distribution has been tested as part of the CPAN Testers
project, supporting the Perl programming language.  See
http://wiki.cpantesters.org/ for more information or email
questions to cpan-testers-discuss@perl.org


--
Dear Yanick Champoux,

This is a computer-generated report for GitStore-0.17
on perl 5.20.2, created by CPAN-Reporter-1.2011.

Thank you for uploading your work to CPAN.  Congratulations!
All tests were successful.

Sections of this report:

    * Tester comments
    * Program output
    * Prerequisites
    * Environment and other context

------------------------------
TESTER COMMENTS
------------------------------

Additional comments from tester:

none provided

------------------------------
PROGRAM OUTPUT
------------------------------

Output from '/usr/bin/make test':

PERL_DL_NONLAZY=1 "/usr/perl5.20.2p/bin/perl" "-MExtUtils::Command::MM" "-MTest::Harness" "-e" "undef *Test::Harness::Switches; test_harness(0, 'blib/lib', 'blib/arch')" t/*.t
t/00-compile.t ................ ok
# Testing GitStore 0.17, Perl 5.020002, /usr/perl5.20.2p/bin/perl
t/00-load.t ................... ok
# 
# 
# Generated by Dist::Zilla::Plugin::ReportVersions::Tiny v1.10
# perl: 5.020002 (wanted 5.006) on freebsd from /usr/perl5.20.2p/bin/perl
# 
# Carp                                          => 1.3301     (want any version)
# DateTime                                      => 1.18       (want any version)
# Exporter                                      => 5.71       (want any version)
# ExtUtils::MakeMaker                           => 7.04       (want any version)
# File::Spec                                    => 3.48_01    (want any version)
# FindBin                                       => 1.51       (want any version)
# Git::PurePerl                                 => 0.5        (want any version)
# IO::Handle                                    => 1.35       (want any version)
# IPC::Open3                                    => 1.16       (want any version)
# List::Util                                    => 1.38       (want any version)
# Moose                                         => 2.1403     (want any version)
# Moose::Role                                   => 2.1403     (want any version)
# Moose::Util::TypeConstraints                  => 2.1403     (want any version)
# Path::Class                                   => 0.35       (want any version)
# Path::Tiny                                    => 0.061      (want any version)
# Storable                                      => 2.49_01    (want any version)
# Test::More                                    => 1.001014   (want 0.88)   
# lib                                           => 0.63       (want any version)
# parent                                        => 0.228      (want any version)
# strict                                        => 1.08       (want any version)
# warnings                                      => 1.23       (want any version)
# 
# Thanks for using my code.  I hope it works for you.
# If not, please try and include this output in the bug report.
# That will help me reproduce the issue and solve your problem.
# 
t/000-report-versions-tiny.t .. ok
t/01-basic.t .................. ok
# creating gitstore at '/home/cpansand/.cpan/build/GitStore-0.17-h_68oL/t/stores/5MuPvQ32t6'
t/02-next.t ................... ok
t/autocommit.t ................ ok
t/deleting-all.t .............. ok
t/history.t ................... ok
t/invalid-objects.t ........... skipped: Test needs Git::Repository
t/many-commits.t .............. ok
t/moosex-storage.t ............ skipped: MooseX::Storage required for test
t/no-changes.t ................ ok
t/pod.t ....................... ok
t/serializer.t ................ ok
t/subpaths.t .................. skipped: Test needs Git::Repository
All tests successful.
Files=15, Tests=56, 25 wallclock secs ( 0.09 usr  0.04 sys + 23.09 cusr  1.95 csys = 25.17 CPU)
Result: PASS

------------------------------
PREREQUISITES
------------------------------

Prerequisite modules loaded:

requires:

    Module                       Need  Have    
    ---------------------------- ----- --------
    Carp                         0     1.3301  
    DateTime                     0     1.18    
    Git::PurePerl                0     0.50    
    List::Util                   0     1.38    
    Moose                        0     2.1403  
    Moose::Role                  0     2.1403  
    Moose::Util::TypeConstraints 0     2.1403  
    Path::Class                  0     0.35    
    Path::Tiny                   0     0.061   
    perl                         5.006 5.020002
    Storable                     0     2.49_01 
    strict                       0     1.08    
    warnings                     0     1.23    

build_requires:

    Module                       Need  Have    
    ---------------------------- ----- --------
    Exporter                     0     5.71    
    ExtUtils::MakeMaker          0     7.04    
    File::Spec                   0     3.48_01 
    FindBin                      0     1.51    
    IO::Handle                   0     1.35    
    IPC::Open3                   0     1.16    
    lib                          0     0.63    
    parent                       0     0.228   
    Test::More                   0.88  1.001014

configure_requires:

    Module                       Need  Have    
    ---------------------------- ----- --------
    ExtUtils::MakeMaker          0     7.04    


------------------------------
ENVIRONMENT AND OTHER CONTEXT
------------------------------

Environment variables:

    DBIC_NO_WARN_BAD_PERL = 1
    LC_ALL = de_DE.ISO8859-1
    PATH = /usr/local/bin:/usr/bin:/bin:/usr/local/sbin:/usr/sbin:/sbin:/home/cpansand/bin/freebsd10.0:/home/cpansand/bin/sh:/home/cpansand/bin:/usr/games:/home/cpansand/devel:/home/eserte/src/srezic-misc/scripts
    PERL = /usr/perl5.20.2p/bin/perl
    PERL5LIB = 
    PERL5OPT = 
    PERL5_CPANPLUS_IS_RUNNING = 63057
    PERL5_CPAN_IS_RUNNING = 63057
    PERL5_CPAN_IS_RUNNING_IN_RECURSION = 62947,63057
    PERLDOC = -MPod::Perldoc::ToTextOverstrike
    PERL_BATCH = yes
    PERL_CPAN_REPORTER_CONFIG = /var/tmp/cpansmoker-1023/DpwbYrnfyF_config.ini
    PERL_EXTUTILS_AUTOINSTALL = --defaultdeps
    PERL_HTML_DISPLAY_CLASS = HTML::Display::Mozilla
    SHELL = /usr/local/bin/zsh
    TERM = screen
    TMPDIR = /var/tmp/cpansmoker-1023

Perl special variables (and OS-specific diagnostics, for MSWin32):

    $^X = /usr/perl5.20.2p/bin/perl
    $UID/$EUID = 1023 / 1023
    $GID = 1023 1023
    $EGID = 1023 1023

Perl module toolchain versions installed:

    Module              Have    
    ------------------- --------
    CPAN                2.05    
    CPAN::Meta          2.143240
    Cwd                 3.48_01 
    ExtUtils::CBuilder  0.280217
    ExtUtils::Command   1.18    
    ExtUtils::Install   1.67    
    ExtUtils::MakeMaker 7.04    
    ExtUtils::Manifest  1.70    
    ExtUtils::ParseXS   3.24    
    File::Spec          3.48_01 
    JSON                2.90    
    JSON::PP            2.27203 
    Module::Build       0.4211  
    Module::Signature   n/a     
    Parse::CPAN::Meta   1.4414  
    Test::Harness       3.30    
    Test::More          1.001014
    YAML                1.14    
    YAML::Syck          1.29    
    version             0.9909  


--

Summary of my perl5 (revision 5 version 20 subversion 2) configuration:
   
  Platform:
    osname=freebsd, osvers=10.1-release, archname=amd64-freebsd
    uname='freebsd cvrsnica-freebsd-101.herceg.de 10.1-release freebsd 10.1-release #0 r274401: tue nov 11 21:02:49 utc 2014 root@releng1.nyi.freebsd.org:usrobjusrsrcsysgeneric amd64 '
    config_args='-ds -e -Dprefix=/usr/perl5.20.2p'
    hint=recommended, useposix=true, d_sigaction=define
    useithreads=undef, usemultiplicity=undef
    use64bitint=define, use64bitall=define, uselongdouble=undef
    usemymalloc=n, bincompat5005=undef
  Compiler:
    cc='cc', ccflags ='-DHAS_FPSETMASK -DHAS_FLOATINGPOINT_H -fno-strict-aliasing -pipe -fstack-protector -I/usr/local/include',
    optimize='-O',
    cppflags='-DHAS_FPSETMASK -DHAS_FLOATINGPOINT_H -fno-strict-aliasing -pipe -fstack-protector -I/usr/local/include'
    ccversion='', gccversion='4.2.1 Compatible FreeBSD Clang 3.4.1 (tags/RELEASE_34/dot1-final 208032)', gccosandvers=''
    intsize=4, longsize=8, ptrsize=8, doublesize=8, byteorder=12345678
    d_longlong=define, longlongsize=8, d_longdbl=define, longdblsize=16
    ivtype='long', ivsize=8, nvtype='double', nvsize=8, Off_t='off_t', lseeksize=8
    alignbytes=8, prototype=define
  Linker and Libraries:
    ld='cc', ldflags ='-pthread -Wl,-E  -fstack-protector -L/usr/local/lib'
    libpth=/usr/lib /usr/local/lib /usr/include/clang/3.4.1 /usr/lib
    libs=-lgdbm -lm -lcrypt -lutil -lc
    perllibs=-lm -lcrypt -lutil -lc
    libc=, so=so, useshrplib=false, libperl=libperl.a
    gnulibc_version=''
  Dynamic Linking:
    dlsrc=dl_dlopen.xs, dlext=so, d_dlsymun=undef, ccdlflags=' '
    cccdlflags='-DPIC -fPIC', lddlflags='-shared  -L/usr/local/lib -fstack-protector'


Characteristics of this binary (from libperl): 
  Compile-time options: HAS_TIMES PERLIO_LAYERS PERL_DONT_CREATE_GVSV
                        PERL_HASH_FUNC_ONE_AT_A_TIME_HARD PERL_MALLOC_WRAP
                        PERL_NEW_COPY_ON_WRITE PERL_PRESERVE_IVUV
                        USE_64_BIT_ALL USE_64_BIT_INT USE_LARGE_FILES
                        USE_LOCALE USE_LOCALE_COLLATE USE_LOCALE_CTYPE
                        USE_LOCALE_NUMERIC USE_PERLIO USE_PERL_ATOF
  Built under freebsd
  Compiled at Feb 14 2015 20:35:40
  %ENV:
    PERL="/usr/perl5.20.2p/bin/perl"
    PERL5LIB=""
    PERL5OPT=""
    PERL5_CPANPLUS_IS_RUNNING="63057"
    PERL5_CPAN_IS_RUNNING="63057"
    PERL5_CPAN_IS_RUNNING_IN_RECURSION="62947,63057"
    PERLDOC="-MPod::Perldoc::ToTextOverstrike"
    PERL_BATCH="yes"
    PERL_CPAN_REPORTER_CONFIG="/var/tmp/cpansmoker-1023/DpwbYrnfyF_config.ini"
    PERL_EXTUTILS_AUTOINSTALL="--defaultdeps"
    PERL_HTML_DISPLAY_CLASS="HTML::Display::Mozilla"
  @INC:
    /usr/perl5.20.2p/lib/site_perl/5.20.2/amd64-freebsd
    /usr/perl5.20.2p/lib/site_perl/5.20.2
    /usr/perl5.20.2p/lib/5.20.2/amd64-freebsd
    /usr/perl5.20.2p/lib/5.20.2
    .