Report for Module-Pluggable-5.1

Back
From: metabase:user:20a45eae-6c1a-1014-abaf-4bc2b30e56df
Subject: PASS Module-Pluggable-5.1 v5.19.1 Windows (Cygwin)
Date: 2014-03-09T08:42:55Z

This distribution has been tested as part of the CPAN Testers
project, supporting the Perl programming language.  See
http://wiki.cpantesters.org/ for more information or email
questions to cpan-testers-discuss@perl.org


--
Dear Simon Wistow,

This is a computer-generated report for Module-Pluggable-5.1
on perl 5.19.1, created by CPAN-Reporter-1.2010.

Thank you for uploading your work to CPAN.  Congratulations!
All tests were successful.

Sections of this report:

    * Tester comments
    * Program output
    * Prerequisites
    * Environment and other context

------------------------------
TESTER COMMENTS
------------------------------

Additional comments from tester:

this report is from an automated smoke testing program
and was not reviewed by a human for accuracy

------------------------------
PROGRAM OUTPUT
------------------------------

Output from './Build test':

t/01use.t .................... ok
t/02alsoworks.t .............. ok
t/02works.t .................. ok
t/02works_taint.t ............ ok
t/03diffname.t ............... ok
t/04acmedir.t ................ ok
t/04acmedir_single.t ......... ok
t/04acmepath.t ............... ok
t/04acmepath_single.t ........ ok
t/05postpath.t ............... ok
t/06multipath.t .............. ok
t/07instantiate.t ............ ok
t/08nothing.t ................ ok
t/09require.t ................ ok
t/10innerpack.t .............. ok
t/10innerpack_inner.t ........ ok
t/10innerpack_noinner.t ...... ok
t/10innerpack_onefile.t ...... ok
t/10innerpack_override.t ..... ok
t/10innerpack_super.t ........ ok
t/11usetwice.t ............... ok
t/12only.t ................... ok
t/12onlyarray.t .............. ok
t/12onlyregex.t .............. ok
t/12onlyrequire.t ............ ok
t/13except.t ................. ok
t/13exceptarray.t ............ ok
t/13exceptregex.t ............ ok
t/14package.t ................ ok
t/15topicsafe.t .............. ok
t/16different_extension.t .... ok
t/17devel_inner_package.t .... ok
t/18skipped_package.t ........ ok
t/19can_ok_clobber.t ......... ok
t/20dodgy_files.t ............ ok
t/21editor_junk.t ............ ok
t/22trigger.t ................ ok
t/23depth.t .................. ok
t/24local_inc_object.t ....... ok
t/24local_inc_package.t ...... ok
t/25single_letter_package.t .. ok
t/26inc_hook.t ............... ok
t/27app_fatpacker.t .......... skipped: App::FatPacker >= 0.10.0 not available
All tests successful.
Files=43, Tests=180, 18 wallclock secs ( 0.17 usr  0.11 sys +  4.97 cusr 11.72 csys = 16.97 CPU)
Result: PASS

------------------------------
PREREQUISITES
------------------------------

Prerequisite modules loaded:

requires:

    Module         Need Have    
    -------------- ---- --------
    File::Basename 0    2.84    
    File::Spec     3.00 3.41    
    if             0    0.0602  

build_requires:

    Module         Need Have    
    -------------- ---- --------
    Test::More     0.62 1.001002

configure_requires:

    Module         Need Have    
    -------------- ---- --------
    Module::Build  0.38 0.4005  


------------------------------
ENVIRONMENT AND OTHER CONTEXT
------------------------------

Environment variables:

    AUTOMATED_TESTING = 1
    COMSPEC = C:\Windows\system32\cmd.exe
    LD_LIBRARY_PATH = 
    NUMBER_OF_PROCESSORS = 8
    PATH = /opt/perl5/cygwin_nt-6.1-wow64/1.7.26/i686/bin/5.19.1/cygwin-thread-64int:/opt/perl5/cygwin_nt-6.1-wow64/1.7.26/i686/perl/5.19.1/cygwin-thread-64int/local/bin:/opt/perl5/cygwin_nt-6.1-wow64/1.7.26/i686/perl/5.19.1/cygwin-thread-64int/bin:/usr/local/bin:/usr/bin
    PERL5LIB = /opt/perl5/cygwin_nt-6.1-wow64/1.7.26/i686/cpan/5.19.1/cygwin-thread-64int/build/Time-HiRes-1.9726-EtRfGO/blib/arch:/opt/perl5/cygwin_nt-6.1-wow64/1.7.26/i686/cpan/5.19.1/cygwin-thread-64int/build/Time-HiRes-1.9726-EtRfGO/blib/lib:/opt/perl5/cygwin_nt-6.1-wow64/1.7.26/i686/perl/5.19.1/cygwin-thread-64int/local/lib/site_perl/5.19.1:/opt/perl5/cygwin_nt-6.1-wow64/1.7.26/i686/perl/5.19.1/cygwin-thread-64int/local/lib/5.19.1:/opt/perl5/cygwin_nt-6.1-wow64/1.7.26/i686/perl/5.19.1/cygwin-thread-64int/local/lib/perl5
    PERL5OPT = 
    PERL5_CPANPLUS_IS_RUNNING = 12872
    PERL5_CPAN_IS_RUNNING = 12872
    PERL_CPAN_REPORTER_CONFIG = /cygdrive/e/peter/.cpanreporter/config-cygdrive-e-peter.ini
    PERL_EXTUTILS_AUTOINSTALL = 1
    PERL_MM_USE_DEFAULT = 1
    PERL_MY_PREFIX = /opt/perl5
    PERL_MY_SOURCE_DIR = /cygdrive/e/src/perl
    PERL_TEST_CRITIC = 1
    PROCESSOR_IDENTIFIER = Intel64 Family 6 Model 42 Stepping 7, GenuineIntel
    SHELL = /usr/bin/bash
    TEMP = /tmp
    TERM = xterm

Perl special variables (and OS-specific diagnostics, for MSWin32):

    $^X = /cygdrive/e/opt/perl5/cygwin_nt-6.1-wow64/1.7.26/i686/perl/5.19.1/cygwin-thread-64int/bin/perl
    $UID/$EUID = 1006 / 1006
    $GID = 513 545 1003 513
    $EGID = 513 545 1003 513

Perl module toolchain versions installed:

    Module              Have    
    ------------------- --------
    CPAN                2.00    
    CPAN::Meta          2.131560
    Cwd                 3.41    
    ExtUtils::CBuilder  0.280212
    ExtUtils::Command   1.17    
    ExtUtils::Install   1.60    
    ExtUtils::MakeMaker 6.68    
    ExtUtils::Manifest  1.63    
    ExtUtils::ParseXS   3.19    
    File::Spec          3.41    
    JSON                2.90    
    JSON::PP            2.27202 
    Module::Build       0.4005  
    Module::Signature   n/a     
    Parse::CPAN::Meta   1.4404  
    Test::Harness       3.30    
    Test::More          1.001002
    YAML                0.88    
    YAML::Syck          n/a     
    version             0.9902  


--

Summary of my perl5 (revision 5 version 19 subversion 1) configuration:
   
  Platform:
    osname=cygwin, osvers=1.7.26(0.27153), archname=cygwin-thread-64int
    uname='cygwin_nt-6.1-wow64 osl069 1.7.26(0.27153) 2013-11-29 11:25 i686 cygwin '
    config_args='-de -Dmksymlinks -Dusedevel -Dcc=gcc -Dld=g++ -Uinc_version_list -Uinstallusrbinperl -Dusethreads -Uusemultiplicity -Duse64bitint -Uuselongdouble -Dprefix=/opt/perl5/cygwin_nt-6.1-wow64/1.7.26/i686/perl/5.19.1/cygwin-thread-64int'
    hint=recommended, useposix=true, d_sigaction=define
    useithreads=define, usemultiplicity=undef
    useperlio=define, d_sfio=undef, uselargefiles=define, usesocks=undef
    use64bitint=define, use64bitall=undef, uselongdouble=undef
    usemymalloc=n, bincompat5005=undef
  Compiler:
    cc='gcc', ccflags ='-DPERL_USE_SAFE_PUTENV -U__STRICT_ANSI__ -fno-strict-aliasing -pipe -fstack-protector',
    optimize='-O3',
    cppflags='-DPERL_USE_SAFE_PUTENV -U__STRICT_ANSI__ -fno-strict-aliasing -pipe -fstack-protector'
    ccversion='', gccversion='4.8.2', gccosandvers=''
    intsize=4, longsize=4, ptrsize=4, doublesize=8, byteorder=12345678
    d_longlong=define, longlongsize=8, d_longdbl=define, longdblsize=12
    ivtype='long long', ivsize=8, nvtype='double', nvsize=8, Off_t='off_t', lseeksize=8
    alignbytes=8, prototype=define
  Linker and Libraries:
    ld='g++', ldflags =' -Wl,--enable-auto-import -Wl,--export-all-symbols -Wl,--enable-auto-image-base -fstack-protector -L/usr/local/lib'
    libpth=/usr/local/lib /usr/lib /lib
    libs=-lgdbm -ldb -ldl -lcrypt -lgdbm_compat
    perllibs=-ldl -lcrypt
    libc=/usr/lib/libc.a, so=dll, useshrplib=true, libperl=cygperl5_19_1.dll
    gnulibc_version=''
  Dynamic Linking:
    dlsrc=dl_dlopen.xs, dlext=dll, d_dlsymun=undef, ccdlflags=' '
    cccdlflags=' ', lddlflags=' --shared  -Wl,--enable-auto-import -Wl,--export-all-symbols -Wl,--enable-auto-image-base -L/usr/local/lib -fstack-protector'


Characteristics of this binary (from libperl): 
  Compile-time options: HAS_TIMES MULTIPLICITY PERLIO_LAYERS
                        PERL_DONT_CREATE_GVSV
                        PERL_HASH_FUNC_ONE_AT_A_TIME_HARD
                        PERL_IMPLICIT_CONTEXT PERL_MALLOC_WRAP
                        PERL_NEW_COPY_ON_WRITE PERL_PRESERVE_IVUV
                        PERL_USE_DEVEL PERL_USE_SAFE_PUTENV USE_64_BIT_INT
                        USE_ITHREADS USE_LARGE_FILES USE_LOCALE
                        USE_LOCALE_COLLATE USE_LOCALE_CTYPE
                        USE_LOCALE_NUMERIC USE_PERLIO USE_PERL_ATOF
                        USE_REENTRANT_API
  Built under cygwin
  Compiled at Dec  2 2013 21:23:39
  %ENV:
    PERL5LIB="/opt/perl5/cygwin_nt-6.1-wow64/1.7.26/i686/cpan/5.19.1/cygwin-thread-64int/build/Time-HiRes-1.9726-EtRfGO/blib/arch:/opt/perl5/cygwin_nt-6.1-wow64/1.7.26/i686/cpan/5.19.1/cygwin-thread-64int/build/Time-HiRes-1.9726-EtRfGO/blib/lib:/opt/perl5/cygwin_nt-6.1-wow64/1.7.26/i686/perl/5.19.1/cygwin-thread-64int/local/lib/site_perl/5.19.1:/opt/perl5/cygwin_nt-6.1-wow64/1.7.26/i686/perl/5.19.1/cygwin-thread-64int/local/lib/5.19.1:/opt/perl5/cygwin_nt-6.1-wow64/1.7.26/i686/perl/5.19.1/cygwin-thread-64int/local/lib/perl5"
    PERL5OPT=""
    PERL5_CPANPLUS_IS_RUNNING="12872"
    PERL5_CPAN_IS_RUNNING="12872"
    PERL_CPAN_REPORTER_CONFIG="/cygdrive/e/peter/.cpanreporter/config-cygdrive-e-peter.ini"
    PERL_EXTUTILS_AUTOINSTALL="1"
    PERL_MM_USE_DEFAULT="1"
    PERL_MY_PREFIX="/opt/perl5"
    PERL_MY_SOURCE_DIR="/cygdrive/e/src/perl"
    PERL_TEST_CRITIC="1"
    CYGWIN="codepage:utf8 nodosfilewarning"
  @INC:
    /opt/perl5/cygwin_nt-6.1-wow64/1.7.26/i686/cpan/5.19.1/cygwin-thread-64int/build/Time-HiRes-1.9726-EtRfGO/blib/arch
    /opt/perl5/cygwin_nt-6.1-wow64/1.7.26/i686/cpan/5.19.1/cygwin-thread-64int/build/Time-HiRes-1.9726-EtRfGO/blib/lib
    /opt/perl5/cygwin_nt-6.1-wow64/1.7.26/i686/perl/5.19.1/cygwin-thread-64int/local/lib/site_perl/5.19.1/cygwin-thread-64int
    /opt/perl5/cygwin_nt-6.1-wow64/1.7.26/i686/perl/5.19.1/cygwin-thread-64int/local/lib/site_perl/5.19.1
    /opt/perl5/cygwin_nt-6.1-wow64/1.7.26/i686/perl/5.19.1/cygwin-thread-64int/local/lib/5.19.1/cygwin-thread-64int
    /opt/perl5/cygwin_nt-6.1-wow64/1.7.26/i686/perl/5.19.1/cygwin-thread-64int/local/lib/5.19.1
    /opt/perl5/cygwin_nt-6.1-wow64/1.7.26/i686/perl/5.19.1/cygwin-thread-64int/local/lib/perl5/cygwin-thread-64int
    /opt/perl5/cygwin_nt-6.1-wow64/1.7.26/i686/perl/5.19.1/cygwin-thread-64int/local/lib/perl5
    /opt/perl5/cygwin_nt-6.1-wow64/1.7.26/i686/perl/5.19.1/cygwin-thread-64int/lib/site_perl/5.19.1/cygwin-thread-64int
    /opt/perl5/cygwin_nt-6.1-wow64/1.7.26/i686/perl/5.19.1/cygwin-thread-64int/lib/site_perl/5.19.1
    /opt/perl5/cygwin_nt-6.1-wow64/1.7.26/i686/perl/5.19.1/cygwin-thread-64int/lib/5.19.1/cygwin-thread-64int
    /opt/perl5/cygwin_nt-6.1-wow64/1.7.26/i686/perl/5.19.1/cygwin-thread-64int/lib/5.19.1
    .