Dist-Zilla-Plugin-Test-UseAllModules v0.002 Perl 5 v5.30.0 MSWin32-x64-multi-thread
- Status
- Pass
- From
- Serguei Trouchelle (STRO)
- Dist
-
Dist-Zilla-Plugin-Test-UseAllModules v0.002
- Platform
- Perl 5 v5.30.0 MSWin32-x64-multi-thread
- Date
- 2019-11-07 07:32:19
- ID
- 8fe492bb-6c73-1014-aec0-303ade7609da
This distribution has been tested as part of the CPAN Testers
project, supporting the Perl programming language. See
http://wiki.cpantesters.org/ for more information or email
questions to cpan-testers-discuss@perl.org
--
Dear Alexei Znamensky,
This is a computer-generated report for Dist-Zilla-Plugin-Test-UseAllModules-0.002
on perl 5.30.0, created by CPAN-Reporter-1.2018.
Thank you for uploading your work to CPAN. Congratulations!
All tests were successful.
Sections of this report:
* Tester comments
* Program output
* Prerequisites
* Environment and other context
------------------------------
TESTER COMMENTS
------------------------------
Additional comments from tester:
none provided
------------------------------
PROGRAM OUTPUT
------------------------------
Output from 'C:\usr\local\c\bin\gmake.exe test':
"C:\usr\local\perl\bin\perl.exe" "-MExtUtils::Command::MM" "-MTest::Harness" "-e" "undef *Test::Harness::Switches; test_harness(0, 'blib\lib', 'blib\arch')" t/*.t
t/00-compile.t ................ skipped: no tests to run
t/00-load.t ................... ok
#
#
# perl: v5.30.0 (wanted 5.006) on MSWin32 from C:\usr\local\perl\bin\perl.exe
#
# Dist::Zilla::Plugin::InlineFiles => 6.012 (want any version)
# Dist::Zilla::Role::PrereqSource => 6.012 (want any version)
# English => 1.10 (want any version)
# ExtUtils::MakeMaker => 7.36 (want 6.30)
# File::Find => 1.36 (want any version)
# File::Temp => 0.2309 (want any version)
# Moose => 2.2011 (want any version)
# Test::More => 1.302164 (want 0.88)
# Test::UseAllModules => 0.17 (want 0.13)
# namespace::autoclean => 0.28 (want any version)
#
# Thanks for using my code. I hope it works for you.
# If not, please try and include this output in the bug report.
# That will help me reproduce the issue and solve you problem.
#
t/000-report-versions-tiny.t .. ok
t/author-critic.t ............. skipped: these tests are for testing by the author
t/release-dist-manifest.t ..... skipped: these tests are for release candidate testing
t/release-distmeta.t .......... skipped: these tests are for release candidate testing
t/release-eol.t ............... skipped: these tests are for release candidate testing
t/release-kwalitee.t .......... skipped: these tests are for release candidate testing
t/release-meta-json.t ......... skipped: these tests are for release candidate testing
t/release-minimum-version.t ... skipped: these tests are for release candidate testing
t/release-mojibake.t .......... skipped: these tests are for release candidate testing
t/release-no-tabs.t ........... skipped: these tests are for release candidate testing
t/release-pod-coverage.t ...... skipped: these tests are for release candidate testing
t/release-pod-linkcheck.t ..... skipped: these tests are for release candidate testing
t/release-pod-syntax.t ........ skipped: these tests are for release candidate testing
t/release-portability.t ....... skipped: these tests are for release candidate testing
t/release-test-version.t ...... skipped: these tests are for release candidate testing
t/release-unused-vars.t ....... skipped: these tests are for release candidate testing
All tests successful.
Files=18, Tests=2, 3 wallclock secs ( 0.03 usr + 0.00 sys = 0.03 CPU)
Result: PASS
------------------------------
PREREQUISITES
------------------------------
Prerequisite modules loaded:
requires:
Module Need Have
-------------------------------- ----- --------
Dist::Zilla::Plugin::InlineFiles 0 6.012
Dist::Zilla::Role::PrereqSource 0 6.012
Moose 0 2.2011
namespace::autoclean 0 0.28
Test::UseAllModules 0.13 0.17
build_requires:
Module Need Have
-------------------------------- ----- --------
English 0 1.10
File::Find 0 1.36
File::Temp 0 0.2309
perl 5.006 5.030000
Test::More 0.88 1.302164
Test::UseAllModules 0 0.17
configure_requires:
Module Need Have
-------------------------------- ----- --------
ExtUtils::MakeMaker 6.30 7.36
------------------------------
ENVIRONMENT AND OTHER CONTEXT
------------------------------
Environment variables:
COMSPEC = C:\Windows\system32\cmd.exe
NUMBER_OF_PROCESSORS = 12
PATH = C:\Program Files\Far Manager\;C:\Windows\system32;C:\Windows;C:\Windows\System32\Wbem;C:\Windows\System32\WindowsPowerShell\v1.0\;C:\Windows\System32\OpenSSH\;C:\Program Files (x86)\NVIDIA Corporation\PhysX\Common;C:\usr\local\c\bin;C:\usr\local\perl\site\bin;C:\usr\local\perl\bin;C:\Program Files\TortoiseHg\;C:\Users\root\AppData\Local\Microsoft\WindowsApps;
PERL5LIB =
PERL5OPT =
PERL5_CPANPLUS_IS_RUNNING = 9780
PERL5_CPAN_IS_RUNNING = 9780
PERL_USE_UNSAFE_INC = 1
PROCESSOR_IDENTIFIER = Intel64 Family 6 Model 158 Stepping 10, GenuineIntel
TEMP = C:\Windows\TEMP
Perl special variables (and OS-specific diagnostics, for MSWin32):
$^X = C:\usr\local\perl\bin\perl.exe
$UID/$EUID = 0 / 0
$GID = 0
$EGID = 0
Win32::GetOSName = Win10
Win32::GetOSVersion = , 10, 0, 17763, 2, 0, 0, 768, 1
Win32::FsType = NTFS
Win32::IsAdminUser = 0
Perl module toolchain versions installed:
Module Have
------------------- --------
CPAN 2.26
CPAN::Meta 2.150010
Cwd 3.78
ExtUtils::CBuilder 0.280231
ExtUtils::Command 7.36
ExtUtils::Install 2.14
ExtUtils::MakeMaker 7.36
ExtUtils::Manifest 1.72
ExtUtils::ParseXS 3.40
File::Spec 3.78
JSON 4.02
JSON::PP 4.02
Module::Build 0.4229
Module::Signature n/a
Parse::CPAN::Meta 2.150010
Test::Harness 3.42
Test::More 1.302164
YAML 1.29
YAML::Syck 1.31
version 0.9924
--
Summary of my perl5 (revision 5 version 30 subversion 0) configuration:
Platform:
osname=MSWin32
osvers=10.0.17763.529
archname=MSWin32-x64-multi-thread
uname='Win32 strawberry-perl 5.30.0.1 #1 Thu May 23 12:20:46 2019 x64'
config_args='undef'
hint=recommended
useposix=true
d_sigaction=undef
useithreads=define
usemultiplicity=define
use64bitint=define
use64bitall=undef
uselongdouble=undef
usemymalloc=n
default_inc_excludes_dot=define
bincompat5005=undef
Compiler:
cc='gcc'
ccflags =' -s -O2 -DWIN32 -DWIN64 -DCONSERVATIVE -D__USE_MINGW_ANSI_STDIO -DPERL_TEXTMODE_SCRIPTS -DPERL_IMPLICIT_CONTEXT -DPERL_IMPLICIT_SYS -DUSE_PERLIO -fwrapv -fno-strict-aliasing -mms-bitfields'
optimize='-s -O2'
cppflags='-DWIN32'
ccversion=''
gccversion='8.3.0'
gccosandvers=''
intsize=4
longsize=4
ptrsize=8
doublesize=8
byteorder=12345678
doublekind=3
d_longlong=define
longlongsize=8
d_longdbl=define
longdblsize=16
longdblkind=3
ivtype='long long'
ivsize=8
nvtype='double'
nvsize=8
Off_t='long long'
lseeksize=8
alignbytes=8
prototype=define
Linker and Libraries:
ld='g++'
ldflags ='-s -L"C:\usr\local\perl\lib\CORE" -L"C:\usr\local\c\lib"'
libpth=C:\usr\local\c\lib C:\usr\local\c\x86_64-w64-mingw32\lib C:\usr\local\c\lib\gcc\x86_64-w64-mingw32\8.3.0
libs= -lmoldname -lkernel32 -luser32 -lgdi32 -lwinspool -lcomdlg32 -ladvapi32 -lshell32 -lole32 -loleaut32 -lnetapi32 -luuid -lws2_32 -lmpr -lwinmm -lversion -lodbc32 -lodbccp32 -lcomctl32
perllibs= -lmoldname -lkernel32 -luser32 -lgdi32 -lwinspool -lcomdlg32 -ladvapi32 -lshell32 -lole32 -loleaut32 -lnetapi32 -luuid -lws2_32 -lmpr -lwinmm -lversion -lodbc32 -lodbccp32 -lcomctl32
libc=
so=dll
useshrplib=true
libperl=libperl530.a
gnulibc_version=''
Dynamic Linking:
dlsrc=dl_win32.xs
dlext=xs.dll
d_dlsymun=undef
ccdlflags=' '
cccdlflags=' '
lddlflags='-mdll -s -L"C:\usr\local\perl\lib\CORE" -L"C:\usr\local\c\lib"'
Characteristics of this binary (from libperl):
Compile-time options:
HAS_TIMES
HAVE_INTERP_INTERN
MULTIPLICITY
PERLIO_LAYERS
PERL_COPY_ON_WRITE
PERL_DONT_CREATE_GVSV
PERL_IMPLICIT_CONTEXT
PERL_IMPLICIT_SYS
PERL_MALLOC_WRAP
PERL_OP_PARENT
PERL_PRESERVE_IVUV
USE_64_BIT_INT
USE_ITHREADS
USE_LARGE_FILES
USE_LOCALE
USE_LOCALE_COLLATE
USE_LOCALE_CTYPE
USE_LOCALE_NUMERIC
USE_LOCALE_TIME
USE_PERLIO
USE_PERL_ATOF
Built under MSWin32
Compiled at May 23 2019 12:26:54
%ENV:
PERL5_CPANPLUS_IS_RUNNING="9780"
PERL5_CPAN_IS_RUNNING="9780"
PERL_USE_UNSAFE_INC="1"
@INC:
C:/usr/local/perl/site/lib
C:/usr/local/perl/vendor/lib
C:/usr/local/perl/lib
.