Dist-Zilla-PluginBundle-BioPerl v0.26 Perl 5 v5.22.4 x86_64-linux-thread-multi

Status
Pass
From
David Cantrell (DCANTRELL)
Dist
Dist-Zilla-PluginBundle-BioPerl v0.26
Platform
Perl 5 v5.22.4 x86_64-linux-thread-multi
Date
2017-09-08 13:49:40
ID
8ffd51b6-949c-11e7-9fdb-daa1ca56a595
This distribution has been tested as part of the CPAN Testers
project, supporting the Perl programming language.  See
http://wiki.cpantesters.org/ for more information or email
questions to cpan-testers-discuss@perl.org


--
Dear carandraug,

This is a computer-generated report for Dist-Zilla-PluginBundle-BioPerl-0.26
on perl 5.22.4, created by CPAN-Reporter-1.2018.

Thank you for uploading your work to CPAN.  Congratulations!
All tests were successful.

Sections of this report:

    * Tester comments
    * Program output
    * Prerequisites
    * Environment and other context

------------------------------
TESTER COMMENTS
------------------------------

Additional comments from tester:

this report is from an automated smoke testing program
and was not reviewed by a human for accuracy

------------------------------
PROGRAM OUTPUT
------------------------------

Output from '/usr/bin/make test':

PERL_DL_NONLAZY=1 "/home/david/cpantesting/perl-5.22.4/bin/perl" "-MExtUtils::Command::MM" "-MTest::Harness" "-e" "undef *Test::Harness::Switches; test_harness(0, 'blib/lib', 'blib/arch')" t/*.t
t/00-compile.t ........... ok
t/author-eol.t ........... skipped: these tests are for testing by the author
t/author-mojibake.t ...... skipped: these tests are for testing by the author
t/author-no-tabs.t ....... skipped: these tests are for testing by the author
t/author-pod-coverage.t .. skipped: these tests are for testing by the author
t/author-pod-syntax.t .... skipped: these tests are for testing by the author
t/main.t ................. ok
All tests successful.
Files=7, Tests=3,  8 wallclock secs ( 0.03 usr  0.02 sys +  2.46 cusr  0.30 csys =  2.81 CPU)
Result: PASS

------------------------------
PREREQUISITES
------------------------------

Prerequisite modules loaded:

requires:

    Module                                          Need  Have    
    ----------------------------------------------- ----- --------
    Dist::Zilla::Plugin::AutoMetaResources          0     1.21    
    Dist::Zilla::Plugin::AutoPrereqs                0     6.010   
    Dist::Zilla::Plugin::Encoding                   0     6.010   
    Dist::Zilla::Plugin::Git::Check                 0     2.042   
    Dist::Zilla::Plugin::Git::Commit                0     2.042   
    Dist::Zilla::Plugin::Git::Tag                   0     2.042   
    Dist::Zilla::Plugin::MetaConfig                 0     6.010   
    Dist::Zilla::Plugin::MetaJSON                   0     6.010   
    Dist::Zilla::Plugin::MetaResources              0     6.010   
    Dist::Zilla::Plugin::MojibakeTests              0     0.8     
    Dist::Zilla::Plugin::NextRelease                0     6.010   
    Dist::Zilla::Plugin::PkgVersion                 0     6.010   
    Dist::Zilla::Plugin::PodCoverageTests           0     6.010   
    Dist::Zilla::Plugin::PodSyntaxTests             0     6.010   
    Dist::Zilla::Plugin::PodWeaver                  0     4.008   
    Dist::Zilla::Plugin::Test::Compile              0     2.057   
    Dist::Zilla::Plugin::Test::EOL                  0     0.19    
    Dist::Zilla::Plugin::Test::NoTabs               0     0.15    
    Dist::Zilla::PluginBundle::Basic                0     6.010   
    Dist::Zilla::Role::PluginBundle::Config::Slicer 0     0.202   
    Dist::Zilla::Role::PluginBundle::Easy           0     6.010   
    Dist::Zilla::Role::PluginBundle::PluginRemover  0     0.105   
    Moose                                           1.00  2.2006  
    MooseX::AttributeShortcuts                      0     0.034   
    MooseX::Types::Email                            0     0.007   
    MooseX::Types::Moose                            0     0.50    
    namespace::autoclean                            0     0.28    
    perl                                            5.006 5.022004
    Pod::Elemental::Transformer::List               0     0.102000
    Pod::Weaver::Config::Assembler                  0     4.015   
    Pod::Weaver::Plugin::EnsureUniqueSections       0     0.163250
    Pod::Weaver::Plugin::SingleEncoding             0     4.015   
    Pod::Weaver::Plugin::Transformer                0     4.015   
    Pod::Weaver::PluginBundle::CorePrep             0     4.015   
    Pod::Weaver::Section::Collect                   0     4.015   
    Pod::Weaver::Section::Contributors              0     0.009   
    Pod::Weaver::Section::GenerateSection           0     1.06    
    Pod::Weaver::Section::Leftovers                 0     4.015   
    Pod::Weaver::Section::Legal::Complicated        0     1.23    
    Pod::Weaver::Section::Name                      0     4.015   
    Pod::Weaver::Section::Region                    0     4.015   
    Pod::Weaver::Section::Version                   0     4.015   
    strict                                          0     1.09    
    utf8                                            0     1.17    
    warnings                                        0     1.34    

build_requires:

    Module                                          Need  Have    
    ----------------------------------------------- ----- --------
    blib                                            1.01  1.06    
    ExtUtils::MakeMaker                             0     7.04_02 
    File::Spec                                      0     3.56_02 
    IO::Handle                                      0     1.35    
    IPC::Open3                                      0     1.18    
    Test::DZil                                      0     6.010   
    Test::Fatal                                     0     0.014   
    Test::More                                      0     1.302086

configure_requires:

    Module                                          Need  Have    
    ----------------------------------------------- ----- --------
    ExtUtils::MakeMaker                             0     7.04_02 


------------------------------
ENVIRONMENT AND OTHER CONTEXT
------------------------------

Environment variables:

    AUTOMATED_TESTING = 1
    NONINTERACTIVE_TESTING = 1
    PATH = /usr/local/bin:/usr/bin:/bin:/usr/local/games:/usr/games
    PERL = 5.22.4
    PERL5LIB = 
    PERL5OPT = 
    PERL5_CPANPLUS_IS_RUNNING = 21290
    PERL5_CPAN_IS_RUNNING = 21290
    PERLVER = 5.22.4
    PERL_INLINE_DIRECTORY = /home/david/.Inline-5.22.4
    PERL_MM_USE_DEFAULT = 1
    PERL_USE_UNSAFE_INC = 0
    SHELL = /bin/bash
    TERM = screen

Perl special variables (and OS-specific diagnostics, for MSWin32):

    $^X = /home/david/cpantesting/perl-5.22.4/bin/perl
    $UID/$EUID = 1000 / 1000
    $GID = 1000 1000
    $EGID = 1000 1000

Perl module toolchain versions installed:

    Module              Have      
    ------------------- ----------
    CPAN                2.11_01   
    CPAN::Meta          2.150001  
    Cwd                 3.56_02   
    ExtUtils::CBuilder  0.280221  
    ExtUtils::Command   1.20_01   
    ExtUtils::Install   2.04      
    ExtUtils::MakeMaker 7.04_02   
    ExtUtils::Manifest  1.70      
    ExtUtils::ParseXS   3.28      
    File::Spec          3.56_02   
    JSON                n/a       
    JSON::PP            2.27300_01
    Module::Build       0.4224    
    Module::Signature   n/a       
    Parse::CPAN::Meta   1.4414_001
    Test::Harness       3.35_01   
    Test::More          1.302086  
    YAML                n/a       
    YAML::Syck          n/a       
    version             0.9909    


--

Summary of my perl5 (revision 5 version 22 subversion 4) configuration:
   
  Platform:
    osname=linux, osvers=3.16.0-4-amd64, archname=x86_64-linux-thread-multi
    uname='linux pigsty.barnyard.co.uk 3.16.0-4-amd64 #1 smp debian 3.16.36-1+deb8u1 (2016-09-03) x86_64 gnulinux '
    config_args='-de -Duse64bitall -Dusethreads -Dprefix=/home/david/cpantesting/perl-5.22.4'
    hint=recommended, useposix=true, d_sigaction=define
    useithreads=define, usemultiplicity=define
    use64bitint=define, use64bitall=define, uselongdouble=undef
    usemymalloc=n, bincompat5005=undef
  Compiler:
    cc='cc', ccflags ='-D_REENTRANT -D_GNU_SOURCE -fwrapv -fno-strict-aliasing -pipe -fstack-protector-strong -I/usr/local/include -D_LARGEFILE_SOURCE -D_FILE_OFFSET_BITS=64 -D_FORTIFY_SOURCE=2',
    optimize='-O2',
    cppflags='-D_REENTRANT -D_GNU_SOURCE -fwrapv -fno-strict-aliasing -pipe -fstack-protector-strong -I/usr/local/include'
    ccversion='', gccversion='4.9.2', gccosandvers=''
    intsize=4, longsize=8, ptrsize=8, doublesize=8, byteorder=12345678, doublekind=3
    d_longlong=define, longlongsize=8, d_longdbl=define, longdblsize=16, longdblkind=3
    ivtype='long', ivsize=8, nvtype='double', nvsize=8, Off_t='off_t', lseeksize=8
    alignbytes=8, prototype=define
  Linker and Libraries:
    ld='cc', ldflags =' -fstack-protector-strong -L/usr/local/lib'
    libpth=/usr/local/lib /usr/lib/gcc/x86_64-linux-gnu/4.9/include-fixed /usr/include/x86_64-linux-gnu /usr/lib /lib/x86_64-linux-gnu /lib/../lib /usr/lib/x86_64-linux-gnu /usr/lib/../lib /lib
    libs=-lpthread -lnsl -ldb -ldl -lm -lcrypt -lutil -lc
    perllibs=-lpthread -lnsl -ldl -lm -lcrypt -lutil -lc
    libc=libc-2.19.so, so=so, useshrplib=false, libperl=libperl.a
    gnulibc_version='2.19'
  Dynamic Linking:
    dlsrc=dl_dlopen.xs, dlext=so, d_dlsymun=undef, ccdlflags='-Wl,-E'
    cccdlflags='-fPIC', lddlflags='-shared -O2 -L/usr/local/lib -fstack-protector-strong'


Characteristics of this binary (from libperl): 
  Compile-time options: HAS_TIMES MULTIPLICITY PERLIO_LAYERS
                        PERL_DONT_CREATE_GVSV
                        PERL_HASH_FUNC_ONE_AT_A_TIME_HARD
                        PERL_IMPLICIT_CONTEXT PERL_MALLOC_WRAP
                        PERL_NEW_COPY_ON_WRITE PERL_PRESERVE_IVUV
                        USE_64_BIT_ALL USE_64_BIT_INT USE_ITHREADS
                        USE_LARGE_FILES USE_LOCALE USE_LOCALE_COLLATE
                        USE_LOCALE_CTYPE USE_LOCALE_NUMERIC USE_LOCALE_TIME
                        USE_PERLIO USE_PERL_ATOF USE_REENTRANT_API
  Built under linux
  Compiled at Jul 18 2017 10:39:58
  %ENV:
    PERL="5.22.4"
    PERL5LIB=""
    PERL5OPT=""
    PERL5_CPANPLUS_IS_RUNNING="21290"
    PERL5_CPAN_IS_RUNNING="21290"
    PERLVER="5.22.4"
    PERL_INLINE_DIRECTORY="/home/david/.Inline-5.22.4"
    PERL_MM_USE_DEFAULT="1"
    PERL_USE_UNSAFE_INC="0"
  @INC:
    /home/david/cpantesting/perl-5.22.4/lib/site_perl/5.22.4/x86_64-linux-thread-multi
    /home/david/cpantesting/perl-5.22.4/lib/site_perl/5.22.4
    /home/david/cpantesting/perl-5.22.4/lib/5.22.4/x86_64-linux-thread-multi
    /home/david/cpantesting/perl-5.22.4/lib/5.22.4
    .