MooseX-Types-Structured v0.36 Perl 5 v5.37.12 i86pc-solaris-64
- Status
- Pass
- From
- Carlos Guevara
- Dist
-
MooseX-Types-Structured v0.36
- Platform
- Perl 5 v5.37.12 i86pc-solaris-64
- Date
- 2023-06-02 05:44:38
- ID
- 9013e74e-0108-11ee-98f7-e2d8aca58d5c
This distribution has been tested as part of the CPAN Testers
project, supporting the Perl programming language. See
http://wiki.cpantesters.org/ for more information or email
questions to cpan-testers-discuss@perl.org
--
Dear Karen Etheridge,
This is a computer-generated report for MooseX-Types-Structured-0.36
on perl 5.37.12, created by CPAN-Reporter-1.2019.
Thank you for uploading your work to CPAN. Congratulations!
All tests were successful.
Sections of this report:
* Tester comments
* Program output
* Prerequisites
* Environment and other context
------------------------------
TESTER COMMENTS
------------------------------
Additional comments from tester:
this report is from an automated smoke testing program
and was not reviewed by a human for accuracy
------------------------------
PROGRAM OUTPUT
------------------------------
Output from './Build test':
t/00-load.t .................... ok
#
# Versions for all modules listed in MYMETA.json (including optional ones):
#
# === Configure Requires ===
#
# Module Want Have
# ------------------- ----- -----
# Module::Build::Tiny 0.034 0.045
#
# === Configure Suggests ===
#
# Module Want Have
# -------- ------- ----
# JSON::PP 2.27300 4.16
#
# === Test Requires ===
#
# Module Want Have
# -------------------- ---- --------
# Data::Dumper any 2.188
# DateTime any 1.59
# File::Spec any 3.88
# Module::Metadata any 1.000038
# MooseX::Types::Moose any 0.50
# Test::Fatal any 0.017
# Test::More 0.88 1.302195
# Test::Needs any 0.002010
# strict any 1.12
# warnings any 1.64
#
# === Test Recommends ===
#
# Module Want Have
# ---------- -------- --------
# CPAN::Meta 2.120900 2.150010
#
# === Test Suggests ===
#
# Module Want Have
# ----------------------- ---- ----
# MooseX::Types::DateTime any 0.13
#
# === Runtime Requires ===
#
# Module Want Have
# -------------------------------------------- ----- ------
# Devel::PartialDump 0.13 0.20
# Moose any 2.2203
# Moose::Meta::TypeCoercion any 2.2203
# Moose::Meta::TypeConstraint any 2.2203
# Moose::Meta::TypeConstraint::Parameterizable any 2.2203
# Moose::Util::TypeConstraints 1.06 2.2203
# MooseX::Types 0.22 0.50
# Scalar::Util any 1.63
# Sub::Exporter 0.982 0.989
# if any 0.0610
# namespace::clean 0.19 0.27
# overload any 1.37
#
# === Other Modules ===
#
# Module Have
# -------------------- ----
# Dist::CheckConflicts 0.11
# JSON::PP 4.16
# Sub::Name 0.27
# YAML 1.30
# autodie 2.36
#
t/00-report-prereqs.t .......... ok
t/01-basic.t ................... ok
t/02-tuple.t ................... ok
t/03-dict.t .................... ok
t/04-combined.t ................ ok
t/04-map.t ..................... ok
t/05-advanced.t ................ ok
t/06-api.t ..................... ok
t/07-coerce.t .................. ok
t/08-examples.t ................ ok
t/09-optional.t ................ ok
t/10-recursion.t ............... ok
t/11-overflow.t ................ ok
t/12-error.t ................... ok
t/13-deeper_error.t ............ ok
t/14-fully-qualified.t ......... ok
t/bug-incorrect-message.t ...... ok
t/bug-is-subtype.t ............. ok
t/bug-mixed-stringy.t .......... ok
t/bug-optional.t ............... ok
t/regressions/01-is_type_of.t .. ok
t/zzz-check-breaks.t ........... ok
All tests successful.
Files=23, Tests=362, 15 wallclock secs ( 0.17 usr 0.12 sys + 12.20 cusr 1.97 csys = 14.45 CPU)
Result: PASS
------------------------------
PREREQUISITES
------------------------------
Prerequisite modules loaded:
requires:
Module Need Have
-------------------------------------------- ----- --------
Devel::PartialDump 0.13 0.20
if 0 0.0610
Moose 0 2.2203
Moose::Meta::TypeCoercion 0 2.2203
Moose::Meta::TypeConstraint 0 2.2203
Moose::Meta::TypeConstraint::Parameterizable 0 2.2203
Moose::Util::TypeConstraints 1.06 2.2203
MooseX::Types 0.22 0.50
namespace::clean 0.19 0.27
overload 0 1.37
perl 5.008 5.037012
Scalar::Util 0 1.63
Sub::Exporter 0.982 0.989
build_requires:
Module Need Have
-------------------------------------------- ----- --------
Data::Dumper 0 2.188
DateTime 0 1.59
File::Spec 0 3.88
Module::Metadata 0 1.000038
MooseX::Types::Moose 0 0.50
perl 5.008 5.037012
strict 0 1.12
Test::Fatal 0 0.017
Test::More 0.88 1.302195
Test::Needs 0 0.002010
warnings 0 1.64
configure_requires:
Module Need Have
-------------------------------------------- ----- --------
Module::Build::Tiny 0.034 0.045
perl 5.008 5.037012
------------------------------
ENVIRONMENT AND OTHER CONTEXT
------------------------------
Environment variables:
AUTOMATED_TESTING = 1
DATE_MANIP_TEST_DM5 = 1
LANG = en_US.UTF-8
LC_ALL = C
NONINTERACTIVE_TESTING = 1
NO_NETWORK_TESTING = 1
PATH = /export/home/cpan/bin/perl/bin:/usr/bin:/usr/sbin:/sbin:/opt/ooce/bin:/usr/gnu/bin
PERL5LIB =
PERL5OPT =
PERL5_CPANPLUS_IS_RUNNING = 13813
PERL5_CPAN_IS_RUNNING = 13813
PERL_MM_USE_DEFAULT = 1
PERL_USE_UNSAFE_INC = 1
SHELL = /bin/sh
TERM = screen
Perl special variables (and OS-specific diagnostics, for MSWin32):
$^X = /export/home/cpan/bin/perl/bin/perl5.37.12
$UID/$EUID = 101 / 101
$GID = 1 1
$EGID = 1 1
Perl module toolchain versions installed:
Module Have
------------------- --------
CPAN 2.34
CPAN::Meta 2.150010
Cwd 3.89
ExtUtils::CBuilder 0.280238
ExtUtils::Command 7.70
ExtUtils::Install 2.22
ExtUtils::MakeMaker 7.70
ExtUtils::Manifest 1.73
ExtUtils::ParseXS 3.51
File::Spec 3.88
JSON 4.10
JSON::PP 4.16
Module::Build 0.4234
Module::Signature n/a
Parse::CPAN::Meta 2.150010
Test2 1.302195
Test::Harness 3.44
Test::More 1.302195
YAML 1.30
YAML::Syck 1.34
version 0.9929
--
Summary of my perl5 (revision 5 version 37 subversion 12) configuration:
Commit id: 51ccdf4c0e607490a3b5deea2e98272df38b396f
Platform:
osname=solaris
osvers=2.11
archname=i86pc-solaris-64
uname='sunos cjg-omniosce 5.11 omnios-r151044-f18bff8d13 i86pc i386 i86pc '
config_args='-des -Dprefix=/export/home/cpan/bin/perl -Dscriptdir=/export/home/cpan/bin/perl/bin -Dusedevel -Duse64bitall -Dcc=gcc'
hint=recommended
useposix=true
d_sigaction=define
useithreads=undef
usemultiplicity=undef
use64bitint=define
use64bitall=define
uselongdouble=undef
usemymalloc=n
default_inc_excludes_dot=define
Compiler:
cc='gcc'
ccflags ='-m64 -fwrapv -fno-strict-aliasing -pipe -fstack-protector-strong -D_LARGEFILE_SOURCE -D_FILE_OFFSET_BITS=64 -D_FORTIFY_SOURCE=2'
optimize='-O'
cppflags='-m64 -fwrapv -fno-strict-aliasing -pipe -fstack-protector-strong'
ccversion=''
gccversion='11.3.0'
gccosandvers=''
intsize=4
longsize=8
ptrsize=8
doublesize=8
byteorder=12345678
doublekind=3
d_longlong=define
longlongsize=8
d_longdbl=define
longdblsize=16
longdblkind=3
ivtype='long'
ivsize=8
nvtype='double'
nvsize=8
Off_t='off_t'
lseeksize=8
alignbytes=8
prototype=define
Linker and Libraries:
ld='gcc'
ldflags =' -m64 -fstack-protector-strong -L/usr/gnu/lib '
libpth=/opt/gcc-11/lib /usr/lib /usr/gnu/lib /usr/ccs/lib
libs=-lpthread -lsocket -lnsl -ldl -lm -lc
perllibs=-lpthread -lsocket -lnsl -ldl -lm -lc
libc=/lib/libc.so
so=so
useshrplib=true
libperl=libperl.so
gnulibc_version=''
Dynamic Linking:
dlsrc=dl_dlopen.xs
dlext=so
d_dlsymun=undef
ccdlflags=' -R /export/home/cpan/bin/perl/lib/5.37.12/i86pc-solaris-64/CORE'
cccdlflags='-fPIC'
lddlflags=' -shared -m64 -L/usr/gnu/lib -fstack-protector-strong'
Characteristics of this binary (from libperl):
Compile-time options:
HAS_LONG_DOUBLE
HAS_STRTOLD
HAS_TIMES
PERLIO_LAYERS
PERL_COPY_ON_WRITE
PERL_DONT_CREATE_GVSV
PERL_HASH_FUNC_SIPHASH13
PERL_HASH_USE_SBOX32
PERL_MALLOC_WRAP
PERL_OP_PARENT
PERL_PRESERVE_IVUV
PERL_USE_DEVEL
PERL_USE_SAFE_PUTENV
USE_64_BIT_ALL
USE_64_BIT_INT
USE_LARGE_FILES
USE_LOCALE
USE_LOCALE_COLLATE
USE_LOCALE_CTYPE
USE_LOCALE_NUMERIC
USE_LOCALE_TIME
USE_PERLIO
USE_PERL_ATOF
Built under solaris
Compiled at Jun 1 2023 12:43:53
%ENV:
PERL5LIB=""
PERL5OPT=""
PERL5_CPANPLUS_IS_RUNNING="13813"
PERL5_CPAN_IS_RUNNING="13813"
PERL_MM_USE_DEFAULT="1"
PERL_USE_UNSAFE_INC="1"
@INC:
/export/home/cpan/bin/perl/lib/site_perl/5.37.12/i86pc-solaris-64
/export/home/cpan/bin/perl/lib/site_perl/5.37.12
/export/home/cpan/bin/perl/lib/5.37.12/i86pc-solaris-64
/export/home/cpan/bin/perl/lib/5.37.12
.