Report for WWW-GitHub-Gist-0.10

Back
From: metabase:user:30f4dfbe-2aae-11df-837a-5e0a49663a4f
Subject: PASS WWW-GitHub-Gist-0.10 v5.6.2 GNU/Linux
Date: 2011-09-25T01:42:00Z

This distribution has been tested as part of the CPAN Testers
project, supporting the Perl programming language.  See
http://wiki.cpantesters.org/ for more information or email
questions to cpan-testers-discuss@perl.org


--
Dear Alessandro Ghedini,

This is a computer-generated report for WWW-GitHub-Gist-0.10
on perl 5.6.2, created by CPAN-Reporter-1.1902.

Thank you for uploading your work to CPAN.  Congratulations!
All tests were successful.

Sections of this report:

    * Tester comments
    * Program output
    * Prerequisites
    * Environment and other context

------------------------------
TESTER COMMENTS
------------------------------

Additional comments from tester:

this report is from an automated smoke testing program
and was not reviewed by a human for accuracy

------------------------------
PROGRAM OUTPUT
------------------------------

Output from '/usr/bin/make test':

PERL_DL_NONLAZY=1 /usr/local/bin/perl5.6.2 "-MExtUtils::Command::MM" "-e" "test_harness(0, 'blib/lib', 'blib/arch')" t/*.t
# Testing WWW::GitHub::Gist 0.10, Perl 5.006002, /usr/local/bin/perl5.6.2
t/00-load.t ....... ok
t/01-gist.t ....... ok
t/boilerplate.t ... ok
t/manifest.t ...... skipped: Author tests not required for installation
t/pod-coverage.t .. ok
t/pod.t ........... skipped: Test::Pod 1.22 required for testing POD
All tests successful.

Test Summary Report
-------------------
t/boilerplate.t (Wstat: 0 Tests: 3 Failed: 0)
  TODO passed:   1-3
Files=6, Tests=6,  0 wallclock secs ( 0.04 usr  0.00 sys +  0.22 cusr  0.04 csys =  0.30 CPU)
Result: PASS

------------------------------
PREREQUISITES
------------------------------

Prerequisite modules loaded:

requires:

    Module              Need Have 
    ------------------- ---- -----
    Carp                0    0    
    constant            0    1.19 
    HTTP::Tiny          0    0.011
    JSON                0    2.53 
    Test::More          0    0.98 
    URI::Escape         0    3.30 

configure_requires:

    Module              Need Have 
    ------------------- ---- -----
    ExtUtils::MakeMaker 6.31 6.56 


------------------------------
ENVIRONMENT AND OTHER CONTEXT
------------------------------

Environment variables:

    AUTOMATED_TESTING = 1
    LANG = en_GB.UTF-8
    PATH = /usr/bin:/bin
    PERL5LIB = 
    PERL5OPT = 
    PERL5_CPANPLUS_IS_RUNNING = 27636
    PERL5_CPAN_IS_RUNNING = 27636
    PERL5_CPAN_IS_RUNNING_IN_RECURSION = 23607,27636
    PERL_CR_SMOKER_CURRENT = Task-BeLike-ALEXBIO-0.05
    PERL_EXTUTILS_AUTOINSTALL = --defaultdeps
    PERL_MM_USE_DEFAULT = 1
    SHELL = /bin/sh

Perl special variables (and OS-specific diagnostics, for MSWin32):

    $^X = /usr/local/bin/perl5.6.2
    $UID/$EUID = 1000 / 1000
    $GID = 1000 1000 46 44 29 25 24 20
    $EGID = 1000 1000 46 44 29 25 24 20

Perl module toolchain versions installed:

    Module              Have  
    ------------------- ------
    CPAN                1.9402
    Cwd                 3.33  
    ExtUtils::CBuilder  0.2703
    ExtUtils::Command   1.16  
    ExtUtils::Install   1.54  
    ExtUtils::MakeMaker 6.56  
    ExtUtils::Manifest  1.58  
    ExtUtils::ParseXS   2.2206
    File::Spec          3.33  
    Module::Build       n/a   
    Module::Signature   0.66  
    Test::Harness       3.23  
    Test::More          0.98  
    YAML                broken
    YAML::Syck          1.17  
    version             0.91  


--

Summary of my perl5 (revision 5.0 version 6 subversion 2) configuration:
  Platform:
    osname=linux, osvers=2.6.32-5-686, archname=i686-linux-64int-ld
    uname='linux gateway.bandsman.co.uk 2.6.32-5-686 #1 smp thu nov 25 18:43:34 utc 2010 i686 gnulinux '
    config_args='-de'
    hint=previous, useposix=true, d_sigaction=define
    usethreads=undef use5005threads=undef useithreads=undef usemultiplicity=undef
    useperlio=undef d_sfio=undef uselargefiles=define usesocks=undef
    use64bitint=define use64bitall=undef uselongdouble=define
  Compiler:
    cc='cc', ccflags ='-DDEBUGGING -fno-strict-aliasing -I/usr/local/include -D_LARGEFILE_SOURCE -D_FILE_OFFSET_BITS=64',
    optimize='-O2',
    cppflags='-DDEBUGGING -fno-strict-aliasing -I/usr/local/include -D_LARGEFILE_SOURCE -D_FILE_OFFSET_BITS=64'
    ccversion='', gccversion='4.4.5', gccosandvers=''
    intsize=4, longsize=4, ptrsize=4, doublesize=8, byteorder=12345678
    d_longlong=define, longlongsize=8, d_longdbl=define, longdblsize=12
    ivtype='long long', ivsize=8, nvtype='long double', nvsize=12, Off_t='off_t', lseeksize=8
    alignbytes=4, usemymalloc=n, prototype=define
  Linker and Libraries:
    ld='cc', ldflags =' -L/usr/local/lib'
    libpth=/usr/local/lib /lib /usr/lib
    libs=-lnsl -lgdbm -ldb -ldl -lm -lc -lcrypt -lutil
    perllibs=-lnsl -ldl -lm -lc -lcrypt -lutil
    libc=/lib/libc-2.11.2.so, so=so, useshrplib=false, libperl=libperl.a
  Dynamic Linking:
    dlsrc=dl_dlopen.xs, dlext=so, d_dlsymun=undef, ccdlflags='-rdynamic'
    cccdlflags='-fpic', lddlflags='-shared -L/usr/local/lib'


Characteristics of this binary (from libperl): 
  Compile-time options: DEBUGGING USE_64_BIT_INT USE_LONG_DOUBLE USE_LARGE_FILES
  Locally applied patches:
  	SMOKE2bce2321552345ccb985b6a4b87542c3eaefbac5
  Built under linux
  Compiled at Dec  1 2010 15:18:01
  %ENV:
    PERL5LIB=""
    PERL5OPT=""
    PERL5_CPANPLUS_IS_RUNNING="27636"
    PERL5_CPAN_IS_RUNNING="27636"
    PERL5_CPAN_IS_RUNNING_IN_RECURSION="23607,27636"
    PERL_CR_SMOKER_CURRENT="Task-BeLike-ALEXBIO-0.05"
    PERL_EXTUTILS_AUTOINSTALL="--defaultdeps"
    PERL_MM_USE_DEFAULT="1"
  @INC:
    /usr/local/lib/perl5/5.6.2/i686-linux-64int-ld
    /usr/local/lib/perl5/5.6.2
    /usr/local/lib/perl5/site_perl/5.6.2/i686-linux-64int-ld
    /usr/local/lib/perl5/site_perl/5.6.2
    /usr/local/lib/perl5/site_perl/5.13.7
    /usr/local/lib/perl5/site_perl/5.13.6
    /usr/local/lib/perl5/site_perl/5.13.5
    /usr/local/lib/perl5/site_perl/5.13.4
    /usr/local/lib/perl5/site_perl
    .