lsid-perl v1.1.7 Perl 5 v5.37.2 x86_64-linux-quadmath

Status
Pass
From
Andreas J. König (ANDK)
Dist
lsid-perl v1.1.7
Platform
Perl 5 v5.37.2 x86_64-linux-quadmath
Date
2022-08-17 05:15:09
ID
90417692-1deb-11ed-9286-5221d33cefac
This distribution has been tested as part of the CPAN Testers
project, supporting the Perl programming language.  See
http://wiki.cpantesters.org/ for more information or email
questions to cpan-testers-discuss@perl.org


--
Dear Edward Kawas,

This is a computer-generated report for lsid-perl-1.1.7
on perl 5.37.2, created by CPAN-Reporter-1.2018.

Thank you for uploading your work to CPAN.  Congratulations!
All tests were successful.

Sections of this report:

    * Tester comments
    * Program output
    * Prerequisites
    * Environment and other context

------------------------------
TESTER COMMENTS
------------------------------

Additional comments from tester:

this report is from an automated smoke testing program
and was not reviewed by a human for accuracy

------------------------------
PROGRAM OUTPUT
------------------------------

Output from '/usr/bin/make test':

"/tmp/basesmoker-reloperl-o0xS/bin/perl" "-Iinc" Makefile.PL --config= --installdeps=MIME::Tools,6.106

*** Since we're running under CPANPLUS, I'll just let it take care
    of the dependency's installation later.
PERL_DL_NONLAZY=1 "/tmp/basesmoker-reloperl-o0xS/bin/perl" "-MExtUtils::Command::MM" "-MTest::Harness" "-e" "undef *Test::Harness::Switches; test_harness(0, 'inc', 'blib/lib', 'blib/arch')" t/1.t t/Authority.t t/ID.t t/Locator.t t/WSDL01.t t/WSDL02.t t/WSDL03.t t/WSDL04.t t/WSDL05.t t/WSDL_ns01.t t/WSDL_ns02.t
t/1.t .......... ok
t/Authority.t .. ok
t/ID.t ......... ok
t/Locator.t .... ok
Use of uninitialized value in uc at /home/sand/.cpan/privbuild/k93msid/lsid-perl-1.1.7-0/blib/lib/LS/Authority/WSDL/Simple.pm line 332.
t/WSDL01.t ..... ok
Use of uninitialized value in uc at /home/sand/.cpan/privbuild/k93msid/lsid-perl-1.1.7-0/blib/lib/LS/Authority/WSDL/Simple.pm line 332.
Use of uninitialized value in uc at /home/sand/.cpan/privbuild/k93msid/lsid-perl-1.1.7-0/blib/lib/LS/Authority/WSDL/Simple.pm line 332.
t/WSDL02.t ..... ok
Use of uninitialized value in uc at /home/sand/.cpan/privbuild/k93msid/lsid-perl-1.1.7-0/blib/lib/LS/Authority/WSDL/Simple.pm line 332.
Use of uninitialized value in uc at /home/sand/.cpan/privbuild/k93msid/lsid-perl-1.1.7-0/blib/lib/LS/Authority/WSDL/Simple.pm line 332.
t/WSDL03.t ..... ok
Use of uninitialized value in uc at /home/sand/.cpan/privbuild/k93msid/lsid-perl-1.1.7-0/blib/lib/LS/Authority/WSDL/Simple.pm line 332.
Use of uninitialized value in uc at /home/sand/.cpan/privbuild/k93msid/lsid-perl-1.1.7-0/blib/lib/LS/Authority/WSDL/Simple.pm line 332.
Use of uninitialized value in uc at /home/sand/.cpan/privbuild/k93msid/lsid-perl-1.1.7-0/blib/lib/LS/Authority/WSDL/Simple.pm line 332.
t/WSDL04.t ..... ok
Use of uninitialized value in uc at /home/sand/.cpan/privbuild/k93msid/lsid-perl-1.1.7-0/blib/lib/LS/Authority/WSDL/Services.pm line 163.
t/WSDL05.t ..... ok
Use of uninitialized value in uc at /home/sand/.cpan/privbuild/k93msid/lsid-perl-1.1.7-0/blib/lib/LS/Authority/WSDL/Simple.pm line 332.
Use of uninitialized value in uc at /home/sand/.cpan/privbuild/k93msid/lsid-perl-1.1.7-0/blib/lib/LS/Authority/WSDL/Simple.pm line 332.
Use of uninitialized value in uc at /home/sand/.cpan/privbuild/k93msid/lsid-perl-1.1.7-0/blib/lib/LS/Authority/WSDL/Simple.pm line 332.
t/WSDL_ns01.t .. ok
Use of uninitialized value in uc at /home/sand/.cpan/privbuild/k93msid/lsid-perl-1.1.7-0/blib/lib/LS/Authority/WSDL/Simple.pm line 332.
Use of uninitialized value in uc at /home/sand/.cpan/privbuild/k93msid/lsid-perl-1.1.7-0/blib/lib/LS/Authority/WSDL/Simple.pm line 332.
Use of uninitialized value in uc at /home/sand/.cpan/privbuild/k93msid/lsid-perl-1.1.7-0/blib/lib/LS/Authority/WSDL/Simple.pm line 332.
t/WSDL_ns02.t .. ok
All tests successful.
Files=11, Tests=192,  3 wallclock secs ( 0.06 usr  0.04 sys +  1.68 cusr  0.30 csys =  2.08 CPU)
Result: PASS

------------------------------
PREREQUISITES
------------------------------

Prerequisite modules loaded:

requires:

    Module              Need  Have   
    ------------------- ----- -------
    Carp                0     1.53   
    Compress::Zlib      1.22  2.201  
    Error               0.15  0.17029
    File::Copy          2.01  2.39   
    File::Temp          0.12  0.2311 
    LWP                 5.53  6.67   
    MIME::Base64        2.12  3.16   
  ! MIME::Tools         6.106 5.510  
    Net::DNS            0.28  1.34   
    Net::FTP            2.65  3.14   
    RDF::Core           0.30  0.51   
    SOAP::Lite          0.69  1.27   
    Time::HiRes         1.20  1.9770 
    URI                 1.21  5.12   
    XML::XPath          1.12  1.48   

build_requires:

    Module              Need  Have   
    ------------------- ----- -------
    ExtUtils::MakeMaker 0     7.64   


------------------------------
ENVIRONMENT AND OTHER CONTEXT
------------------------------

Environment variables:

    AUTOMATED_TESTING = 1
    LANG = en_US.UTF-8
    LANGUAGE = en_US:en
    PATH = /home/sand/bin:/usr/local/bin:/usr/bin:/bin:/usr/games:/usr/local/perl/bin:/usr/X11/bin:/sbin:/usr/sbin
    PERL5LIB = 
    PERL5OPT = 
    PERL5_CPANPLUS_IS_RUNNING = 1192033
    PERL5_CPAN_IS_RUNNING = 1192033
    PERL_CANARY_STABILITY_NOPROMPT = 1
    PERL_MM_USE_DEFAULT = 1
    PERL_USE_UNSAFE_INC = 1
    SHELL = /usr/bin/zsh
    TERM = screen

Perl special variables (and OS-specific diagnostics, for MSWin32):

    $^X = /tmp/basesmoker-reloperl-o0xS/bin/perl
    $UID/$EUID = 1005 / 1005
    $GID = 1005 1005
    $EGID = 1005 1005

Perl module toolchain versions installed:

    Module              Have    
    ------------------- --------
    CPAN                2.34    
    CPAN::Meta          2.150010
    Cwd                 3.86    
    ExtUtils::CBuilder  0.280237
    ExtUtils::Command   7.64    
    ExtUtils::Install   2.20    
    ExtUtils::MakeMaker 7.64    
    ExtUtils::Manifest  1.73    
    ExtUtils::ParseXS   3.45    
    File::Spec          3.86    
    JSON                4.09    
    JSON::PP            4.11    
    Module::Build       0.4231  
    Module::Signature   0.88    
    Parse::CPAN::Meta   2.150010
    Test::Harness       3.44    
    Test::More          1.302191
    YAML                1.30    
    YAML::Syck          1.34    
    version             0.9929  


--

Summary of my perl5 (revision 5 version 37 subversion 2) configuration:
  Commit id: 7f9b65d969a1c8b44028cacbb9e88596d1e5a8a3
  Platform:
    osname=linux
    osvers=5.10.0-14-amd64
    archname=x86_64-linux-quadmath
    uname='linux k93msid 5.10.0-14-amd64 #1 smp debian 5.10.113-1 (2022-04-29) x86_64 gnulinux '
    config_args='-Dprefix=/home/sand/src/perl/repoperls/installed-perls/host/k93msid/v5.37.2/ec94 -Dmyhostname=k93msid -Dinstallusrbinperl=n -Uversiononly -Dusedevel -des -Ui_db -Dlibswanted=cl pthread socket inet nsl gdbm dbm malloc dl ld sun m crypt sec util c cposix posix ucb BSD gdbm_compat -Uuseithreads -Uuselongdouble -DEBUGGING=both -Dusequadmath'
    hint=recommended
    useposix=true
    d_sigaction=define
    useithreads=undef
    usemultiplicity=undef
    use64bitint=define
    use64bitall=define
    uselongdouble=undef
    usemymalloc=n
    default_inc_excludes_dot=define
  Compiler:
    cc='cc'
    ccflags ='-fwrapv -DDEBUGGING -fno-strict-aliasing -pipe -fstack-protector-strong -I/usr/local/include -D_LARGEFILE_SOURCE -D_FILE_OFFSET_BITS=64 -D_FORTIFY_SOURCE=2'
    optimize='-O2 -g'
    cppflags='-fwrapv -DDEBUGGING -fno-strict-aliasing -pipe -fstack-protector-strong -I/usr/local/include'
    ccversion=''
    gccversion='11.3.0'
    gccosandvers=''
    intsize=4
    longsize=8
    ptrsize=8
    doublesize=8
    byteorder=12345678
    doublekind=3
    d_longlong=define
    longlongsize=8
    d_longdbl=define
    longdblsize=16
    longdblkind=3
    ivtype='long'
    ivsize=8
    nvtype='__float128'
    nvsize=16
    Off_t='off_t'
    lseeksize=8
    alignbytes=16
    prototype=define
  Linker and Libraries:
    ld='cc'
    ldflags =' -fstack-protector-strong -L/usr/local/lib'
    libpth=/usr/local/lib /usr/lib/x86_64-linux-gnu /usr/lib /usr/lib64
    libs=-lpthread -lnsl -ldl -lm -lcrypt -lutil -lc -lquadmath
    perllibs=-lpthread -lnsl -ldl -lm -lcrypt -lutil -lc -lquadmath
    libc=libc-2.33.so
    so=so
    useshrplib=false
    libperl=libperl.a
    gnulibc_version='2.33'
  Dynamic Linking:
    dlsrc=dl_dlopen.xs
    dlext=so
    d_dlsymun=undef
    ccdlflags='-Wl,-E'
    cccdlflags='-fPIC'
    lddlflags='-shared -O2 -g -L/usr/local/lib -fstack-protector-strong'


Characteristics of this binary (from libperl): 
  Compile-time options:
    DEBUGGING
    HAS_TIMES
    PERLIO_LAYERS
    PERL_COPY_ON_WRITE
    PERL_DONT_CREATE_GVSV
    PERL_MALLOC_WRAP
    PERL_OP_PARENT
    PERL_PRESERVE_IVUV
    PERL_USE_DEVEL
    PERL_USE_SAFE_PUTENV
    USE_64_BIT_ALL
    USE_64_BIT_INT
    USE_LARGE_FILES
    USE_LOCALE
    USE_LOCALE_COLLATE
    USE_LOCALE_CTYPE
    USE_LOCALE_NUMERIC
    USE_LOCALE_TIME
    USE_PERLIO
    USE_PERL_ATOF
    USE_QUADMATH
  Built under linux
  Compiled at Jul 28 2022 22:06:14
  %ENV:
    PERL5LIB=""
    PERL5OPT=""
    PERL5_CPANPLUS_IS_RUNNING="1192033"
    PERL5_CPAN_IS_RUNNING="1192033"
    PERL_CANARY_STABILITY_NOPROMPT="1"
    PERL_MM_USE_DEFAULT="1"
    PERL_USE_UNSAFE_INC="1"
  @INC:
    /home/sand/src/perl/repoperls/installed-perls/host/k93msid/v5.37.2/ec94/lib/site_perl/5.37.2/x86_64-linux-quadmath
    /home/sand/src/perl/repoperls/installed-perls/host/k93msid/v5.37.2/ec94/lib/site_perl/5.37.2
    /home/sand/src/perl/repoperls/installed-perls/host/k93msid/v5.37.2/ec94/lib/5.37.2/x86_64-linux-quadmath
    /home/sand/src/perl/repoperls/installed-perls/host/k93msid/v5.37.2/ec94/lib/5.37.2
    .