XS-Framework v1.5.0 Perl 5 v5.22.4 x86_64-linux-thread-multi

Status
Pass
From
David Cantrell (DCANTRELL)
Dist
XS-Framework v1.5.0
Platform
Perl 5 v5.22.4 x86_64-linux-thread-multi
Date
2021-07-15 05:21:52
ID
904fbbd8-e52c-11eb-bf27-17b5bb8d1a8c
This distribution has been tested as part of the CPAN Testers
project, supporting the Perl programming language.  See
http://wiki.cpantesters.org/ for more information or email
questions to cpan-testers-discuss@perl.org


--
Dear Oleg Pronin,

This is a computer-generated report for XS-Framework-1.5.0
on perl 5.22.4, created by CPAN-Reporter-1.2018.

Thank you for uploading your work to CPAN.  Congratulations!
All tests were successful.

Sections of this report:

    * Tester comments
    * Program output
    * Prerequisites
    * Environment and other context

------------------------------
TESTER COMMENTS
------------------------------

Additional comments from tester:

this report is from an automated smoke testing program
and was not reviewed by a human for accuracy

------------------------------
PROGRAM OUTPUT
------------------------------

Output from '/usr/bin/make test':

"/home/david/cpantesting/perl-5.22.4/bin/perl" -MExtUtils::Command::MM -e 'cp_nonempty' -- Framework.bs blib/arch/auto/XS/Framework/Framework.bs 644
c++ -c  -Isrc -I/home/david/cpantesting/perl-5.22.4/lib/site_perl/5.22.4/x86_64-linux-thread-multi/next/XS.x/i -I/home/david/cpantesting/perl-5.22.4/lib/site_perl/5.22.4/XS/Install.x/i -I/home/david/cpantesting/perl-5.22.4/lib/site_perl/5.22.4/x86_64-linux-thread-multi/XS/libpanda.x/i -I/home/david/cpantesting/perl-5.22.4/lib/site_perl/5.22.4/XS/libcatch.x/i -Wall -Wextra  -std=c++14 -D_REENTRANT -D_GNU_SOURCE -fwrapv -fno-strict-aliasing -pipe -fstack-protector-strong -I/usr/local/include -D_LARGEFILE_SOURCE -D_FILE_OFFSET_BITS=64 -o t/typemap/function.o -O0   -DVERSION=\"0.0.0\" -DXS_VERSION=\"0.0.0\" -fPIC "-I/home/david/cpantesting/perl-5.22.4/lib/5.22.4/x86_64-linux-thread-multi/CORE"   t/typemap/function.cc
c++ -c  -Isrc -I/home/david/cpantesting/perl-5.22.4/lib/site_perl/5.22.4/x86_64-linux-thread-multi/next/XS.x/i -I/home/david/cpantesting/perl-5.22.4/lib/site_perl/5.22.4/XS/Install.x/i -I/home/david/cpantesting/perl-5.22.4/lib/site_perl/5.22.4/x86_64-linux-thread-multi/XS/libpanda.x/i -I/home/david/cpantesting/perl-5.22.4/lib/site_perl/5.22.4/XS/libcatch.x/i -Wall -Wextra  -std=c++14 -D_REENTRANT -D_GNU_SOURCE -fwrapv -fno-strict-aliasing -pipe -fstack-protector-strong -I/usr/local/include -D_LARGEFILE_SOURCE -D_FILE_OFFSET_BITS=64 -o t/typemap/ref.o -O0   -DVERSION=\"0.0.0\" -DXS_VERSION=\"0.0.0\" -fPIC "-I/home/david/cpantesting/perl-5.22.4/lib/5.22.4/x86_64-linux-thread-multi/CORE"   t/typemap/ref.cc
c++ -c  -Isrc -I/home/david/cpantesting/perl-5.22.4/lib/site_perl/5.22.4/x86_64-linux-thread-multi/next/XS.x/i -I/home/david/cpantesting/perl-5.22.4/lib/site_perl/5.22.4/XS/Install.x/i -I/home/david/cpantesting/perl-5.22.4/lib/site_perl/5.22.4/x86_64-linux-thread-multi/XS/libpanda.x/i -I/home/david/cpantesting/perl-5.22.4/lib/site_perl/5.22.4/XS/libcatch.x/i -Wall -Wextra  -std=c++14 -D_REENTRANT -D_GNU_SOURCE -fwrapv -fno-strict-aliasing -pipe -fstack-protector-strong -I/usr/local/include -D_LARGEFILE_SOURCE -D_FILE_OFFSET_BITS=64 -o t/svapi/array.o -O0   -DVERSION=\"0.0.0\" -DXS_VERSION=\"0.0.0\" -fPIC "-I/home/david/cpantesting/perl-5.22.4/lib/5.22.4/x86_64-linux-thread-multi/CORE"   t/svapi/array.cc
c++ -c  -Isrc -I/home/david/cpantesting/perl-5.22.4/lib/site_perl/5.22.4/x86_64-linux-thread-multi/next/XS.x/i -I/home/david/cpantesting/perl-5.22.4/lib/site_perl/5.22.4/XS/Install.x/i -I/home/david/cpantesting/perl-5.22.4/lib/site_perl/5.22.4/x86_64-linux-thread-multi/XS/libpanda.x/i -I/home/david/cpantesting/perl-5.22.4/lib/site_perl/5.22.4/XS/libcatch.x/i -Wall -Wextra  -std=c++14 -D_REENTRANT -D_GNU_SOURCE -fwrapv -fno-strict-aliasing -pipe -fstack-protector-strong -I/usr/local/include -D_LARGEFILE_SOURCE -D_FILE_OFFSET_BITS=64 -o t/svapi/glob.o -O0   -DVERSION=\"0.0.0\" -DXS_VERSION=\"0.0.0\" -fPIC "-I/home/david/cpantesting/perl-5.22.4/lib/5.22.4/x86_64-linux-thread-multi/CORE"   t/svapi/glob.cc
c++ -c  -Isrc -I/home/david/cpantesting/perl-5.22.4/lib/site_perl/5.22.4/x86_64-linux-thread-multi/next/XS.x/i -I/home/david/cpantesting/perl-5.22.4/lib/site_perl/5.22.4/XS/Install.x/i -I/home/david/cpantesting/perl-5.22.4/lib/site_perl/5.22.4/x86_64-linux-thread-multi/XS/libpanda.x/i -I/home/david/cpantesting/perl-5.22.4/lib/site_perl/5.22.4/XS/libcatch.x/i -Wall -Wextra  -std=c++14 -D_REENTRANT -D_GNU_SOURCE -fwrapv -fno-strict-aliasing -pipe -fstack-protector-strong -I/usr/local/include -D_LARGEFILE_SOURCE -D_FILE_OFFSET_BITS=64 -o t/svapi/hash.o -O0   -DVERSION=\"0.0.0\" -DXS_VERSION=\"0.0.0\" -fPIC "-I/home/david/cpantesting/perl-5.22.4/lib/5.22.4/x86_64-linux-thread-multi/CORE"   t/svapi/hash.cc
c++ -c  -Isrc -I/home/david/cpantesting/perl-5.22.4/lib/site_perl/5.22.4/x86_64-linux-thread-multi/next/XS.x/i -I/home/david/cpantesting/perl-5.22.4/lib/site_perl/5.22.4/XS/Install.x/i -I/home/david/cpantesting/perl-5.22.4/lib/site_perl/5.22.4/x86_64-linux-thread-multi/XS/libpanda.x/i -I/home/david/cpantesting/perl-5.22.4/lib/site_perl/5.22.4/XS/libcatch.x/i -Wall -Wextra  -std=c++14 -D_REENTRANT -D_GNU_SOURCE -fwrapv -fno-strict-aliasing -pipe -fstack-protector-strong -I/usr/local/include -D_LARGEFILE_SOURCE -D_FILE_OFFSET_BITS=64 -o t/svapi/io.o -O0   -DVERSION=\"0.0.0\" -DXS_VERSION=\"0.0.0\" -fPIC "-I/home/david/cpantesting/perl-5.22.4/lib/5.22.4/x86_64-linux-thread-multi/CORE"   t/svapi/io.cc
c++ -c  -Isrc -I/home/david/cpantesting/perl-5.22.4/lib/site_perl/5.22.4/x86_64-linux-thread-multi/next/XS.x/i -I/home/david/cpantesting/perl-5.22.4/lib/site_perl/5.22.4/XS/Install.x/i -I/home/david/cpantesting/perl-5.22.4/lib/site_perl/5.22.4/x86_64-linux-thread-multi/XS/libpanda.x/i -I/home/david/cpantesting/perl-5.22.4/lib/site_perl/5.22.4/XS/libcatch.x/i -Wall -Wextra  -std=c++14 -D_REENTRANT -D_GNU_SOURCE -fwrapv -fno-strict-aliasing -pipe -fstack-protector-strong -I/usr/local/include -D_LARGEFILE_SOURCE -D_FILE_OFFSET_BITS=64 -o t/svapi/object.o -O0   -DVERSION=\"0.0.0\" -DXS_VERSION=\"0.0.0\" -fPIC "-I/home/david/cpantesting/perl-5.22.4/lib/5.22.4/x86_64-linux-thread-multi/CORE"   t/svapi/object.cc
c++ -c  -Isrc -I/home/david/cpantesting/perl-5.22.4/lib/site_perl/5.22.4/x86_64-linux-thread-multi/next/XS.x/i -I/home/david/cpantesting/perl-5.22.4/lib/site_perl/5.22.4/XS/Install.x/i -I/home/david/cpantesting/perl-5.22.4/lib/site_perl/5.22.4/x86_64-linux-thread-multi/XS/libpanda.x/i -I/home/david/cpantesting/perl-5.22.4/lib/site_perl/5.22.4/XS/libcatch.x/i -Wall -Wextra  -std=c++14 -D_REENTRANT -D_GNU_SOURCE -fwrapv -fno-strict-aliasing -pipe -fstack-protector-strong -I/usr/local/include -D_LARGEFILE_SOURCE -D_FILE_OFFSET_BITS=64 -o t/svapi/ref.o -O0   -DVERSION=\"0.0.0\" -DXS_VERSION=\"0.0.0\" -fPIC "-I/home/david/cpantesting/perl-5.22.4/lib/5.22.4/x86_64-linux-thread-multi/CORE"   t/svapi/ref.cc
c++ -c  -Isrc -I/home/david/cpantesting/perl-5.22.4/lib/site_perl/5.22.4/x86_64-linux-thread-multi/next/XS.x/i -I/home/david/cpantesting/perl-5.22.4/lib/site_perl/5.22.4/XS/Install.x/i -I/home/david/cpantesting/perl-5.22.4/lib/site_perl/5.22.4/x86_64-linux-thread-multi/XS/libpanda.x/i -I/home/david/cpantesting/perl-5.22.4/lib/site_perl/5.22.4/XS/libcatch.x/i -Wall -Wextra  -std=c++14 -D_REENTRANT -D_GNU_SOURCE -fwrapv -fno-strict-aliasing -pipe -fstack-protector-strong -I/usr/local/include -D_LARGEFILE_SOURCE -D_FILE_OFFSET_BITS=64 -o t/svapi/scalar.o -O0   -DVERSION=\"0.0.0\" -DXS_VERSION=\"0.0.0\" -fPIC "-I/home/david/cpantesting/perl-5.22.4/lib/5.22.4/x86_64-linux-thread-multi/CORE"   t/svapi/scalar.cc
c++ -c  -Isrc -I/home/david/cpantesting/perl-5.22.4/lib/site_perl/5.22.4/x86_64-linux-thread-multi/next/XS.x/i -I/home/david/cpantesting/perl-5.22.4/lib/site_perl/5.22.4/XS/Install.x/i -I/home/david/cpantesting/perl-5.22.4/lib/site_perl/5.22.4/x86_64-linux-thread-multi/XS/libpanda.x/i -I/home/david/cpantesting/perl-5.22.4/lib/site_perl/5.22.4/XS/libcatch.x/i -Wall -Wextra  -std=c++14 -D_REENTRANT -D_GNU_SOURCE -fwrapv -fno-strict-aliasing -pipe -fstack-protector-strong -I/usr/local/include -D_LARGEFILE_SOURCE -D_FILE_OFFSET_BITS=64 -o t/svapi/scope.o -O0   -DVERSION=\"0.0.0\" -DXS_VERSION=\"0.0.0\" -fPIC "-I/home/david/cpantesting/perl-5.22.4/lib/5.22.4/x86_64-linux-thread-multi/CORE"   t/svapi/scope.cc
c++ -c  -Isrc -I/home/david/cpantesting/perl-5.22.4/lib/site_perl/5.22.4/x86_64-linux-thread-multi/next/XS.x/i -I/home/david/cpantesting/perl-5.22.4/lib/site_perl/5.22.4/XS/Install.x/i -I/home/david/cpantesting/perl-5.22.4/lib/site_perl/5.22.4/x86_64-linux-thread-multi/XS/libpanda.x/i -I/home/david/cpantesting/perl-5.22.4/lib/site_perl/5.22.4/XS/libcatch.x/i -Wall -Wextra  -std=c++14 -D_REENTRANT -D_GNU_SOURCE -fwrapv -fno-strict-aliasing -pipe -fstack-protector-strong -I/usr/local/include -D_LARGEFILE_SOURCE -D_FILE_OFFSET_BITS=64 -o t/svapi/simple.o -O0   -DVERSION=\"0.0.0\" -DXS_VERSION=\"0.0.0\" -fPIC "-I/home/david/cpantesting/perl-5.22.4/lib/5.22.4/x86_64-linux-thread-multi/CORE"   t/svapi/simple.cc
c++ -c  -Isrc -I/home/david/cpantesting/perl-5.22.4/lib/site_perl/5.22.4/x86_64-linux-thread-multi/next/XS.x/i -I/home/david/cpantesting/perl-5.22.4/lib/site_perl/5.22.4/XS/Install.x/i -I/home/david/cpantesting/perl-5.22.4/lib/site_perl/5.22.4/x86_64-linux-thread-multi/XS/libpanda.x/i -I/home/david/cpantesting/perl-5.22.4/lib/site_perl/5.22.4/XS/libcatch.x/i -Wall -Wextra  -std=c++14 -D_REENTRANT -D_GNU_SOURCE -fwrapv -fno-strict-aliasing -pipe -fstack-protector-strong -I/usr/local/include -D_LARGEFILE_SOURCE -D_FILE_OFFSET_BITS=64 -o t/svapi/stash.o -O0   -DVERSION=\"0.0.0\" -DXS_VERSION=\"0.0.0\" -fPIC "-I/home/david/cpantesting/perl-5.22.4/lib/5.22.4/x86_64-linux-thread-multi/CORE"   t/svapi/stash.cc
c++ -c  -Isrc -I/home/david/cpantesting/perl-5.22.4/lib/site_perl/5.22.4/x86_64-linux-thread-multi/next/XS.x/i -I/home/david/cpantesting/perl-5.22.4/lib/site_perl/5.22.4/XS/Install.x/i -I/home/david/cpantesting/perl-5.22.4/lib/site_perl/5.22.4/x86_64-linux-thread-multi/XS/libpanda.x/i -I/home/david/cpantesting/perl-5.22.4/lib/site_perl/5.22.4/XS/libcatch.x/i -Wall -Wextra  -std=c++14 -D_REENTRANT -D_GNU_SOURCE -fwrapv -fno-strict-aliasing -pipe -fstack-protector-strong -I/usr/local/include -D_LARGEFILE_SOURCE -D_FILE_OFFSET_BITS=64 -o t/svapi/sub.o -O0   -DVERSION=\"0.0.0\" -DXS_VERSION=\"0.0.0\" -fPIC "-I/home/david/cpantesting/perl-5.22.4/lib/5.22.4/x86_64-linux-thread-multi/CORE"   t/svapi/sub.cc
c++ -c  -Isrc -I/home/david/cpantesting/perl-5.22.4/lib/site_perl/5.22.4/x86_64-linux-thread-multi/next/XS.x/i -I/home/david/cpantesting/perl-5.22.4/lib/site_perl/5.22.4/XS/Install.x/i -I/home/david/cpantesting/perl-5.22.4/lib/site_perl/5.22.4/x86_64-linux-thread-multi/XS/libpanda.x/i -I/home/david/cpantesting/perl-5.22.4/lib/site_perl/5.22.4/XS/libcatch.x/i -Wall -Wextra  -std=c++14 -D_REENTRANT -D_GNU_SOURCE -fwrapv -fno-strict-aliasing -pipe -fstack-protector-strong -I/usr/local/include -D_LARGEFILE_SOURCE -D_FILE_OFFSET_BITS=64 -o t/svapi/sv.o -O0   -DVERSION=\"0.0.0\" -DXS_VERSION=\"0.0.0\" -fPIC "-I/home/david/cpantesting/perl-5.22.4/lib/5.22.4/x86_64-linux-thread-multi/CORE"   t/svapi/sv.cc
"/home/david/cpantesting/perl-5.22.4/bin/perl" -Ilib -MXS::Framework::ParseXS -MXS::Install::ParseXS "/home/david/cpantesting/perl-5.22.4/lib/site_perl/5.22.4/ExtUtils/xsubpp"  -hiertype -C++ -hiertype -C++ -typemap '/home/david/cpantesting/perl-5.22.4/lib/5.22.4/ExtUtils/typemap' -typemap '/home/david/cpantesting/perl-5.22.4/lib/site_perl/5.22.4/XS/Install.x/tm/typemap' -typemap '/home/david/cpantesting/perl-5.22.4/lib/site_perl/5.22.4/XS/Install.x/tm/typemap' -typemap '/home/david/cpantesting/perl-5.22.4/.cpan/build/XS-Framework-1.5.0-buRSJI/typemap' -typemap '/home/david/cpantesting/perl-5.22.4/.cpan/build/XS-Framework-1.5.0-buRSJI/typemap64' -typemap '/home/david/cpantesting/perl-5.22.4/.cpan/build/XS-Framework-1.5.0-buRSJI/typemap' -csuffix _xsgen.cc  t/MyTest.xs > t/MyTest.xsc
mv t/MyTest.xsc t/MyTest_xsgen.cc
c++ -c  -Isrc -I/home/david/cpantesting/perl-5.22.4/lib/site_perl/5.22.4/x86_64-linux-thread-multi/next/XS.x/i -I/home/david/cpantesting/perl-5.22.4/lib/site_perl/5.22.4/XS/Install.x/i -I/home/david/cpantesting/perl-5.22.4/lib/site_perl/5.22.4/x86_64-linux-thread-multi/XS/libpanda.x/i -I/home/david/cpantesting/perl-5.22.4/lib/site_perl/5.22.4/XS/libcatch.x/i -Wall -Wextra  -std=c++14 -D_REENTRANT -D_GNU_SOURCE -fwrapv -fno-strict-aliasing -pipe -fstack-protector-strong -I/usr/local/include -D_LARGEFILE_SOURCE -D_FILE_OFFSET_BITS=64 -o t/MyTest_xsgen.o -O0   -DVERSION=\"0.0.0\" -DXS_VERSION=\"0.0.0\" -fPIC "-I/home/david/cpantesting/perl-5.22.4/lib/5.22.4/x86_64-linux-thread-multi/CORE"   t/MyTest_xsgen.cc
"/home/david/cpantesting/perl-5.22.4/bin/perl" -Ilib -MXS::Framework::ParseXS -MXS::Install::ParseXS "/home/david/cpantesting/perl-5.22.4/lib/site_perl/5.22.4/ExtUtils/xsubpp"  -hiertype -C++ -hiertype -C++ -typemap '/home/david/cpantesting/perl-5.22.4/lib/5.22.4/ExtUtils/typemap' -typemap '/home/david/cpantesting/perl-5.22.4/lib/site_perl/5.22.4/XS/Install.x/tm/typemap' -typemap '/home/david/cpantesting/perl-5.22.4/lib/site_perl/5.22.4/XS/Install.x/tm/typemap' -typemap '/home/david/cpantesting/perl-5.22.4/.cpan/build/XS-Framework-1.5.0-buRSJI/typemap' -typemap '/home/david/cpantesting/perl-5.22.4/.cpan/build/XS-Framework-1.5.0-buRSJI/typemap64' -typemap '/home/david/cpantesting/perl-5.22.4/.cpan/build/XS-Framework-1.5.0-buRSJI/typemap' -csuffix _xsgen.cc  t/typemap/object/object.xs > t/typemap/object/object.xsc
mv t/typemap/object/object.xsc t/typemap/object/object_xsgen.cc
c++ -c  -Isrc -I/home/david/cpantesting/perl-5.22.4/lib/site_perl/5.22.4/x86_64-linux-thread-multi/next/XS.x/i -I/home/david/cpantesting/perl-5.22.4/lib/site_perl/5.22.4/XS/Install.x/i -I/home/david/cpantesting/perl-5.22.4/lib/site_perl/5.22.4/x86_64-linux-thread-multi/XS/libpanda.x/i -I/home/david/cpantesting/perl-5.22.4/lib/site_perl/5.22.4/XS/libcatch.x/i -Wall -Wextra  -std=c++14 -D_REENTRANT -D_GNU_SOURCE -fwrapv -fno-strict-aliasing -pipe -fstack-protector-strong -I/usr/local/include -D_LARGEFILE_SOURCE -D_FILE_OFFSET_BITS=64 -o t/typemap/object/object_xsgen.o -O0   -DVERSION=\"0.0.0\" -DXS_VERSION=\"0.0.0\" -fPIC "-I/home/david/cpantesting/perl-5.22.4/lib/5.22.4/x86_64-linux-thread-multi/CORE"   t/typemap/object/object_xsgen.cc
"/home/david/cpantesting/perl-5.22.4/bin/perl" -Ilib -MXS::Framework::ParseXS -MXS::Install::ParseXS "/home/david/cpantesting/perl-5.22.4/lib/site_perl/5.22.4/ExtUtils/xsubpp"  -hiertype -C++ -hiertype -C++ -typemap '/home/david/cpantesting/perl-5.22.4/lib/5.22.4/ExtUtils/typemap' -typemap '/home/david/cpantesting/perl-5.22.4/lib/site_perl/5.22.4/XS/Install.x/tm/typemap' -typemap '/home/david/cpantesting/perl-5.22.4/lib/site_perl/5.22.4/XS/Install.x/tm/typemap' -typemap '/home/david/cpantesting/perl-5.22.4/.cpan/build/XS-Framework-1.5.0-buRSJI/typemap' -typemap '/home/david/cpantesting/perl-5.22.4/.cpan/build/XS-Framework-1.5.0-buRSJI/typemap64' -typemap '/home/david/cpantesting/perl-5.22.4/.cpan/build/XS-Framework-1.5.0-buRSJI/typemap' -csuffix _xsgen.cc  t/cookbook/cookbook.xs > t/cookbook/cookbook.xsc
mv t/cookbook/cookbook.xsc t/cookbook/cookbook_xsgen.cc
c++ -c  -Isrc -I/home/david/cpantesting/perl-5.22.4/lib/site_perl/5.22.4/x86_64-linux-thread-multi/next/XS.x/i -I/home/david/cpantesting/perl-5.22.4/lib/site_perl/5.22.4/XS/Install.x/i -I/home/david/cpantesting/perl-5.22.4/lib/site_perl/5.22.4/x86_64-linux-thread-multi/XS/libpanda.x/i -I/home/david/cpantesting/perl-5.22.4/lib/site_perl/5.22.4/XS/libcatch.x/i -Wall -Wextra  -std=c++14 -D_REENTRANT -D_GNU_SOURCE -fwrapv -fno-strict-aliasing -pipe -fstack-protector-strong -I/usr/local/include -D_LARGEFILE_SOURCE -D_FILE_OFFSET_BITS=64 -o t/cookbook/cookbook_xsgen.o -O0   -DVERSION=\"0.0.0\" -DXS_VERSION=\"0.0.0\" -fPIC "-I/home/david/cpantesting/perl-5.22.4/lib/5.22.4/x86_64-linux-thread-multi/CORE"   t/cookbook/cookbook_xsgen.cc
"/home/david/cpantesting/perl-5.22.4/bin/perl" -Ilib -MXS::Framework::ParseXS -MXS::Install::ParseXS "/home/david/cpantesting/perl-5.22.4/lib/site_perl/5.22.4/ExtUtils/xsubpp"  -hiertype -C++ -hiertype -C++ -typemap '/home/david/cpantesting/perl-5.22.4/lib/5.22.4/ExtUtils/typemap' -typemap '/home/david/cpantesting/perl-5.22.4/lib/site_perl/5.22.4/XS/Install.x/tm/typemap' -typemap '/home/david/cpantesting/perl-5.22.4/lib/site_perl/5.22.4/XS/Install.x/tm/typemap' -typemap '/home/david/cpantesting/perl-5.22.4/.cpan/build/XS-Framework-1.5.0-buRSJI/typemap' -typemap '/home/david/cpantesting/perl-5.22.4/.cpan/build/XS-Framework-1.5.0-buRSJI/typemap64' -typemap '/home/david/cpantesting/perl-5.22.4/.cpan/build/XS-Framework-1.5.0-buRSJI/typemap' -csuffix _xsgen.cc  t/typemap/typemap.xs > t/typemap/typemap.xsc
mv t/typemap/typemap.xsc t/typemap/typemap_xsgen.cc
c++ -c  -Isrc -I/home/david/cpantesting/perl-5.22.4/lib/site_perl/5.22.4/x86_64-linux-thread-multi/next/XS.x/i -I/home/david/cpantesting/perl-5.22.4/lib/site_perl/5.22.4/XS/Install.x/i -I/home/david/cpantesting/perl-5.22.4/lib/site_perl/5.22.4/x86_64-linux-thread-multi/XS/libpanda.x/i -I/home/david/cpantesting/perl-5.22.4/lib/site_perl/5.22.4/XS/libcatch.x/i -Wall -Wextra  -std=c++14 -D_REENTRANT -D_GNU_SOURCE -fwrapv -fno-strict-aliasing -pipe -fstack-protector-strong -I/usr/local/include -D_LARGEFILE_SOURCE -D_FILE_OFFSET_BITS=64 -o t/typemap/typemap_xsgen.o -O0   -DVERSION=\"0.0.0\" -DXS_VERSION=\"0.0.0\" -fPIC "-I/home/david/cpantesting/perl-5.22.4/lib/5.22.4/x86_64-linux-thread-multi/CORE"   t/typemap/typemap_xsgen.cc
In file included from /home/david/cpantesting/perl-5.22.4/lib/site_perl/5.22.4/XS/Install.x/i/xsheader.h:21,
                 from src/xs/basic.h:2,
                 from src/xs.h:2,
                 from t/typemap/typemap.xs:1:
t/typemap/typemap_xsgen.cc: In lambda function:
/home/david/cpantesting/perl-5.22.4/lib/5.22.4/x86_64-linux-thread-multi/CORE/XSUB.h:164:20: warning: unused variable ‘items’ [-Wunused-variable]
 #define dITEMS I32 items = (I32)(SP - MARK)
                    ^~~~~
/home/david/cpantesting/perl-5.22.4/lib/5.22.4/x86_64-linux-thread-multi/CORE/XSUB.h:172:16: note: in expansion of macro ‘dITEMS’
  dSP; dAXMARK; dITEMS
                ^~~~~~
t/typemap/typemap_xsgen.cc:1784:11: note: in expansion of macro ‘dXSARGS’
     dVAR; dXSARGS;
           ^~~~~~~
t/typemap/typemap_xsgen.cc: In lambda function:
/home/david/cpantesting/perl-5.22.4/lib/5.22.4/x86_64-linux-thread-multi/CORE/XSUB.h:164:20: warning: unused variable ‘items’ [-Wunused-variable]
 #define dITEMS I32 items = (I32)(SP - MARK)
                    ^~~~~
/home/david/cpantesting/perl-5.22.4/lib/5.22.4/x86_64-linux-thread-multi/CORE/XSUB.h:172:16: note: in expansion of macro ‘dITEMS’
  dSP; dAXMARK; dITEMS
                ^~~~~~
t/typemap/typemap_xsgen.cc:1824:11: note: in expansion of macro ‘dXSARGS’
     dVAR; dXSARGS;
           ^~~~~~~
t/typemap/typemap_xsgen.cc: In lambda function:
/home/david/cpantesting/perl-5.22.4/lib/5.22.4/x86_64-linux-thread-multi/CORE/XSUB.h:164:20: warning: unused variable ‘items’ [-Wunused-variable]
 #define dITEMS I32 items = (I32)(SP - MARK)
                    ^~~~~
/home/david/cpantesting/perl-5.22.4/lib/5.22.4/x86_64-linux-thread-multi/CORE/XSUB.h:172:16: note: in expansion of macro ‘dITEMS’
  dSP; dAXMARK; dITEMS
                ^~~~~~
t/typemap/typemap_xsgen.cc:1864:11: note: in expansion of macro ‘dXSARGS’
     dVAR; dXSARGS;
           ^~~~~~~
t/typemap/typemap_xsgen.cc: In lambda function:
/home/david/cpantesting/perl-5.22.4/lib/5.22.4/x86_64-linux-thread-multi/CORE/XSUB.h:164:20: warning: unused variable ‘items’ [-Wunused-variable]
 #define dITEMS I32 items = (I32)(SP - MARK)
                    ^~~~~
/home/david/cpantesting/perl-5.22.4/lib/5.22.4/x86_64-linux-thread-multi/CORE/XSUB.h:172:16: note: in expansion of macro ‘dITEMS’
  dSP; dAXMARK; dITEMS
                ^~~~~~
t/typemap/typemap_xsgen.cc:1904:11: note: in expansion of macro ‘dXSARGS’
     dVAR; dXSARGS;
           ^~~~~~~
"/home/david/cpantesting/perl-5.22.4/bin/perl" -Ilib -MXS::Framework::ParseXS -MXS::Install::ParseXS "/home/david/cpantesting/perl-5.22.4/lib/site_perl/5.22.4/ExtUtils/xsubpp"  -hiertype -C++ -hiertype -C++ -typemap '/home/david/cpantesting/perl-5.22.4/lib/5.22.4/ExtUtils/typemap' -typemap '/home/david/cpantesting/perl-5.22.4/lib/site_perl/5.22.4/XS/Install.x/tm/typemap' -typemap '/home/david/cpantesting/perl-5.22.4/lib/site_perl/5.22.4/XS/Install.x/tm/typemap' -typemap '/home/david/cpantesting/perl-5.22.4/.cpan/build/XS-Framework-1.5.0-buRSJI/typemap' -typemap '/home/david/cpantesting/perl-5.22.4/.cpan/build/XS-Framework-1.5.0-buRSJI/typemap64' -typemap '/home/david/cpantesting/perl-5.22.4/.cpan/build/XS-Framework-1.5.0-buRSJI/typemap' -csuffix _xsgen.cc  t/typemap/callback_dispatcher.xs > t/typemap/callback_dispatcher.xsc
mv t/typemap/callback_dispatcher.xsc t/typemap/callback_dispatcher_xsgen.cc
c++ -c  -Isrc -I/home/david/cpantesting/perl-5.22.4/lib/site_perl/5.22.4/x86_64-linux-thread-multi/next/XS.x/i -I/home/david/cpantesting/perl-5.22.4/lib/site_perl/5.22.4/XS/Install.x/i -I/home/david/cpantesting/perl-5.22.4/lib/site_perl/5.22.4/x86_64-linux-thread-multi/XS/libpanda.x/i -I/home/david/cpantesting/perl-5.22.4/lib/site_perl/5.22.4/XS/libcatch.x/i -Wall -Wextra  -std=c++14 -D_REENTRANT -D_GNU_SOURCE -fwrapv -fno-strict-aliasing -pipe -fstack-protector-strong -I/usr/local/include -D_LARGEFILE_SOURCE -D_FILE_OFFSET_BITS=64 -o t/typemap/callback_dispatcher_xsgen.o -O0   -DVERSION=\"0.0.0\" -DXS_VERSION=\"0.0.0\" -fPIC "-I/home/david/cpantesting/perl-5.22.4/lib/5.22.4/x86_64-linux-thread-multi/CORE"   t/typemap/callback_dispatcher_xsgen.cc
Running Mkbootstrap for MyTest ()
chmod 644 "MyTest.bs"
"/home/david/cpantesting/perl-5.22.4/bin/perl" -MExtUtils::Command::MM -e 'cp_nonempty' -- MyTest.bs blib/arch/auto/MyTest/MyTest.bs 644
rm -f blib/arch/auto/MyTest/MyTest.so
c++  -shared -O2 -L/usr/local/lib -fstack-protector-strong  t/typemap/function.o t/typemap/ref.o t/svapi/array.o t/svapi/glob.o t/svapi/hash.o t/svapi/io.o t/svapi/object.o t/svapi/ref.o t/svapi/scalar.o t/svapi/scope.o t/svapi/simple.o t/svapi/stash.o t/svapi/sub.o t/svapi/sv.o t/MyTest_xsgen.o t/typemap/object/object_xsgen.o t/cookbook/cookbook_xsgen.o t/typemap/typemap_xsgen.o t/typemap/callback_dispatcher_xsgen.o blib/arch/auto/XS/Framework/Framework.so  -o blib/arch/auto/MyTest/MyTest.so  \
      \
  
chmod 755 blib/arch/auto/MyTest/MyTest.so
Manifying 27 pod documents
Manifying 10 pod documents
PERL_DL_NONLAZY=1 "/home/david/cpantesting/perl-5.22.4/bin/perl" "-MExtUtils::Command::MM" "-MTest::Harness" "-e" "undef *Test::Harness::Switches; test_harness(0, 'blib/lib', 'blib/arch')" t/*.t t/*/*.t t/*/*/*.t
t/cookbook/recipe01.t ............... skipped: set TEST_FULL=1 to enable this test
t/cookbook/recipe02.t ............... skipped: set TEST_FULL=1 to enable this test
t/cookbook/recipe03.t ............... skipped: set TEST_FULL=1 to enable this test
t/cookbook/recipe04.t ............... skipped: set TEST_FULL=1 to enable this test
t/cookbook/recipe05.t ............... skipped: set TEST_FULL=1 to enable this test
t/cookbook/recipe06.t ............... skipped: set TEST_FULL=1 to enable this test
t/cookbook/recipe07.t ............... skipped: set TEST_FULL=1 to enable this test
t/cookbook/recipe08.t ............... skipped: set TEST_FULL=1 to enable this test
t/cookbook/recipe09.t ............... skipped: set TEST_FULL=1 to enable this test
t/cookbook/recipe10.t ............... skipped: set TEST_FULL=1 to enable this test
t/cookbook/recipe11.t ............... skipped: set TEST_FULL=1 to enable this test
t/cookbook/recipe12.t ............... skipped: set TEST_FULL=1 to enable this test
t/cookbook/recipe13.t ............... skipped: set TEST_FULL=1 to enable this test
t/payload.t ......................... ok
t/svapi/array.t ..................... ok
t/svapi/glob.t ...................... ok
t/svapi/hash.t ...................... ok
t/svapi/io.t ........................ ok
t/svapi/object.t .................... ok
t/svapi/ref.t ....................... ok
t/svapi/scalar.t .................... ok
t/svapi/scope.t ..................... ok
t/svapi/simple.t .................... ok
t/svapi/stash.t ..................... ok
t/svapi/sub.t ....................... ok
t/svapi/sv.t ........................ ok
t/typemap/callback_dispatcher.t ..... ok
t/typemap/const.t ................... ok
t/typemap/container.t ............... ok
t/typemap/error.t ................... ok
t/typemap/expected.t ................ ok
t/typemap/function.t ................ ok
t/typemap/not_null.t ................ ok
t/typemap/object/avhv.t ............. ok
t/typemap/object/backref-threads.t .. ok
t/typemap/object/backref.t .......... ok
t/typemap/object/casting.t .......... ok
t/typemap/object/child.t ............ ok
t/typemap/object/foreign.t .......... ok
t/typemap/object/join.t ............. ok
t/typemap/object/mixin.t ............ ok
t/typemap/object/refcnt.t ........... ok
t/typemap/object/single.t ........... ok
t/typemap/object/static_cast.t ...... ok
t/typemap/object/threads.t .......... ok
t/typemap/primitives.t .............. ok
t/typemap/ref.t ..................... ok
t/typemap/svapi.t ................... ok
t/typemap/svrefs.t .................. ok
t/upgrade.t ......................... ok
All tests successful.
Files=50, Tests=329, 89 wallclock secs ( 2.31 usr  0.29 sys + 22.37 cusr  3.22 csys = 28.19 CPU)
Result: PASS

------------------------------
PREREQUISITES
------------------------------

Prerequisite modules loaded:

requires:

    Module          Need      Have    
    --------------- --------- --------
    next::XS        v1.0.7    1.0.7   
    perl            5.022000  5.022004
    XS::Install     v1.3.3    1.3.3   
    XS::libpanda    v1.5.4    1.5.4   

build_requires:

    Module          Need      Have    
    --------------- --------- --------
    next::XS        v1.0.7    1.0.7   
    Test::Catch     v1.0.16   1.0.16  
    Test::Deep      0         1.128   
    Test::Exception 0         0.43    
    Test::More      0         1.302185
    Test::Simple    0.96      1.302185
    XS::libcatch    v2.13.4.2 2.13.4.2
    XS::libpanda    v1.5.4    1.5.4   

configure_requires:

    Module          Need      Have    
    --------------- --------- --------
    next::XS        v1.0.7    1.0.7   
    Test::Catch     v1.0.16   1.0.16  
    XS::Install     v1.3.3    1.3.3   
    XS::libcatch    v2.13.4.2 2.13.4.2
    XS::libpanda    v1.5.4    1.5.4   


------------------------------
ENVIRONMENT AND OTHER CONTEXT
------------------------------

Environment variables:

    AUTOMATED_TESTING = 1
    LANG = en_GB.UTF-8
    LANGUAGE = en_GB:en
    LC_TERMINAL = iTerm2
    LC_TERMINAL_VERSION = 3.4.8
    NONINTERACTIVE_TESTING = 1
    PATH = /home/david/perl5/perlbrew/bin:/home/david/perl5/perlbrew/perls/perl-5.30.2/bin:/home/david/bin:/usr/local/bin:/usr/bin:/bin:/usr/local/games:/usr/games
    PERL = 5.22.4
    PERL5LIB = 
    PERL5OPT = 
    PERL5_CPANPLUS_IS_RUNNING = 27019
    PERL5_CPAN_IS_RUNNING = 27019
    PERLBREW_HOME = /home/david/.perlbrew
    PERLBREW_MANPATH = /home/david/perl5/perlbrew/perls/perl-5.30.2/man
    PERLBREW_PATH = /home/david/perl5/perlbrew/bin:/home/david/perl5/perlbrew/perls/perl-5.30.2/bin
    PERLBREW_PERL = perl-5.30.2
    PERLBREW_ROOT = /home/david/perl5/perlbrew
    PERLBREW_SHELLRC_VERSION = 0.89
    PERLBREW_VERSION = 0.89
    PERLVER = 5.22.4
    PERL_INLINE_DIRECTORY = /home/david/.Inline-5.22.4
    PERL_MM_USE_DEFAULT = 1
    PERL_USE_UNSAFE_INC = 0
    SHELL = /bin/bash
    TERM = screen

Perl special variables (and OS-specific diagnostics, for MSWin32):

    $^X = /home/david/cpantesting/perl-5.22.4/bin/perl
    $UID/$EUID = 1000 / 1000
    $GID = 1000 24 25 27 29 30 44 46 109 1000
    $EGID = 1000 24 25 27 29 30 44 46 109 1000

Perl module toolchain versions installed:

    Module              Have      
    ------------------- ----------
    CPAN                2.11_01   
    CPAN::Meta          2.150001  
    Cwd                 3.56_02   
    ExtUtils::CBuilder  0.280221  
    ExtUtils::Command   7.62      
    ExtUtils::Install   2.06      
    ExtUtils::MakeMaker 7.62      
    ExtUtils::Manifest  1.70      
    ExtUtils::ParseXS   3.35      
    File::Spec          3.56_02   
    JSON                4.03      
    JSON::PP            4.06      
    Module::Build       0.4231    
    Module::Signature   n/a       
    Parse::CPAN::Meta   1.4414_001
    Test::Harness       3.35_01   
    Test::More          1.302185  
    YAML                n/a       
    YAML::Syck          n/a       
    version             0.9909    


--

Summary of my perl5 (revision 5 version 22 subversion 4) configuration:
   
  Platform:
    osname=linux, osvers=4.9.0-8-amd64, archname=x86_64-linux-thread-multi
    uname='linux pigsty 4.9.0-8-amd64 #1 smp debian 4.9.144-3 (2019-02-02) x86_64 gnulinux '
    config_args='-de -Duse64bitall -Dusethreads -Dprefix=/home/david/cpantesting/perl-5.22.4'
    hint=recommended, useposix=true, d_sigaction=define
    useithreads=define, usemultiplicity=define
    use64bitint=define, use64bitall=define, uselongdouble=undef
    usemymalloc=n, bincompat5005=undef
  Compiler:
    cc='cc', ccflags ='-D_REENTRANT -D_GNU_SOURCE -fwrapv -fno-strict-aliasing -pipe -fstack-protector-strong -I/usr/local/include -D_LARGEFILE_SOURCE -D_FILE_OFFSET_BITS=64',
    optimize='-O2',
    cppflags='-D_REENTRANT -D_GNU_SOURCE -fwrapv -fno-strict-aliasing -pipe -fstack-protector-strong -I/usr/local/include'
    ccversion='', gccversion='6.3.0 20170516', gccosandvers=''
    intsize=4, longsize=8, ptrsize=8, doublesize=8, byteorder=12345678, doublekind=3
    d_longlong=define, longlongsize=8, d_longdbl=define, longdblsize=16, longdblkind=3
    ivtype='long', ivsize=8, nvtype='double', nvsize=8, Off_t='off_t', lseeksize=8
    alignbytes=8, prototype=define
  Linker and Libraries:
    ld='cc', ldflags =' -fstack-protector-strong -L/usr/local/lib'
    libpth=/usr/local/lib /usr/lib/gcc/x86_64-linux-gnu/6/include-fixed /usr/include/x86_64-linux-gnu /usr/lib /lib/x86_64-linux-gnu /lib/../lib /usr/lib/x86_64-linux-gnu /usr/lib/../lib /lib
    libs=-lpthread -lnsl -ldb -ldl -lm -lcrypt -lutil -lc
    perllibs=-lpthread -lnsl -ldl -lm -lcrypt -lutil -lc
    libc=libc-2.24.so, so=so, useshrplib=false, libperl=libperl.a
    gnulibc_version='2.24'
  Dynamic Linking:
    dlsrc=dl_dlopen.xs, dlext=so, d_dlsymun=undef, ccdlflags='-Wl,-E'
    cccdlflags='-fPIC', lddlflags='-shared -O2 -L/usr/local/lib -fstack-protector-strong'


Characteristics of this binary (from libperl): 
  Compile-time options: HAS_TIMES MULTIPLICITY PERLIO_LAYERS
                        PERL_DONT_CREATE_GVSV
                        PERL_HASH_FUNC_ONE_AT_A_TIME_HARD
                        PERL_IMPLICIT_CONTEXT PERL_MALLOC_WRAP
                        PERL_NEW_COPY_ON_WRITE PERL_PRESERVE_IVUV
                        USE_64_BIT_ALL USE_64_BIT_INT USE_ITHREADS
                        USE_LARGE_FILES USE_LOCALE USE_LOCALE_COLLATE
                        USE_LOCALE_CTYPE USE_LOCALE_NUMERIC USE_LOCALE_TIME
                        USE_PERLIO USE_PERL_ATOF USE_REENTRANT_API
  Locally applied patches:
	Devel::PatchPerl 1.56
  Built under linux
  Compiled at Apr 25 2019 12:09:05
  %ENV:
    PERL="5.22.4"
    PERL5LIB=""
    PERL5OPT=""
    PERL5_CPANPLUS_IS_RUNNING="27019"
    PERL5_CPAN_IS_RUNNING="27019"
    PERLBREW_HOME="/home/david/.perlbrew"
    PERLBREW_MANPATH="/home/david/perl5/perlbrew/perls/perl-5.30.2/man"
    PERLBREW_PATH="/home/david/perl5/perlbrew/bin:/home/david/perl5/perlbrew/perls/perl-5.30.2/bin"
    PERLBREW_PERL="perl-5.30.2"
    PERLBREW_ROOT="/home/david/perl5/perlbrew"
    PERLBREW_SHELLRC_VERSION="0.89"
    PERLBREW_VERSION="0.89"
    PERLVER="5.22.4"
    PERL_INLINE_DIRECTORY="/home/david/.Inline-5.22.4"
    PERL_MM_USE_DEFAULT="1"
    PERL_USE_UNSAFE_INC="0"
  @INC:
    /home/david/cpantesting/perl-5.22.4/lib/site_perl/5.22.4/x86_64-linux-thread-multi
    /home/david/cpantesting/perl-5.22.4/lib/site_perl/5.22.4
    /home/david/cpantesting/perl-5.22.4/lib/5.22.4/x86_64-linux-thread-multi
    /home/david/cpantesting/perl-5.22.4/lib/5.22.4
    .