Report for Dist-Zilla-Plugin-CheckIssues-0.008

Back
From: metabase:user:d49cdc72-1559-11e3-9efd-e82414baadac
Subject: PASS Dist-Zilla-Plugin-CheckIssues-0.008 v5.22.0 GNU/Linux
Date: 2015-06-18T22:51:32Z

This distribution has been tested as part of the CPAN Testers
project, supporting the Perl programming language.  See
http://wiki.cpantesters.org/ for more information or email
questions to cpan-testers-discuss@perl.org


--
Dear ETHER,

This is a computer-generated report for Dist-Zilla-Plugin-CheckIssues-0.008
on perl 5.22.0, created by App::cpanminus::reporter 0.13 (1.7037).

Thank you for uploading your work to CPAN.  Congratulations!
All tests were successful.

Sections of this report:

    * Tester comments
    * Program output
    * Prerequisites
    * Environment and other context

------------------------------
TESTER COMMENTS
------------------------------

Additional comments from tester:

none provided

------------------------------
PROGRAM OUTPUT
------------------------------

Output from '':

Building and testing Dist-Zilla-Plugin-CheckIssues-0.008
cp lib/Dist/Zilla/App/Command/issues.pm blib/lib/Dist/Zilla/App/Command/issues.pm
cp lib/Dist/Zilla/Plugin/CheckIssues.pm blib/lib/Dist/Zilla/Plugin/CheckIssues.pm
# 
# Versions for all modules listed in MYMETA.json (including optional ones):
# 
# === Configure Requires ===
# 
#     Module               Want  Have
#     ------------------- ----- -----
#     Module::Build::Tiny 0.039 0.039
# 
# === Test Requires ===
# 
#     Module                          Want     Have
#     ------------------------------- ---- --------
#     Dist::Zilla::App::Tester         any    5.037
#     Dist::Zilla::Role::MetaProvider  any    5.037
#     ExtUtils::MakeMaker              any  7.04_01
#     File::Spec                       any     3.56
#     File::pushd                      any    1.009
#     Moose::Util                      any   2.1405
#     Path::Tiny                       any    0.068
#     Test::DZil                       any    5.037
#     Test::Deep                       any    0.115
#     Test::Fatal                      any    0.014
#     Test::More                      0.88 1.001014
#     if                               any   0.0604
#     lib                              any     0.63
# 
# === Test Recommends ===
# 
#     Module         Want     Have
#     ---------- -------- --------
#     CPAN::Meta 2.120900 2.150001
# 
# === Runtime Requires ===
# 
#     Module                               Want     Have
#     -------------------------------- -------- --------
#     Dist::Zilla::App                      any    5.037
#     Dist::Zilla::Role::BeforeRelease      any    5.037
#     Encode                                any     2.72
#     HTTP::Headers                         any     6.05
#     HTTP::Tiny                            any    0.054
#     JSON::MaybeXS                    1.001000 1.003005
#     List::Util                           1.33     1.41
#     Moose                                 any   2.1405
#     Term::ANSIColor                      3.00     4.03
#     namespace::autoclean                  any     0.26
#     strict                                any     1.09
#     warnings                              any     1.32
# 
# === Other Modules ===
# 
#     Module           Have
#     ------------- -------
#     Pod::Coverage missing
# 
t/00-report-prereqs.t .. ok
t/01-basic.t ........... ok
t/03-no-repo.t ......... ok
t/zzz-check-breaks.t ... ok
t/04-command.t ......... ok
t/02-no-rt.t ........... ok
All tests successful.
Files=6, Tests=19,  3 wallclock secs ( 0.03 usr  0.02 sys +  7.59 cusr  0.73 csys =  8.37 CPU)
Result: PASS

------------------------------
PREREQUISITES
------------------------------

Prerequisite modules loaded:

    No requirements found

------------------------------
ENVIRONMENT AND OTHER CONTEXT
------------------------------

Environment variables:

    LC_CTYPE = en_NZ.UTF8
    PATH = /home/kent/perl5/perlbrew/bin:/home/kent/perl5/perlbrew/perls/5.22.0/bin:/home/kent/.perl6/2013.04/bin:/home/kent/.gem/ruby/1.8/bin/:/home/kent/.rvm/gems/ruby-2.1.2/bin:/home/kent/.rvm/gems/ruby-2.1.2@global/bin:/home/kent/.rvm/rubies/ruby-2.1.2/bin:/usr/local/bin:/usr/bin:/bin:/opt/bin:/usr/x86_64-pc-linux-gnu/gcc-bin/4.9.2:/usr/games/bin:/home/kent/.rvm/bin:/home/kent/.rvm/bin
    PERLBREW_BASHRC_VERSION = 0.72
    PERLBREW_HOME = /home/kent/.perlbrew
    PERLBREW_MANPATH = /home/kent/perl5/perlbrew/perls/5.22.0/man
    PERLBREW_PATH = /home/kent/perl5/perlbrew/bin:/home/kent/perl5/perlbrew/perls/5.22.0/bin
    PERLBREW_PERL = 5.22.0
    PERLBREW_ROOT = /home/kent/perl5/perlbrew
    PERLBREW_VERSION = 0.72
    PERL_CPANM_OPT =  --prompt --interactive --verify --mirror http://cpan.metacpan.org/ --no-lwp
    PERL_MM_OPT =  INSTALLDIRS=site
    SHELL = /bin/bash
    TERM = rxvt-unicode-256color

Perl special variables (and OS-specific diagnostics, for MSWin32):

    EGID = 1000 4 6 10 16 18 19 27 35 78 80 85 100 102 103 104 105 114 115 116 117 118 250 974 994 1000
    EUID = 1000
    EXECUTABLE_NAME = /home/kent/perl5/perlbrew/perls/5.22.0/bin/perl
    GID = 1000 4 6 10 16 18 19 27 35 78 80 85 100 102 103 104 105 114 115 116 117 118 250 974 994 1000
    UID = 1000

Perl module toolchain versions installed:

    Module              Have    
    ------------------- --------
    CPAN                2.11    
    CPAN::Meta          2.150001
    Cwd                 3.56    
    ExtUtils::CBuilder  0.280221
    ExtUtils::Command   1.20    
    ExtUtils::Install   2.04    
    ExtUtils::MakeMaker 7.04_01 
    ExtUtils::Manifest  1.70    
    ExtUtils::ParseXS   3.28    
    File::Spec          3.56    
    JSON                2.90    
    JSON::PP            2.27300 
    Module::Build       0.4214  
    Module::Signature   0.79    
    Parse::CPAN::Meta   1.4414  
    Test::Harness       3.35    
    Test::More          1.001014
    YAML                1.15    
    YAML::Syck          n/a     
    version             0.9909  


--

Summary of my perl5 (revision 5 version 22 subversion 0) configuration:
   
  Platform:
    osname=linux, osvers=4.0.0-gentoo, archname=x86_64-linux
    uname='linux katipo2 4.0.0-gentoo #23 smp preempt sat apr 25 06:58:21 nzst 2015 x86_64 intel(r) core(tm) i5-2410m cpu @ 2.30ghz genuineintel gnulinux '
    config_args='-de -Dprefix=/home/kent/perl5/perlbrew/perls/5.22.0 -Dusecbacktrace -Doptimize= -fno-stack-protector -O3 -march=native -mtune=native -Dman1dir=none -Dman3dir=none -Accflags= -fno-stack-protector -DPERL_HASH_FUNC_SDBM -DUSE_C_BACKTRACE_ON_ERROR -Aldflags= -fno-stack-protector -lbfd -Aeval:scriptdir=/home/kent/perl5/perlbrew/perls/5.22.0/bin'
    hint=recommended, useposix=true, d_sigaction=define
    useithreads=undef, usemultiplicity=undef
    use64bitint=define, use64bitall=define, uselongdouble=undef
    usemymalloc=n, bincompat5005=undef
  Compiler:
    cc='cc', ccflags ='-fno-stack-protector -DPERL_HASH_FUNC_SDBM -DUSE_C_BACKTRACE_ON_ERROR -fwrapv -fno-strict-aliasing -pipe -fstack-protector-strong -DUSE_C_BACKTRACE -g -D_LARGEFILE_SOURCE -D_FILE_OFFSET_BITS=64',
    optimize=' -fno-stack-protector -O3 -march=native -mtune=native',
    cppflags='-fno-stack-protector -DPERL_HASH_FUNC_SDBM -DUSE_C_BACKTRACE_ON_ERROR -fwrapv -fno-strict-aliasing -pipe -fstack-protector-strong'
    ccversion='', gccversion='4.9.2', gccosandvers=''
    intsize=4, longsize=8, ptrsize=8, doublesize=8, byteorder=12345678, doublekind=3
    d_longlong=define, longlongsize=8, d_longdbl=define, longdblsize=16, longdblkind=3
    ivtype='long', ivsize=8, nvtype='double', nvsize=8, Off_t='off_t', lseeksize=8
    alignbytes=8, prototype=define
  Linker and Libraries:
    ld='cc', ldflags ='  -fno-stack-protector -lbfd -fstack-protector-strong -L/usr/local/lib'
    libpth=/usr/lib/gcc/x86_64-pc-linux-gnu/4.9.2/include-fixed /usr/lib /usr/local/lib /lib/../lib64 /usr/lib/../lib64 /lib /lib64 /usr/lib64 /usr/local/lib64
    libs=-lpthread -lnsl -lnm -lgdbm -ldb -ldl -lm -lcrypt -lutil -lc -lgdbm_compat
    perllibs=-lpthread -lnsl -lnm -ldl -lm -lcrypt -lutil -lc
    libc=libc-2.20.so, so=so, useshrplib=false, libperl=libperl.a
    gnulibc_version='2.20'
  Dynamic Linking:
    dlsrc=dl_dlopen.xs, dlext=so, d_dlsymun=undef, ccdlflags='-Wl,-E'
    cccdlflags='-fPIC', lddlflags='-shared  -fno-stack-protector -O3 -march=native -mtune=native -L/usr/local/lib -fstack-protector-strong'


Characteristics of this binary (from libperl): 
  Compile-time options: HAS_TIMES PERLIO_LAYERS PERL_DONT_CREATE_GVSV
                        PERL_HASH_FUNC_SDBM PERL_MALLOC_WRAP
                        PERL_NEW_COPY_ON_WRITE PERL_PRESERVE_IVUV
                        USE_64_BIT_ALL USE_64_BIT_INT USE_LARGE_FILES
                        USE_LOCALE USE_LOCALE_COLLATE USE_LOCALE_CTYPE
                        USE_LOCALE_NUMERIC USE_LOCALE_TIME USE_PERLIO
                        USE_PERL_ATOF
  Built under linux
  Compiled at Jun 19 2015 08:06:04
  %ENV:
    PERLBREW_BASHRC_VERSION="0.72"
    PERLBREW_HOME="/home/kent/.perlbrew"
    PERLBREW_MANPATH="/home/kent/perl5/perlbrew/perls/5.22.0/man"
    PERLBREW_PATH="/home/kent/perl5/perlbrew/bin:/home/kent/perl5/perlbrew/perls/5.22.0/bin"
    PERLBREW_PERL="5.22.0"
    PERLBREW_ROOT="/home/kent/perl5/perlbrew"
    PERLBREW_VERSION="0.72"
    PERL_CPANM_OPT=" --prompt --interactive --verify --mirror http://cpan.metacpan.org/ --no-lwp"
    PERL_MM_OPT=" INSTALLDIRS=site"
  @INC:
    /home/kent/perl5/perlbrew/perls/5.22.0/lib/site_perl/5.22.0/x86_64-linux
    /home/kent/perl5/perlbrew/perls/5.22.0/lib/site_perl/5.22.0
    /home/kent/perl5/perlbrew/perls/5.22.0/lib/5.22.0/x86_64-linux
    /home/kent/perl5/perlbrew/perls/5.22.0/lib/5.22.0
    .