Perl-MinimumVersion v1.40 Perl 5 v5.16.3 MSWin32-x86-multi-thread

Status
Pass
From
Alexandr Ciornii (CHORNY)
Dist
Perl-MinimumVersion v1.40
Platform
Perl 5 v5.16.3 MSWin32-x86-multi-thread
Date
2021-04-24 00:20:34
ID
90d4e560-6c04-1014-a9e9-3b5c07a51a5c
This distribution has been tested as part of the CPAN Testers
project, supporting the Perl programming language.  See
http://wiki.cpantesters.org/ for more information or email
questions to cpan-testers-discuss@perl.org


--
Dear Dan Book,

This is a computer-generated report for Perl-MinimumVersion-1.40
on perl 5.16.3, created by CPAN-Reporter-1.2018.

Thank you for uploading your work to CPAN.  Congratulations!
All tests were successful.

Sections of this report:

    * Tester comments
    * Program output
    * Prerequisites
    * Environment and other context

------------------------------
TESTER COMMENTS
------------------------------

Additional comments from tester:

this report is from an automated smoke testing program
and was not reviewed by a human for accuracy

------------------------------
PROGRAM OUTPUT
------------------------------

Output from 'C:\strawberry163\c\bin\dmake.exe test':

C:\strawberry163\perl\bin\perl.exe "-MExtUtils::Command::MM" "-e" "test_harness(0, 'blib\lib', 'blib\arch')" t/*.t
# 
# Versions for all modules listed in MYMETA.json (including optional ones):
# 
# === Configure Requires ===
# 
#     Module              Want Have
#     ------------------- ---- ----
#     ExtUtils::MakeMaker  any 6.64
# 
# === Configure Suggests ===
# 
#     Module      Want    Have
#     -------- ------- -------
#     JSON::PP 2.27300 2.27203
# 
# === Build Requires ===
# 
#     Module              Want Have
#     ------------------- ---- ----
#     ExtUtils::MakeMaker  any 6.64
# 
# === Test Requires ===
# 
#     Module                Want     Have
#     --------------------- ---- --------
#     ExtUtils::MakeMaker    any     6.64
#     File::Spec             any     3.40
#     File::Spec::Functions  any     3.40
#     Test::More            0.47 1.001002
# 
# === Test Recommends ===
# 
#     Module         Want     Have
#     ---------- -------- --------
#     CPAN::Meta 2.120900 2.140640
# 
# === Runtime Requires ===
# 
#     Module                  Want   Have
#     ---------------------- ----- ------
#     Carp                     any   1.26
#     Exporter                 any   5.68
#     File::Find::Rule         any   0.33
#     File::Find::Rule::Perl   any   1.13
#     File::Spec               any   3.40
#     Getopt::Long             any   2.42
#     List::Util              1.20   1.38
#     PPI                    1.215  1.270
#     PPI::Util                any  1.270
#     PPIx::Regexp           0.033  0.036
#     PPIx::Utils              any  0.003
#     Params::Util            0.25   1.07
#     strict                   any   1.07
#     vars                     any   1.02
#     version                 0.76 0.9902
#     warnings                 any   1.13
# 
t/00-report-prereqs.t .... ok
t/02_main.t .............. ok
t/03_open_3arg.t ......... ok
t/04_substr.t ............ ok
t/05_foreach.t ........... ok
t/06_weaken.t ............ ok
t/07_splice.t ............ ok
t/08_mkdir.t ............. ok
t/09_pkg_name_version.t .. ok
t/10_yada_yada_yada.t .... ok
t/11_feature_bundle.t .... ok
t/12_double_colon.t ...... ok
t/13_perl_510.t .......... ok
t/14_regex.t ............. ok
t/15_each.t .............. ok
t/16_binmode.t ........... ok
t/17_when.t .............. ok
t/18_exists_subr.t ....... ok
t/19_opentemp.t .......... ok
t/20_sort_subref.t ....... ok
t/21_openscalar.t ........ ok
t/22_while_readdir.t ..... ok
t/23_internals.t ......... ok
t/24_state.t ............. ok
t/25_scheduled_blocks.t .. ok
t/26_stacked_labels.t .... ok
t/28_experimental.t ...... ok
All tests successful.
Files=27, Tests=350, 18 wallclock secs ( 0.17 usr +  0.09 sys =  0.26 CPU)
Result: PASS

------------------------------
PREREQUISITES
------------------------------

Prerequisite modules loaded:

requires:

    Module                 Need  Have    
    ---------------------- ----- --------
    Carp                   0     1.26    
    Exporter               0     5.68    
    File::Find::Rule       0     0.33    
    File::Find::Rule::Perl 0     1.13    
    File::Spec             0     3.40    
    Getopt::Long           0     2.42    
    List::Util             1.20  1.38    
    Params::Util           0.25  1.07    
    perl                   5.006 5.016003
    PPI                    1.215 1.270   
    PPI::Util              0     1.270   
    PPIx::Regexp           0.033 0.036   
    PPIx::Utils            0     0.003   
    strict                 0     1.07    
    vars                   0     1.02    
    version                0.76  0.9902  
    warnings               0     1.13    

build_requires:

    Module                 Need  Have    
    ---------------------- ----- --------
    ExtUtils::MakeMaker    0     6.64    
    File::Spec             0     3.40    
    File::Spec::Functions  0     3.40    
    Test::More             0.47  1.001002

configure_requires:

    Module                 Need  Have    
    ---------------------- ----- --------
    ExtUtils::MakeMaker    0     6.64    


------------------------------
ENVIRONMENT AND OTHER CONTEXT
------------------------------

Environment variables:

    AUTOMATED_TESTING = 1
    COMSPEC = C:\WINDOWS\system32\cmd.exe
    NUMBER_OF_PROCESSORS = 1
    PATH = C:\WINDOWS\system32;C:\WINDOWS;C:\WINDOWS\System32\Wbem;C:\strawberry163\c\bin;C:\strawberry163\perl\site\bin;C:\strawberry163\perl\bin
    PERL5LIB = C:\strawberry163\cpan\build\PPIx-Utils-0.003-2/blib/arch;C:\strawberry163\cpan\build\PPIx-Utils-0.003-2/blib/lib;C:\strawberry163\cpan\build\PPI-1.270-2/blib/arch;C:\strawberry163\cpan\build\PPI-1.270-2/blib/lib
    PERL5OPT = 
    PERL5_CPANPLUS_IS_RUNNING = 168
    PERL5_CPAN_IS_RUNNING = 168
    PERL5_CPAN_IS_RUNNING_IN_RECURSION = 972,168
    PERL_CR_SMOKER_CURRENT = Perl-MinimumVersion-1.40
    PERL_CR_SMOKER_RUNONCE = 1
    PERL_EXTUTILS_AUTOINSTALL = --defaultdeps
    PERL_MM_USE_DEFAULT = 1
    PROCESSOR_IDENTIFIER = x86 Family 18 Model 1 Stepping 0, AuthenticAMD
    TEMP = C:\DOCUME~1\c\LOCALS~1\Temp
    TERM = dumb

Perl special variables (and OS-specific diagnostics, for MSWin32):

    $^X = C:\strawberry163\perl\bin\perl.exe
    $UID/$EUID = 0 / 0
    $GID = 0
    $EGID = 0
    Win32::GetOSName = WinXP/.Net
    Win32::GetOSVersion = Service Pack 3, 5, 1, 2600, 2, 3, 0, 256, 1
    Win32::FsType = NTFS
    Win32::IsAdminUser = 1

Perl module toolchain versions installed:

    Module              Have    
    ------------------- --------
    CPAN                2.16    
    CPAN::Meta          2.140640
    Cwd                 3.40    
    ExtUtils::CBuilder  0.280206
    ExtUtils::Command   1.17    
    ExtUtils::Install   1.58    
    ExtUtils::MakeMaker 6.64    
    ExtUtils::Manifest  1.61    
    ExtUtils::ParseXS   3.24    
    File::Spec          3.40    
    JSON                2.90    
    JSON::PP            2.27203 
    Module::Build       0.4205  
    Module::Signature   0.70    
    Parse::CPAN::Meta   1.4414  
    Test::Harness       3.30    
    Test::More          1.001002
    YAML                0.90    
    YAML::Syck          1.24    
    version             0.9902  


--

Summary of my perl5 (revision 5 version 16 subversion 3) configuration:
   
  Platform:
    osname=MSWin32, osvers=4.0, archname=MSWin32-x86-multi-thread
    uname='Win32 strawberry-perl 5.16.3.1 #1 Tue Mar 12 13:55:20 2013 i386'
    config_args='undef'
    hint=recommended, useposix=true, d_sigaction=undef
    useithreads=define, usemultiplicity=define
    useperlio=define, d_sfio=undef, uselargefiles=define, usesocks=undef
    use64bitint=undef, use64bitall=undef, uselongdouble=undef
    usemymalloc=n, bincompat5005=undef
  Compiler:
    cc='gcc', ccflags =' -s -O2 -DWIN32  -DPERL_TEXTMODE_SCRIPTS -DPERL_IMPLICIT_CONTEXT -DPERL_IMPLICIT_SYS -fno-strict-aliasing -mms-bitfields',
    optimize='-s -O2',
    cppflags='-DWIN32'
    ccversion='', gccversion='4.6.3', gccosandvers=''
    intsize=4, longsize=4, ptrsize=4, doublesize=8, byteorder=1234
    d_longlong=undef, longlongsize=8, d_longdbl=define, longdblsize=12
    ivtype='long', ivsize=4, nvtype='double', nvsize=8, Off_t='long long', lseeksize=8
    alignbytes=8, prototype=define
  Linker and Libraries:
    ld='g++', ldflags ='-s -L"C:\strawberry163\perl\lib\CORE" -L"C:\strawberry163\c\lib"'
    libpth=C:\strawberry163\c\lib C:\strawberry163\c\i686-w64-mingw32\lib
    libs=-lmoldname -lkernel32 -luser32 -lgdi32 -lwinspool -lcomdlg32 -ladvapi32 -lshell32 -lole32 -loleaut32 -lnetapi32 -luuid -lws2_32 -lmpr -lwinmm -lversion -lodbc32 -lodbccp32 -lcomctl32
    perllibs=-lmoldname -lkernel32 -luser32 -lgdi32 -lwinspool -lcomdlg32 -ladvapi32 -lshell32 -lole32 -loleaut32 -lnetapi32 -luuid -lws2_32 -lmpr -lwinmm -lversion -lodbc32 -lodbccp32 -lcomctl32
    libc=, so=dll, useshrplib=true, libperl=libperl516.a
    gnulibc_version=''
  Dynamic Linking:
    dlsrc=dl_win32.xs, dlext=dll, d_dlsymun=undef, ccdlflags=' '
    cccdlflags=' ', lddlflags='-mdll -s -L"C:\strawberry163\perl\lib\CORE" -L"C:\strawberry163\c\lib"'


Characteristics of this binary (from libperl): 
  Compile-time options: HAS_TIMES HAVE_INTERP_INTERN MULTIPLICITY
                        PERLIO_LAYERS PERL_DONT_CREATE_GVSV
                        PERL_IMPLICIT_CONTEXT PERL_IMPLICIT_SYS
                        PERL_MALLOC_WRAP PERL_PRESERVE_IVUV PL_OP_SLAB_ALLOC
                        USE_ITHREADS USE_LARGE_FILES USE_LOCALE
                        USE_LOCALE_COLLATE USE_LOCALE_CTYPE
                        USE_LOCALE_NUMERIC USE_PERLIO USE_PERL_ATOF
  Built under MSWin32
  Compiled at Mar 12 2013 14:01:07
  %ENV:
    PERL5LIB="C:\strawberry163\cpan\build\PPIx-Utils-0.003-2/blib/arch;C:\strawberry163\cpan\build\PPIx-Utils-0.003-2/blib/lib;C:\strawberry163\cpan\build\PPI-1.270-2/blib/arch;C:\strawberry163\cpan\build\PPI-1.270-2/blib/lib"
    PERL5_CPANPLUS_IS_RUNNING="168"
    PERL5_CPAN_IS_RUNNING="168"
    PERL5_CPAN_IS_RUNNING_IN_RECURSION="972,168"
    PERL_CR_SMOKER_CURRENT="Perl-MinimumVersion-1.40"
    PERL_CR_SMOKER_RUNONCE="1"
    PERL_EXTUTILS_AUTOINSTALL="--defaultdeps"
    PERL_MM_USE_DEFAULT="1"
  @INC:
    C:\strawberry163\cpan\build\PPIx-Utils-0.003-2/blib/arch
    C:\strawberry163\cpan\build\PPIx-Utils-0.003-2/blib/lib
    C:\strawberry163\cpan\build\PPI-1.270-2/blib/arch
    C:\strawberry163\cpan\build\PPI-1.270-2/blib/lib
    C:/strawberry163/perl/site/lib
    C:/strawberry163/perl/vendor/lib
    C:/strawberry163/perl/lib
    .