App-OrgUtils v0.483 Perl 5 v5.14.4 amd64-freebsd

Status
Pass
From
Slaven Rezić
Dist
App-OrgUtils v0.483
Platform
Perl 5 v5.14.4 amd64-freebsd
Date
2023-01-19 00:23:58
ID
90ea5fb4-978f-11ed-a624-9fde6d8775ea
This distribution has been tested as part of the CPAN Testers
project, supporting the Perl programming language.  See
http://wiki.cpantesters.org/ for more information or email
questions to cpan-testers-discuss@perl.org


--
Dear perlancar,

This is a computer-generated report for App-OrgUtils-0.483
on perl 5.14.4, created by CPAN-Reporter-1.2018.

Thank you for uploading your work to CPAN.  Congratulations!
All tests were successful.

Sections of this report:

    * Tester comments
    * Program output
    * Prerequisites
    * Environment and other context

------------------------------
TESTER COMMENTS
------------------------------

Additional comments from tester:

none provided

------------------------------
PROGRAM OUTPUT
------------------------------

Output from '/usr/bin/make test':

PERL_DL_NONLAZY=1 "/usr/perl5.14.4/bin/perl" "-MExtUtils::Command::MM" "-MTest::Harness" "-e" "undef *Test::Harness::Switches; test_harness(0, 'blib/lib', 'blib/arch')" t/*.t
t/00-compile.t ........... ok
t/author-critic.t ........ skipped: these tests are for testing by the author
t/author-pod-coverage.t .. skipped: these tests are for testing by the author
t/author-pod-syntax.t .... skipped: these tests are for testing by the author
t/release-rinci.t ........ skipped: these tests are for release candidate testing
All tests successful.
Files=5, Tests=36,  2 wallclock secs ( 0.03 usr  0.00 sys +  1.02 cusr  0.23 csys =  1.28 CPU)
Result: PASS

------------------------------
PREREQUISITES
------------------------------

Prerequisite modules loaded:

requires:

    Module                                                        Need     Have    
    ------------------------------------------------------------- -------- --------
    Browser::Open                                                 0        0.04    
    Complete::Util                                                0.608    0.612   
    Cwd                                                           0        3.75    
    Data::Sah::Compiler::perl::TH::any                            0.911    0.914   
    Data::Sah::Compiler::perl::TH::array                          0.911    0.914   
    Data::Sah::Compiler::perl::TH::bool                           0.911    0.914   
    Data::Sah::Compiler::perl::TH::code                           0.911    0.914   
    Data::Sah::Compiler::perl::TH::int                            0.911    0.914   
    Data::Sah::Compiler::perl::TH::obj                            0.911    0.914   
    Data::Sah::Compiler::perl::TH::re                             0.911    0.914   
    Data::Sah::Compiler::perl::TH::str                            0.911    0.914   
    Data::Sah::Filter::perl::Path::expand_tilde_when_on_unix      0        0.016   
    Data::Sah::Filter::perl::Path::strip_slashes_when_on_unix     0        0.016   
    Data::Sah::Filter::perl::Str::replace_dashes_with_underscores 0        0.003   
    DateTime                                                      0        1.58    
    Digest::MD5                                                   0        2.58    
    experimental                                                  0        0.029   
    Exporter                                                      5.57     5.74    
    File::Slurper                                                 0        0.012   
    File::Slurper::Dash                                           0        0.001   
    File::Temp                                                    0.2307   0.2311  
    Function::Fallback::CoreOrPP                                  0        0.07    
    IPC::System::Options                                          0.339    0.340   
    Lingua::EN::Numbers::Ordinate                                 0        1.03    
    List::MoreUtils                                               0        0.430   
    List::Util                                                    1.54     1.63    
    Log::ger                                                      0.038    0.038   
    open                                                          0        1.08    
    Org::Document                                                 0        0.558   
    Org::Dump                                                     0.551    0.552   
    Org::Parser                                                   0.558    0.558   
    Org::Parser::Tiny                                             0.005    0.005   
    Org::To::ANSIText                                             0        0.001   
    Org::To::HTML                                                 0.18     0.235   
    Org::To::HTML::WordPress                                      0        0.001   
    Org::To::Text                                                 0.050    0.050   
    Path::Tiny                                                    0        0.142   
    Perinci::CmdLine::Any                                         0.152    0.154   
    Perinci::CmdLine::Lite                                        1.915    1.925   
    Perinci::Sub::Util                                            0.470    0.470   
    perl                                                          5.010001 5.014004
    Sah::Schema::date::tz_name                                    0        0.015   
    Sah::Schema::filename                                         0        0.016   
    Sah::Schema::posint                                           0        0.076   
    Sah::Schema::sortsub::spec                                    0        0.003   
    Scalar::Util                                                  0        1.63    
    Sort::Sub                                                     0.120    0.120   
    Sort::SubList                                                 0        0.001   
    strict                                                        0        1.04    
    URI::Escape                                                   0        5.16    
    warnings                                                      0        1.12    

build_requires:

    Module                                                        Need     Have    
    ------------------------------------------------------------- -------- --------
    ExtUtils::MakeMaker                                           0        7.64    
    File::Spec                                                    0        3.75    
    IO::Handle                                                    0        1.45    
    IPC::Open3                                                    0        1.0901  
    Test::More                                                    0        1.302191

configure_requires:

    Module                                                        Need     Have    
    ------------------------------------------------------------- -------- --------
    ExtUtils::MakeMaker                                           0        7.64    


------------------------------
ENVIRONMENT AND OTHER CONTEXT
------------------------------

Environment variables:

    LC_ALL = de_DE.ISO8859-1
    PATH = /usr/local/bin:/usr/bin:/bin:/usr/local/sbin:/usr/sbin:/sbin:/home/cpansand/bin/freebsd9.3:/home/cpansand/bin/sh:/home/cpansand/bin:/usr/games:/home/cpansand/devel:/usr/home/eserte/src/srezic-misc/scripts
    PERL5LIB = 
    PERL5OPT = 
    PERL5_CPANPLUS_IS_RUNNING = 90246
    PERL5_CPAN_IS_RUNNING = 90246
    PERL5_CPAN_IS_RUNNING_IN_RECURSION = 88414,90246
    PERLDOC = -MPod::Perldoc::ToTextOverstrike
    PERL_BATCH = yes
    PERL_CANARY_STABILITY_NOPROMPT = 1
    PERL_CPAN_REPORTER_CONFIG = /var/tmp/cpansmoker-1023/2023011901/cpanreporter_000_config.ini
    PERL_EXTUTILS_AUTOINSTALL = --defaultdeps
    PERL_USE_UNSAFE_INC = 1
    SHELL = /usr/local/bin/zsh
    TERM = screen
    TMPDIR = /var/tmp/cpansmoker-1023/2023011901

Perl special variables (and OS-specific diagnostics, for MSWin32):

    $^X = /usr/perl5.14.4/bin/perl
    $UID/$EUID = 1023 / 1023
    $GID = 1023 1023
    $EGID = 1023 1023

Perl module toolchain versions installed:

    Module              Have    
    ------------------- --------
    CPAN                2.34    
    CPAN::Meta          2.150010
    Cwd                 3.75    
    ExtUtils::CBuilder  0.280236
    ExtUtils::Command   7.64    
    ExtUtils::Install   2.22    
    ExtUtils::MakeMaker 7.64    
    ExtUtils::Manifest  1.73    
    ExtUtils::ParseXS   3.35    
    File::Spec          3.75    
    JSON                4.10    
    JSON::PP            4.16    
    Module::Build       0.4231  
    Module::Signature   0.88    
    Parse::CPAN::Meta   2.150010
    Test::Harness       3.44    
    Test::More          1.302191
    YAML                1.30    
    YAML::Syck          1.34    
    version             0.9929  


--

Summary of my perl5 (revision 5 version 14 subversion 4) configuration:
   
  Platform:
    osname=freebsd, osvers=9.2-release-p4, archname=amd64-freebsd
    uname='freebsd cvrsnica-freebsd-92 9.2-release-p4 freebsd 9.2-release-p4 #0: tue apr 8 18:08:22 utc 2014 root@amd64-builder.daemonology.net:usrobjusrsrcsysgeneric amd64 '
    config_args='-ds -e -Dprefix=/usr/perl5.14.4'
    hint=recommended, useposix=true, d_sigaction=define
    useithreads=undef, usemultiplicity=undef
    useperlio=define, d_sfio=undef, uselargefiles=define, usesocks=undef
    use64bitint=define, use64bitall=define, uselongdouble=undef
    usemymalloc=n, bincompat5005=undef
  Compiler:
    cc='cc', ccflags ='-DHAS_FPSETMASK -DHAS_FLOATINGPOINT_H -fno-strict-aliasing -pipe -fstack-protector -I/usr/local/include',
    optimize='-O',
    cppflags='-DHAS_FPSETMASK -DHAS_FLOATINGPOINT_H -fno-strict-aliasing -pipe -fstack-protector -I/usr/local/include'
    ccversion='', gccversion='4.2.1 20070831 patched [FreeBSD]', gccosandvers=''
    intsize=4, longsize=8, ptrsize=8, doublesize=8, byteorder=12345678
    d_longlong=define, longlongsize=8, d_longdbl=define, longdblsize=16
    ivtype='long', ivsize=8, nvtype='double', nvsize=8, Off_t='off_t', lseeksize=8
    alignbytes=8, prototype=define
  Linker and Libraries:
    ld='cc', ldflags ='-Wl,-E  -fstack-protector -L/usr/local/lib'
    libpth=/usr/lib /usr/local/lib
    libs=-lgdbm -lm -lcrypt -lutil -lc
    perllibs=-lm -lcrypt -lutil -lc
    libc=, so=so, useshrplib=false, libperl=libperl.a
    gnulibc_version=''
  Dynamic Linking:
    dlsrc=dl_dlopen.xs, dlext=so, d_dlsymun=undef, ccdlflags=' '
    cccdlflags='-DPIC -fPIC', lddlflags='-shared  -L/usr/local/lib -fstack-protector'


Characteristics of this binary (from libperl): 
  Compile-time options: PERL_DONT_CREATE_GVSV PERL_MALLOC_WRAP
                        PERL_PRESERVE_IVUV USE_64_BIT_ALL USE_64_BIT_INT
                        USE_LARGE_FILES USE_PERLIO USE_PERL_ATOF
  Built under freebsd
  Compiled at May 16 2014 00:20:44
  %ENV:
    PERL5LIB=""
    PERL5OPT=""
    PERL5_CPANPLUS_IS_RUNNING="90246"
    PERL5_CPAN_IS_RUNNING="90246"
    PERL5_CPAN_IS_RUNNING_IN_RECURSION="88414,90246"
    PERLDOC="-MPod::Perldoc::ToTextOverstrike"
    PERL_BATCH="yes"
    PERL_CANARY_STABILITY_NOPROMPT="1"
    PERL_CPAN_REPORTER_CONFIG="/var/tmp/cpansmoker-1023/2023011901/cpanreporter_000_config.ini"
    PERL_EXTUTILS_AUTOINSTALL="--defaultdeps"
    PERL_USE_UNSAFE_INC="1"
  @INC:
    /usr/perl5.14.4/lib/site_perl/5.14.4/amd64-freebsd
    /usr/perl5.14.4/lib/site_perl/5.14.4
    /usr/perl5.14.4/lib/5.14.4/amd64-freebsd
    /usr/perl5.14.4/lib/5.14.4
    .