Report for Unicode-Stringprep-1.105

Back
From: metabase:user:cd035d39-6d5b-1014-ab3a-39c0c09612a1
Subject: PASS Unicode-Stringprep-1.105 v5.22.1 GNU/Linux
Date: 2015-12-19T21:57:58Z

This distribution has been tested as part of the CPAN Testers
project, supporting the Perl programming language.  See
http://wiki.cpantesters.org/ for more information or email
questions to cpan-testers-discuss@perl.org


--
Dear Claus Faerber,

This is a computer-generated report for Unicode-Stringprep-1.105
on perl 5.22.1, created by CPAN-Reporter-1.2015.

Thank you for uploading your work to CPAN.  Congratulations!
All tests were successful.

Sections of this report:

    * Tester comments
    * Program output
    * Prerequisites
    * Environment and other context

------------------------------
TESTER COMMENTS
------------------------------

Additional comments from tester:

this report is from an automated smoke testing program
and was not reviewed by a human for accuracy

------------------------------
PROGRAM OUTPUT
------------------------------

Output from './Build test':

t/00_use.t .......................... ok
t/01_references.t ................... ok
t/10_pod_check.t .................... ok
t/11_pod_coverage.t ................. ok
t/30_mappings.t ..................... ok
t/31_prohibited_characters.t ........ ok
t/31_prohibited_characters_extra.t .. ok
t/32_nfkc_3_2.t ..................... ok
t/99_perl-5.11.3.t .................. ok
t/nameprep.t ........................ ok
t/nameprep_bytes.t .................. ok
t/nameprep_stored.t ................. ok
t/saslprep.t ........................ ok
t/saslprep_bytes.t .................. ok
All tests successful.
Files=14, Tests=200, 30 wallclock secs ( 1.38 usr  0.14 sys + 26.91 cusr  1.25 csys = 29.68 CPU)
Result: PASS

------------------------------
PREREQUISITES
------------------------------

Prerequisite modules loaded:

requires:

    Module             Need     Have    
    ------------------ -------- --------
    perl               5.008003 5.022001
    Unicode::Normalize 1        1.24    

build_requires:

    Module             Need     Have    
    ------------------ -------- --------
    Test::More         0        1.001014
    Test::NoWarnings   0        1.04    

configure_requires:

    Module             Need     Have    
    ------------------ -------- --------
    Module::Build      0.42     0.4214  


------------------------------
ENVIRONMENT AND OTHER CONTEXT
------------------------------

Environment variables:

    AUTOMATED_TESTING = 1
    LC_CTYPE = de_AT.utf8
    LD_LIBRARY_PATH = /usr/lib/libeatmydata
    NONINTERACTIVE_TESTING = 1
    PATH = /srv/smoker/bin:/usr/lib/ccache:/srv/smoker/perl5/perlbrew/bin:/srv/smoker/perl5/perlbrew/perls/perl-5.22.1/bin:/usr/local/bin:/usr/bin:/bin:/usr/local/games:/usr/games
    PERL5LIB = /srv/smoker/cpan/build/PBKDF2-Tiny-0.005-6Hfnuo/blib/arch:/srv/smoker/cpan/build/PBKDF2-Tiny-0.005-6Hfnuo/blib/lib:/srv/smoker/cpan/build/Moo-2.000002-LFzK1Z/blib/arch:/srv/smoker/cpan/build/Moo-2.000002-LFzK1Z/blib/lib:/srv/smoker/cpan/build/Crypt-URandom-0.36-WlL6gN/blib/arch:/srv/smoker/cpan/build/Crypt-URandom-0.36-WlL6gN/blib/lib:/srv/smoker/cpan/build/Type-Tiny-1.000005-rlnFC9/blib/arch:/srv/smoker/cpan/build/Type-Tiny-1.000005-rlnFC9/blib/lib:/srv/smoker/cpan/build/File-Slurp-Tiny-0.004-fCSj8q/blib/arch:/srv/smoker/cpan/build/File-Slurp-Tiny-0.004-fCSj8q/blib/lib:/srv/smoker/cpan/build/Config-AutoConf-0.311-WV0VsO/blib/arch:/srv/smoker/cpan/build/Config-AutoConf-0.311-WV0VsO/blib/lib
    PERL5OPT = 
    PERL5_CPANPLUS_IS_RUNNING = 15789
    PERL5_CPAN_IS_RUNNING = 15789
    PERL5_CPAN_IS_RUNNING_IN_RECURSION = 25703,15789
    PERLBREW_BASHRC_VERSION = 0.74
    PERLBREW_HOME = /srv/smoker/.perlbrew
    PERLBREW_MANPATH = /srv/smoker/perl5/perlbrew/perls/perl-5.22.1/man
    PERLBREW_PATH = /srv/smoker/perl5/perlbrew/bin:/srv/smoker/perl5/perlbrew/perls/perl-5.22.1/bin
    PERLBREW_PERL = perl-5.22.1
    PERLBREW_ROOT = /srv/smoker/perl5/perlbrew
    PERLBREW_VERSION = 0.74
    PERL_CR_SMOKER_CURRENT = MongoDB-v1.3.0-TRIAL
    PERL_EXTUTILS_AUTOINSTALL = --defaultdeps
    PERL_MM_USE_DEFAULT = 1
    SHELL = /bin/bash
    TERM = screen-256color

Perl special variables (and OS-specific diagnostics, for MSWin32):

    $^X = /srv/smoker/perl5/perlbrew/perls/perl-5.22.1/bin/perl
    $UID/$EUID = 1111 / 1111
    $GID = 65534 65534
    $EGID = 65534 65534

Perl module toolchain versions installed:

    Module              Have    
    ------------------- --------
    CPAN                2.11    
    CPAN::Meta          2.150005
    Cwd                 3.60    
    ExtUtils::CBuilder  0.280224
    ExtUtils::Command   7.10    
    ExtUtils::Install   2.04    
    ExtUtils::MakeMaker 7.10    
    ExtUtils::Manifest  1.70    
    ExtUtils::ParseXS   3.30    
    File::Spec          3.60    
    JSON                2.90    
    JSON::PP            2.27300 
    Module::Build       0.4214  
    Module::Signature   n/a     
    Parse::CPAN::Meta   1.4417  
    Test::Harness       3.35    
    Test::More          1.001014
    YAML                1.15    
    YAML::Syck          n/a     
    version             0.9912  


--

Summary of my perl5 (revision 5 version 22 subversion 1) configuration:
   
  Platform:
    osname=linux, osvers=3.18.0-trunk-rpi, archname=armv6l-linux
    uname='linux smoker 3.18.0-trunk-rpi #1 preempt raspbian 3.18.5-1~exp1+rpi19+stretch (2015-10-14) armv6l gnulinux '
    config_args='-de -Dprefix=/srv/smoker/perl5/perlbrew/perls/perl-5.22.1 -Aeval:scriptdir=/srv/smoker/perl5/perlbrew/perls/perl-5.22.1/bin'
    hint=recommended, useposix=true, d_sigaction=define
    useithreads=undef, usemultiplicity=undef
    use64bitint=undef, use64bitall=undef, uselongdouble=undef
    usemymalloc=n, bincompat5005=undef
  Compiler:
    cc='cc', ccflags ='-fwrapv -fno-strict-aliasing -pipe -fstack-protector-strong -I/usr/local/include -D_LARGEFILE_SOURCE -D_FILE_OFFSET_BITS=64',
    optimize='-O2',
    cppflags='-fwrapv -fno-strict-aliasing -pipe -fstack-protector-strong -I/usr/local/include'
    ccversion='', gccversion='5.2.1 20151028', gccosandvers=''
    intsize=4, longsize=4, ptrsize=4, doublesize=8, byteorder=1234, doublekind=3
    d_longlong=define, longlongsize=8, d_longdbl=define, longdblsize=8, longdblkind=0
    ivtype='long', ivsize=4, nvtype='double', nvsize=8, Off_t='off_t', lseeksize=8
    alignbytes=8, prototype=define
  Linker and Libraries:
    ld='cc', ldflags =' -fstack-protector-strong -L/usr/local/lib'
    libpth=/usr/local/lib /usr/lib/gcc/arm-linux-gnueabihf/5/include-fixed /usr/include/arm-linux-gnueabihf /usr/lib /lib/arm-linux-gnueabihf /lib /usr/lib/arm-linux-gnueabihf
    libs=-lpthread -lnsl -ldl -lm -lcrypt -lutil -lc
    perllibs=-lpthread -lnsl -ldl -lm -lcrypt -lutil -lc
    libc=libc-2.19.so, so=so, useshrplib=false, libperl=libperl.a
    gnulibc_version='2.19'
  Dynamic Linking:
    dlsrc=dl_dlopen.xs, dlext=so, d_dlsymun=undef, ccdlflags='-Wl,-E'
    cccdlflags='-fPIC', lddlflags='-shared -O2 -L/usr/local/lib -fstack-protector-strong'


Characteristics of this binary (from libperl): 
  Compile-time options: HAS_TIMES PERLIO_LAYERS PERL_DONT_CREATE_GVSV
                        PERL_HASH_FUNC_ONE_AT_A_TIME_HARD PERL_MALLOC_WRAP
                        PERL_NEW_COPY_ON_WRITE PERL_PRESERVE_IVUV
                        USE_LARGE_FILES USE_LOCALE USE_LOCALE_COLLATE
                        USE_LOCALE_CTYPE USE_LOCALE_NUMERIC USE_LOCALE_TIME
                        USE_PERLIO USE_PERL_ATOF
  Locally applied patches:
	Devel::PatchPerl 1.38
  Built under linux
  Compiled at Dec 14 2015 01:31:15
  %ENV:
    PERL5LIB="/srv/smoker/cpan/build/PBKDF2-Tiny-0.005-6Hfnuo/blib/arch:/srv/smoker/cpan/build/PBKDF2-Tiny-0.005-6Hfnuo/blib/lib:/srv/smoker/cpan/build/Moo-2.000002-LFzK1Z/blib/arch:/srv/smoker/cpan/build/Moo-2.000002-LFzK1Z/blib/lib:/srv/smoker/cpan/build/Crypt-URandom-0.36-WlL6gN/blib/arch:/srv/smoker/cpan/build/Crypt-URandom-0.36-WlL6gN/blib/lib:/srv/smoker/cpan/build/Type-Tiny-1.000005-rlnFC9/blib/arch:/srv/smoker/cpan/build/Type-Tiny-1.000005-rlnFC9/blib/lib:/srv/smoker/cpan/build/File-Slurp-Tiny-0.004-fCSj8q/blib/arch:/srv/smoker/cpan/build/File-Slurp-Tiny-0.004-fCSj8q/blib/lib:/srv/smoker/cpan/build/Config-AutoConf-0.311-WV0VsO/blib/arch:/srv/smoker/cpan/build/Config-AutoConf-0.311-WV0VsO/blib/lib"
    PERL5OPT=""
    PERL5_CPANPLUS_IS_RUNNING="15789"
    PERL5_CPAN_IS_RUNNING="15789"
    PERL5_CPAN_IS_RUNNING_IN_RECURSION="25703,15789"
    PERLBREW_BASHRC_VERSION="0.74"
    PERLBREW_HOME="/srv/smoker/.perlbrew"
    PERLBREW_MANPATH="/srv/smoker/perl5/perlbrew/perls/perl-5.22.1/man"
    PERLBREW_PATH="/srv/smoker/perl5/perlbrew/bin:/srv/smoker/perl5/perlbrew/perls/perl-5.22.1/bin"
    PERLBREW_PERL="perl-5.22.1"
    PERLBREW_ROOT="/srv/smoker/perl5/perlbrew"
    PERLBREW_VERSION="0.74"
    PERL_CR_SMOKER_CURRENT="MongoDB-v1.3.0-TRIAL"
    PERL_EXTUTILS_AUTOINSTALL="--defaultdeps"
    PERL_MM_USE_DEFAULT="1"
  @INC:
    /srv/smoker/cpan/build/PBKDF2-Tiny-0.005-6Hfnuo/blib/arch
    /srv/smoker/cpan/build/PBKDF2-Tiny-0.005-6Hfnuo/blib/lib
    /srv/smoker/cpan/build/Moo-2.000002-LFzK1Z/blib/arch
    /srv/smoker/cpan/build/Moo-2.000002-LFzK1Z/blib/lib
    /srv/smoker/cpan/build/Crypt-URandom-0.36-WlL6gN/blib/arch
    /srv/smoker/cpan/build/Crypt-URandom-0.36-WlL6gN/blib/lib
    /srv/smoker/cpan/build/Type-Tiny-1.000005-rlnFC9/blib/arch
    /srv/smoker/cpan/build/Type-Tiny-1.000005-rlnFC9/blib/lib
    /srv/smoker/cpan/build/File-Slurp-Tiny-0.004-fCSj8q/blib/arch
    /srv/smoker/cpan/build/File-Slurp-Tiny-0.004-fCSj8q/blib/lib
    /srv/smoker/cpan/build/Config-AutoConf-0.311-WV0VsO/blib/arch
    /srv/smoker/cpan/build/Config-AutoConf-0.311-WV0VsO/blib/lib
    /srv/smoker/perl5/perlbrew/perls/perl-5.22.1/lib/site_perl/5.22.1/armv6l-linux
    /srv/smoker/perl5/perlbrew/perls/perl-5.22.1/lib/site_perl/5.22.1
    /srv/smoker/perl5/perlbrew/perls/perl-5.22.1/lib/5.22.1/armv6l-linux
    /srv/smoker/perl5/perlbrew/perls/perl-5.22.1/lib/5.22.1
    .