BenchmarkAnything-Storage-Search-Elasticsearch v0.005 Perl 5 v5.8.9 amd64-freebsd-thread-multi
- Status
- Pass
- From
- Chris Williams (BINGOS)
- Dist
-
BenchmarkAnything-Storage-Search-Elasticsearch v0.005
- Platform
- Perl 5 v5.8.9 amd64-freebsd-thread-multi
- Date
- 2020-12-08 03:00:46
- ID
- 9151fc94-3901-11eb-84bc-edd243e66a77
This distribution has been tested as part of the CPAN Testers
project, supporting the Perl programming language. See
http://wiki.cpantesters.org/ for more information or email
questions to cpan-testers-discuss@perl.org
--
Dear Steffen Schwigon,
This is a computer-generated error report created automatically by
CPANPLUS, version 0.9908. Testers personal comments may appear
at the end of this report.
Thank you for uploading your work to CPAN. Congratulations!
All tests were successful.
TEST RESULTS:
Below is the error stack from stage 'make test':
PERL_DL_NONLAZY=1 "/usr/home/cpan/pit/thr/perl-5.8.9/bin/perl" "-MExtUtils::Command::MM" "-MTest::Harness" "-e" "undef *Test::Harness::Switches; test_harness(0, 'blib/lib', 'blib/arch')" t/*.t
t/00-compile.t ............ ok
t/author-eol.t ............ skipped: these tests are for testing by the author
t/author-no-tabs.t ........ skipped: these tests are for testing by the author
t/author-pod-syntax.t ..... skipped: these tests are for testing by the author
t/release-pod-coverage.t .. skipped: these tests are for release candidate testing
All tests successful.
Files=5, Tests=2, 1 wallclock secs ( 0.05 usr 0.02 sys + 0.23 cusr 0.09 csys = 0.38 CPU)
Result: PASS
PREREQUISITES:
Here is a list of prerequisites you specified and versions we
managed to load:
Module Name Have Want
Data::Dumper 2.121_17 0
Encode 3.08 0
ExtUtils::MakeMaker 7.48 0
File::Spec 3.75 0
IO::Handle 1.27 0
IPC::Open3 1.03 0
JSON::MaybeXS 1.004003 1.002002
Moo 2.004004 0
Search::Elasticsearch 7.30 0
Search::Elasticsearch::Role::Serializer::JSON 7.30 0
Test::More 1.302181 0
blib 1.04 1.01
namespace::clean 0.27 0
strict 1.03 0
warnings 1.05_01 0
Perl module toolchain versions installed:
Module Name Have
CPANPLUS 0.9908
CPANPLUS::Dist::Build 0.90
Cwd 3.75
ExtUtils::CBuilder 0.280234
ExtUtils::Command 7.48
ExtUtils::Install 2.18
ExtUtils::MakeMaker 7.48
ExtUtils::Manifest 1.72
ExtUtils::ParseXS 3.35
File::Spec 3.75
Module::Build 0.4231
Pod::Parser 1.35
Pod::Simple 3.40
Test2 1.302181
Test::Harness 3.42
Test::More 1.302181
version 0.9928
******************************** NOTE ********************************
The comments above are created mechanically, possibly without manual
checking by the sender. As there are many people performing automatic
tests on each upload to CPAN, it is likely that you will receive
identical messages about the same problem.
If you believe that the message is mistaken, please reply to the first
one with correction and/or additional informations, and do not take
it personally. We appreciate your patience. :)
**********************************************************************
Additional comments:
This report was machine-generated by CPANPLUS::Dist::YACSmoke 1.08.
Powered by minismokebox version 0.68
CPANPLUS is prefering Build.PL
------------------------------
ENVIRONMENT AND OTHER CONTEXT
------------------------------
Environment variables:
AUTOMATED_TESTING = 1
NONINTERACTIVE_TESTING = 1
PATH = /sbin:/bin:/usr/sbin:/usr/bin:/usr/local/sbin:/usr/local/bin:/home/cpan/bin
PERL5LIB = /usr/home/cpan/pit/jail/mvSp1Axt8J/lib/perl5:/usr/home/cpan/pit/thr/conf/perl-5.8.9/.cpanplus/5.8.9/build/qc6h5ZdJUj/BenchmarkAnything-Storage-Search-Elasticsearch-0.005/blib/lib:/usr/home/cpan/pit/thr/conf/perl-5.8.9/.cpanplus/5.8.9/build/qc6h5ZdJUj/BenchmarkAnything-Storage-Search-Elasticsearch-0.005/blib/arch
PERL5_CPANPLUS_IS_RUNNING = 95687
PERL5_CPANPLUS_IS_VERSION = 0.9908
PERL5_MINISMOKEBOX = 0.68
PERL5_YACSMOKE_BASE = /usr/home/cpan/pit/thr/conf/perl-5.8.9
PERL_EXTUTILS_AUTOINSTALL = --defaultdeps
PERL_LOCAL_LIB_ROOT = /usr/home/cpan/pit/jail/mvSp1Axt8J
PERL_MB_OPT = --install_base "/usr/home/cpan/pit/jail/mvSp1Axt8J"
PERL_MM_OPT = INSTALL_BASE=/usr/home/cpan/pit/jail/mvSp1Axt8J
PERL_MM_USE_DEFAULT = 1
PERL_USE_UNSAFE_INC = 1
SHELL = /usr/local/bin/bash
TERM = screen
Perl special variables (and OS-specific diagnostics, for MSWin32):
Perl: $^X = /usr/home/cpan/pit/thr/perl-5.8.9/bin/perl
UID: $< = 1002
EUID: $> = 1002
GID: $( = 1002 1002
EGID: $) = 1002 1002
-------------------------------
--
Summary of my perl5 (revision 5 version 8 subversion 9) configuration:
Platform:
osname=freebsd, osvers=11.4-release, archname=amd64-freebsd-thread-multi
uname='freebsd fetlock 11.4-release freebsd 11.4-release #0 r362094: fri jun 12 18:27:15 utc 2020 root@releng2.nyi.freebsd.org:usrobjusrsrcsysgeneric amd64 '
config_args='-des -Dprefix=/usr/home/cpan/pit/thr/perl-5.8.9 -Dusethreads'
hint=recommended, useposix=true, d_sigaction=define
usethreads=define use5005threads=undef useithreads=define usemultiplicity=define
useperlio=define d_sfio=undef uselargefiles=define usesocks=undef
use64bitint=define use64bitall=define uselongdouble=undef
usemymalloc=n, bincompat5005=undef
Compiler:
cc='cc', ccflags ='-DHAS_FPSETMASK -DHAS_FLOATINGPOINT_H -fno-strict-aliasing -pipe -I/usr/local/include',
optimize='-O2',
cppflags='-DHAS_FPSETMASK -DHAS_FLOATINGPOINT_H -fno-strict-aliasing -pipe -I/usr/local/include'
ccversion='', gccversion='FreeBSD Clang 10.0.0 (git@github.com:llvm/llvm-project.git llvmorg-10.0.0-0-gd32170dbd5b)', gccosandvers=''
intsize=4, longsize=8, ptrsize=8, doublesize=8, byteorder=12345678
d_longlong=define, longlongsize=8, d_longdbl=define, longdblsize=16
ivtype='long', ivsize=8, nvtype='double', nvsize=8, Off_t='off_t', lseeksize=8
alignbytes=8, prototype=define
Linker and Libraries:
ld='cc', ldflags ='-pthread -Wl,-E -L/usr/local/lib'
libpth=/usr/lib /usr/local/lib
libs=-lgdbm -ldl -lm -lcrypt -lutil
perllibs=-ldl -lm -lcrypt -lutil
libc=, so=so, useshrplib=false, libperl=libperl.a
gnulibc_version=''
Dynamic Linking:
dlsrc=dl_dlopen.xs, dlext=so, d_dlsymun=undef, ccdlflags=' '
cccdlflags='-DPIC -fPIC', lddlflags='-shared -L/usr/local/lib'
Characteristics of this binary (from libperl):
Compile-time options: MULTIPLICITY PERL_IMPLICIT_CONTEXT PERL_MALLOC_WRAP
USE_64_BIT_ALL USE_64_BIT_INT USE_FAST_STDIO
USE_ITHREADS USE_LARGE_FILES USE_PERLIO
USE_REENTRANT_API
Locally applied patches:
Devel::PatchPerl 2.00
Built under freebsd
Compiled at Jul 1 2020 15:16:45
%ENV:
PERL5LIB="/usr/home/cpan/pit/jail/mvSp1Axt8J/lib/perl5:/usr/home/cpan/pit/thr/conf/perl-5.8.9/.cpanplus/5.8.9/build/qc6h5ZdJUj/BenchmarkAnything-Storage-Search-Elasticsearch-0.005/blib/lib:/usr/home/cpan/pit/thr/conf/perl-5.8.9/.cpanplus/5.8.9/build/qc6h5ZdJUj/BenchmarkAnything-Storage-Search-Elasticsearch-0.005/blib/arch"
PERL5_CPANPLUS_IS_RUNNING="95687"
PERL5_CPANPLUS_IS_VERSION="0.9908"
PERL5_MINISMOKEBOX="0.68"
PERL5_YACSMOKE_BASE="/usr/home/cpan/pit/thr/conf/perl-5.8.9"
PERL_EXTUTILS_AUTOINSTALL="--defaultdeps"
PERL_LOCAL_LIB_ROOT="/usr/home/cpan/pit/jail/mvSp1Axt8J"
PERL_MB_OPT="--install_base "/usr/home/cpan/pit/jail/mvSp1Axt8J""
PERL_MM_OPT="INSTALL_BASE=/usr/home/cpan/pit/jail/mvSp1Axt8J"
PERL_MM_USE_DEFAULT="1"
PERL_USE_UNSAFE_INC="1"
@INC:
/usr/home/cpan/pit/jail/mvSp1Axt8J/lib/perl5/5.8.9/amd64-freebsd-thread-multi
/usr/home/cpan/pit/jail/mvSp1Axt8J/lib/perl5/5.8.9
/usr/home/cpan/pit/jail/mvSp1Axt8J/lib/perl5/amd64-freebsd-thread-multi
/usr/home/cpan/pit/jail/mvSp1Axt8J/lib/perl5
/usr/home/cpan/pit/thr/conf/perl-5.8.9/.cpanplus/5.8.9/build/qc6h5ZdJUj/BenchmarkAnything-Storage-Search-Elasticsearch-0.005/blib/lib
/usr/home/cpan/pit/thr/conf/perl-5.8.9/.cpanplus/5.8.9/build/qc6h5ZdJUj/BenchmarkAnything-Storage-Search-Elasticsearch-0.005/blib/arch
/usr/home/cpan/pit/thr/perl-5.8.9/lib/5.8.9/amd64-freebsd-thread-multi
/usr/home/cpan/pit/thr/perl-5.8.9/lib/5.8.9
/usr/home/cpan/pit/thr/perl-5.8.9/lib/site_perl/5.8.9/amd64-freebsd-thread-multi
/usr/home/cpan/pit/thr/perl-5.8.9/lib/site_perl/5.8.9
.