Assert-Refute v0.17 Perl 5 v5.32.1 i386-openbsd
- Status
- Pass
- From
- Alceu Rodrigues de Freitas Junior
- Dist
-
Assert-Refute v0.17
- Platform
- Perl 5 v5.32.1 i386-openbsd
- Date
- 2022-05-12 12:32:20
- ID
- 91719c60-d1ef-11ec-b737-db65ffa5fe2c
This distribution has been tested as part of the CPAN Testers
project, supporting the Perl programming language. See
http://wiki.cpantesters.org/ for more information or email
questions to cpan-testers-discuss@perl.org
--
Dear Konstantin S. Uvarin,
This is a computer-generated report for Assert-Refute-0.17
on perl 5.32.1, created by CPAN-Reporter-1.2018.
Thank you for uploading your work to CPAN. Congratulations!
All tests were successful.
Sections of this report:
* Tester comments
* Program output
* Prerequisites
* Environment and other context
------------------------------
TESTER COMMENTS
------------------------------
Additional comments from tester:
this report is from an automated smoke testing program
and was not reviewed by a human for accuracy
------------------------------
PROGRAM OUTPUT
------------------------------
Output from '/usr/bin/make test':
PERL_DL_NONLAZY=1 "/usr/bin/perl" "-MExtUtils::Command::MM" "-MTest::Harness" "-e" "undef *Test::Harness::Switches; test_harness(0, 'blib/lib', 'blib/arch')" t/*.t
# Testing Assert::Refute 0.17, Perl 5.032001, /usr/bin/perl
t/000-load.t .............................. ok
t/002-try_refute.t ........................ ok
t/101-Report-refute.t ..................... ok
t/102-Contract-apply.t .................... ok
t/103-Report-signature.t .................. ok
t/105-Report-readonly.t ................... ok
t/106-Build-to_scalar.t ................... ok
t/107-Basic-deep_diff.t ................... ok
t/109-Report-do_run.t ..................... ok
t/110-Build-build_refute.t ................ ok
t/111-Contract-adjust.t ................... ok
t/112-Report-refute-multiline.t ........... ok
t/113-Report-plan-tests.t ................. ok
t/114-Report-get_result_details-vs-tap.t .. ok
t/115-T-Tester.t .......................... ok
t/116-Report-context.t .................... ok
t/117-Report-done_testing.t ............... ok
t/118-Report-get_failed_ids.t ............. ok
t/119-get_parent.t ........................ ok
t/120-set_parent.t ........................ ok
t/121-refute_and_report.t ................. ok
t/122-assert_refute.t ..................... ok
t/123-subtest-dies.t ...................... ok
t/124-Report-subcontract-Report.t ......... ok
t/125-Report-get_depth.t .................. ok
t/126-get_title-set_title.t ............... ok
t/127-configure_global.t .................. ok
t/201-current_contract.t .................. ok
t/202-Build-build_refute.t ................ ok
t/203-T-Basic-smoke.t ..................... ok
t/204-T-Basic-all.t ....................... ok
t/205-inspect.t ........................... ok
t/206-signature.t ......................... ok
t/207-subcontract.t ....................... ok
t/208-T-Basic-contract-is.t ............... ok
t/210-T-Basic-cmp_ok.t .................... ok
t/211-Basic-use_ok.t ...................... ok
t/212-get_tap-exact.t ..................... ok
t/213-Report-get_result_details.t ......... ok
t/214-plan-tests.t ........................ ok
t/215-optimize-out.t ...................... ok
t/216-carp-title.t ........................ ok
t/217-refute_invariant.t .................. ok
t/301-dies_like.t ......................... ok
t/302-warns_like.t ........................ ok
t/303-try_refute-callback-carp.t .......... ok
t/304-carp_refute-config.t ................ ok
t/401-minargs.t ........................... ok
t/402-Build-name-clash.t .................. ok
t/404-configure.t ......................... ok
t/405-Report-bad-plan.t ................... ok
t/406-Report-subcontract.t ................ ok
t/407-refute_invariant.t .................. ok
t/503-refute_these-v.0.20.t ............... ok
t/505-contract-block-v.0.20.t ............. ok
t/603-Driver-More-popen.t ................. ok
t/604-Driver-More.t ....................... ok
All tests successful.
Files=57, Tests=283, 12 wallclock secs ( 0.19 usr 0.28 sys + 6.82 cusr 4.54 csys = 11.83 CPU)
Result: PASS
------------------------------
PREREQUISITES
------------------------------
Prerequisite modules loaded:
requires:
Module Need Have
------------------- -------- --------
Data::Dumper 2 2.183
parent 0 0.238
perl 5.006002 5.032001
Scalar::Util 1.14 1.62
build_requires:
Module Need Have
------------------- -------- --------
Test::More 0.98 1.302190
configure_requires:
Module Need Have
------------------- -------- --------
ExtUtils::MakeMaker 0 7.64
------------------------------
ENVIRONMENT AND OTHER CONTEXT
------------------------------
Environment variables:
AUTOMATED_TESTING = 1
NONINTERACTIVE_TESTING = 1
PATH = /home/goku/perl5/bin:/usr/bin:/bin:/usr/sbin:/sbin:/usr/X11R6/bin:/usr/local/bin:/usr/local/sbin
PERL5LIB = /home/goku/perl5/lib/perl5
PERL5OPT =
PERL5_CPANPLUS_IS_RUNNING = 48652
PERL5_CPAN_IS_RUNNING = 48652
PERL_EXTUTILS_AUTOINSTALL = 1
PERL_LOCAL_LIB_ROOT = /home/goku/perl5
PERL_MB_OPT = --install_base "/home/goku/perl5"
PERL_MM_OPT = INSTALL_BASE=/home/goku/perl5
PERL_MM_USE_DEFAULT = 1
PERL_USE_UNSAFE_INC = 1
SHELL = /bin/ksh
TERM = xterm-256color
Perl special variables (and OS-specific diagnostics, for MSWin32):
$^X = /usr/bin/perl
$UID/$EUID = 1001 / 1001
$GID = 1002 1002 1001
$EGID = 1002 1002 1001
Perl module toolchain versions installed:
Module Have
------------------- --------
CPAN 2.34
CPAN::Meta 2.150010
Cwd 3.78
ExtUtils::CBuilder 0.280236
ExtUtils::Command 7.64
ExtUtils::Install 2.20
ExtUtils::MakeMaker 7.64
ExtUtils::Manifest 1.72
ExtUtils::ParseXS 3.40
File::Spec 3.78
JSON 4.05
JSON::PP 4.08
Module::Build 0.4231
Module::Signature n/a
Parse::CPAN::Meta 2.150010
Test::Harness 3.44
Test::More 1.302190
YAML 1.30
YAML::Syck 1.34
version 0.9924
--
Summary of my perl5 (revision 5 version 32 subversion 1) configuration:
Platform:
osname=openbsd
osvers=7.0
archname=i386-openbsd
uname='openbsd'
config_args='-dse -Dopenbsd_distribution=defined -Dmksymlinks'
hint=recommended
useposix=true
d_sigaction=define
useithreads=undef
usemultiplicity=undef
use64bitint=undef
use64bitall=undef
uselongdouble=undef
usemymalloc=n
default_inc_excludes_dot=define
bincompat5005=undef
Compiler:
cc='cc'
ccflags ='-DNO_LOCALE_NUMERIC -DNO_LOCALE_COLLATE -fno-strict-aliasing -fno-delete-null-pointer-checks -pipe -fstack-protector-strong -I/usr/local/include'
optimize='-O2'
cppflags='-DBIG_TIME -DNO_LOCALE_NUMERIC -DNO_LOCALE_COLLATE -fno-strict-aliasing -fno-delete-null-pointer-checks -pipe -fstack-protector-strong -I/usr/local/include'
ccversion=''
gccversion='OpenBSD Clang 11.1.0'
gccosandvers=''
intsize=4
longsize=4
ptrsize=4
doublesize=8
byteorder=1234
doublekind=3
d_longlong=define
longlongsize=8
d_longdbl=define
longdblsize=12
longdblkind=3
ivtype='long'
ivsize=4
nvtype='double'
nvsize=8
Off_t='off_t'
lseeksize=8
alignbytes=4
prototype=define
Linker and Libraries:
ld='cc'
ldflags ='-Wl,-E -fstack-protector-strong -L/usr/local/lib'
libpth=/usr/lib /usr/local/lib
libs=-lm -lc
perllibs=-lm -lc
libc=/usr/lib/libc.so.96.1
so=so
useshrplib=true
libperl=libperl.so.22.0
gnulibc_version=''
Dynamic Linking:
dlsrc=dl_dlopen.xs
dlext=so
d_dlsymun=undef
ccdlflags='-Wl,-R/usr/libdata/perl5/i386-openbsd/CORE'
cccdlflags='-DPIC -fpic '
lddlflags='-shared -fpic -fstack-protector-strong -L/usr/local/lib'
Characteristics of this binary (from libperl):
Compile-time options:
HAS_TIMES
PERLIO_LAYERS
PERL_COPY_ON_WRITE
PERL_DONT_CREATE_GVSV
PERL_MALLOC_WRAP
PERL_OP_PARENT
PERL_PRESERVE_IVUV
USE_LARGE_FILES
USE_LOCALE
USE_LOCALE_CTYPE
USE_LOCALE_TIME
USE_PERLIO
USE_PERL_ATOF
Built under openbsd
%ENV:
PERL5LIB="/home/goku/perl5/lib/perl5"
PERL5OPT=""
PERL5_CPANPLUS_IS_RUNNING="48652"
PERL5_CPAN_IS_RUNNING="48652"
PERL_EXTUTILS_AUTOINSTALL="1"
PERL_LOCAL_LIB_ROOT="/home/goku/perl5"
PERL_MB_OPT="--install_base "/home/goku/perl5""
PERL_MM_OPT="INSTALL_BASE=/home/goku/perl5"
PERL_MM_USE_DEFAULT="1"
PERL_USE_UNSAFE_INC="1"
@INC:
/home/goku/perl5/lib/perl5/5.32.1/i386-openbsd
/home/goku/perl5/lib/perl5/5.32.1
/home/goku/perl5/lib/perl5/i386-openbsd
/home/goku/perl5/lib/perl5
/usr/local/libdata/perl5/site_perl/i386-openbsd
/usr/local/libdata/perl5/site_perl
/usr/libdata/perl5/i386-openbsd
/usr/libdata/perl5
.