Report for Text-Flow-0.01

Back
From: metabase:user:314402c4-2aae-11df-837a-5e0a49663a4f
Subject: PASS Text-Flow-0.01 v5.22.3 RC1 FreeBSD
Date: 2016-07-24T14:19:01Z

This distribution has been tested as part of the CPAN Testers
project, supporting the Perl programming language.  See
http://wiki.cpantesters.org/ for more information or email
questions to cpan-testers-discuss@perl.org


--
Dear Stevan Little,

This is a computer-generated report for Text-Flow-0.01
on perl 5.22.3, created by CPAN-Reporter-1.2018.

Thank you for uploading your work to CPAN.  Congratulations!
All tests were successful.

Sections of this report:

    * Tester comments
    * Program output
    * Prerequisites
    * Environment and other context

------------------------------
TESTER COMMENTS
------------------------------

Additional comments from tester:

none provided

------------------------------
PROGRAM OUTPUT
------------------------------

Output from './Build test':

no_plan takes no arguments at t/001_basic_ascii_text_flow.t line 6.
t/001_basic_ascii_text_flow.t ....... ok
no_plan takes no arguments at t/002_ascii_text_flow_w_para.t line 6.
t/002_ascii_text_flow_w_para.t ...... ok
t/003_basic_pdf_text_flow.t ......... skipped: Test::PDF and pdflib_pl required to run PDF tests
t/004_basic_pdf_text_flow_w_para.t .. skipped: Test::PDF and pdflib_pl required to run PDF tests
no_plan takes no arguments at t/010_basic_ascii_word_wrap.t line 6.
t/010_basic_ascii_word_wrap.t ....... ok
no_plan takes no arguments at t/011_ascii_word_wrap_w_para.t line 6.
t/011_ascii_word_wrap_w_para.t ...... ok
t/012_basic_pdf_text_wrap.t ......... skipped: Test::PDF and pdflib_pl required to run PDF tests
t/013_pdf_text_wrap_w_para.t ........ skipped: Test::PDF and pdflib_pl required to run PDF tests
t/pod.t ............................. ok
t/pod_coverage.t .................... ok
All tests successful.
Files=10, Tests=25,  1 wallclock secs ( 0.02 usr  0.06 sys +  0.78 cusr  0.28 csys =  1.14 CPU)
Result: PASS

------------------------------
PREREQUISITES
------------------------------

Prerequisite modules loaded:

requires:

    Module           Need Have    
    ---------------- ---- --------
    Moose            0.21 2.1804  

build_requires:

    Module           Need Have    
    ---------------- ---- --------
    List::Util       0    1.45    
    Test::Exception  0.21 0.43    
    Test::LongString 0    0.17    
    Test::More       0.62 1.302047


------------------------------
ENVIRONMENT AND OTHER CONTEXT
------------------------------

Environment variables:

    LC_ALL = de_DE.ISO8859-1
    PATH = /usr/local/bin:/usr/bin:/bin:/usr/local/sbin:/usr/sbin:/sbin:/home/cpansand/bin/freebsd10.1:/home/cpansand/bin/sh:/home/cpansand/bin:/usr/games:/home/cpansand/devel:/home/eserte/src/srezic-misc/scripts
    PERL5LIB = /home/cpansand/.cpan/build/2016072415/Graphics-Primitive-0.67-0/blib/arch:/home/cpansand/.cpan/build/2016072415/Graphics-Primitive-0.67-0/blib/lib:/home/cpansand/.cpan/build/2016072415/Graphics-Color-0.31-0/blib/arch:/home/cpansand/.cpan/build/2016072415/Graphics-Color-0.31-0/blib/lib:/home/cpansand/.cpan/build/2016072415/Color-Library-0.021-0/blib/arch:/home/cpansand/.cpan/build/2016072415/Color-Library-0.021-0/blib/lib:/home/cpansand/.cpan/build/2016072415/Geometry-Primitive-0.24-0/blib/arch:/home/cpansand/.cpan/build/2016072415/Geometry-Primitive-0.24-0/blib/lib:/home/cpansand/.cpan/build/2016072415/Color-Scheme-1.07-0/blib/arch:/home/cpansand/.cpan/build/2016072415/Color-Scheme-1.07-0/blib/lib:/home/cpansand/.cpan/build/2016072415/Gentoo-Overlay-Group-1.000000-1/blib/arch:/home/cpansand/.cpan/build/2016072415/Gentoo-Overlay-Group-1.000000-1/blib/lib:/home/cpansand/.cpan/build/2016072415/Gentoo-Overlay-2.001001-1/blib/arch:/home/cpansand/.cpan/build/2016072415/Gentoo-Overlay-2.001001-1/blib/lib
    PERL5OPT = 
    PERL5_CPANPLUS_IS_RUNNING = 20238
    PERL5_CPAN_IS_RUNNING = 20238
    PERL5_CPAN_IS_RUNNING_IN_RECURSION = 98843,20238
    PERLDOC = -MPod::Perldoc::ToTextOverstrike
    PERL_BATCH = yes
    PERL_CANARY_STABILITY_NOPROMPT = 1
    PERL_CPAN_REPORTER_CONFIG = /var/tmp/cpansmoker-1023/2016072412/cpanreporter_003_config.ini
    PERL_EXTUTILS_AUTOINSTALL = --defaultdeps
    SHELL = /usr/local/bin/zsh
    TERM = screen
    TMPDIR = /var/tmp/cpansmoker-1023/2016072412

Perl special variables (and OS-specific diagnostics, for MSWin32):

    $^X = /usr/perl5.22.3-RC1p/bin/perl
    $UID/$EUID = 1023 / 1023
    $GID = 1023 1023
    $EGID = 1023 1023

Perl module toolchain versions installed:

    Module              Have    
    ------------------- --------
    CPAN                2.14    
    CPAN::Meta          2.150005
    Cwd                 3.62    
    ExtUtils::CBuilder  0.280221
    ExtUtils::Command   7.18    
    ExtUtils::Install   2.04    
    ExtUtils::MakeMaker 7.18    
    ExtUtils::Manifest  1.70    
    ExtUtils::ParseXS   3.30    
    File::Spec          3.62    
    JSON                2.90    
    JSON::PP            2.27400 
    Module::Build       0.4218  
    Module::Signature   0.80    
    Parse::CPAN::Meta   1.4422  
    Test::Harness       3.35    
    Test::More          1.302047
    YAML                1.18    
    YAML::Syck          1.29    
    version             0.9917  


--

Summary of my perl5 (revision 5 version 22 subversion 3) configuration:
   
  Platform:
    osname=freebsd, osvers=10.1-release, archname=amd64-freebsd
    uname='freebsd cvrsnica-freebsd-101.herceg.de 10.1-release freebsd 10.1-release #0 r274401: tue nov 11 21:02:49 utc 2014 root@releng1.nyi.freebsd.org:usrobjusrsrcsysgeneric amd64 '
    config_args='-ds -e -Dprefix=/usr/perl5.22.3-RC1p -Dcf_email=srezic@cpan.org -Doptimize=-O2 -pipe'
    hint=recommended, useposix=true, d_sigaction=define
    useithreads=undef, usemultiplicity=undef
    use64bitint=define, use64bitall=define, uselongdouble=undef
    usemymalloc=n, bincompat5005=undef
  Compiler:
    cc='cc', ccflags ='-DHAS_FPSETMASK -DHAS_FLOATINGPOINT_H -fno-strict-aliasing -pipe -fstack-protector -I/usr/local/include -D_FORTIFY_SOURCE=2',
    optimize='-O2 -pipe',
    cppflags='-DHAS_FPSETMASK -DHAS_FLOATINGPOINT_H -fno-strict-aliasing -pipe -fstack-protector -I/usr/local/include'
    ccversion='', gccversion='4.2.1 Compatible FreeBSD Clang 3.4.1 (tags/RELEASE_34/dot1-final 208032)', gccosandvers=''
    intsize=4, longsize=8, ptrsize=8, doublesize=8, byteorder=12345678, doublekind=3
    d_longlong=define, longlongsize=8, d_longdbl=define, longdblsize=16, longdblkind=3
    ivtype='long', ivsize=8, nvtype='double', nvsize=8, Off_t='off_t', lseeksize=8
    alignbytes=8, prototype=define
  Linker and Libraries:
    ld='cc', ldflags ='-pthread -Wl,-E  -fstack-protector -L/usr/local/lib'
    libpth=/usr/lib /usr/local/lib /usr/include/clang/3.4.1 /usr/lib
    libs=-lpthread -lgdbm -lm -lcrypt -lutil -lc
    perllibs=-lpthread -lm -lcrypt -lutil -lc
    libc=, so=so, useshrplib=false, libperl=libperl.a
    gnulibc_version=''
  Dynamic Linking:
    dlsrc=dl_dlopen.xs, dlext=so, d_dlsymun=undef, ccdlflags=' '
    cccdlflags='-DPIC -fPIC', lddlflags='-shared  -L/usr/local/lib -fstack-protector'


Characteristics of this binary (from libperl): 
  Compile-time options: HAS_TIMES PERLIO_LAYERS PERL_DONT_CREATE_GVSV
                        PERL_HASH_FUNC_ONE_AT_A_TIME_HARD PERL_MALLOC_WRAP
                        PERL_NEW_COPY_ON_WRITE PERL_PRESERVE_IVUV
                        USE_64_BIT_ALL USE_64_BIT_INT USE_LARGE_FILES
                        USE_LOCALE USE_LOCALE_COLLATE USE_LOCALE_CTYPE
                        USE_LOCALE_NUMERIC USE_LOCALE_TIME USE_PERLIO
                        USE_PERL_ATOF
  Locally applied patches:
	RC1
  Built under freebsd
  Compiled at Jul 18 2016 00:51:15
  %ENV:
    PERL5LIB="/home/cpansand/.cpan/build/2016072415/Graphics-Primitive-0.67-0/blib/arch:/home/cpansand/.cpan/build/2016072415/Graphics-Primitive-0.67-0/blib/lib:/home/cpansand/.cpan/build/2016072415/Graphics-Color-0.31-0/blib/arch:/home/cpansand/.cpan/build/2016072415/Graphics-Color-0.31-0/blib/lib:/home/cpansand/.cpan/build/2016072415/Color-Library-0.021-0/blib/arch:/home/cpansand/.cpan/build/2016072415/Color-Library-0.021-0/blib/lib:/home/cpansand/.cpan/build/2016072415/Geometry-Primitive-0.24-0/blib/arch:/home/cpansand/.cpan/build/2016072415/Geometry-Primitive-0.24-0/blib/lib:/home/cpansand/.cpan/build/2016072415/Color-Scheme-1.07-0/blib/arch:/home/cpansand/.cpan/build/2016072415/Color-Scheme-1.07-0/blib/lib:/home/cpansand/.cpan/build/2016072415/Gentoo-Overlay-Group-1.000000-1/blib/arch:/home/cpansand/.cpan/build/2016072415/Gentoo-Overlay-Group-1.000000-1/blib/lib:/home/cpansand/.cpan/build/2016072415/Gentoo-Overlay-2.001001-1/blib/arch:/home/cpansand/.cpan/build/2016072415/Gentoo-Overlay-2.001001-1/blib/lib"
    PERL5OPT=""
    PERL5_CPANPLUS_IS_RUNNING="20238"
    PERL5_CPAN_IS_RUNNING="20238"
    PERL5_CPAN_IS_RUNNING_IN_RECURSION="98843,20238"
    PERLDOC="-MPod::Perldoc::ToTextOverstrike"
    PERL_BATCH="yes"
    PERL_CANARY_STABILITY_NOPROMPT="1"
    PERL_CPAN_REPORTER_CONFIG="/var/tmp/cpansmoker-1023/2016072412/cpanreporter_003_config.ini"
    PERL_EXTUTILS_AUTOINSTALL="--defaultdeps"
  @INC:
    /home/cpansand/.cpan/build/2016072415/Graphics-Primitive-0.67-0/blib/arch
    /home/cpansand/.cpan/build/2016072415/Graphics-Primitive-0.67-0/blib/lib
    /home/cpansand/.cpan/build/2016072415/Graphics-Color-0.31-0/blib/arch
    /home/cpansand/.cpan/build/2016072415/Graphics-Color-0.31-0/blib/lib
    /home/cpansand/.cpan/build/2016072415/Color-Library-0.021-0/blib/arch
    /home/cpansand/.cpan/build/2016072415/Color-Library-0.021-0/blib/lib
    /home/cpansand/.cpan/build/2016072415/Geometry-Primitive-0.24-0/blib/arch
    /home/cpansand/.cpan/build/2016072415/Geometry-Primitive-0.24-0/blib/lib
    /home/cpansand/.cpan/build/2016072415/Color-Scheme-1.07-0/blib/arch
    /home/cpansand/.cpan/build/2016072415/Color-Scheme-1.07-0/blib/lib
    /home/cpansand/.cpan/build/2016072415/Gentoo-Overlay-Group-1.000000-1/blib/arch
    /home/cpansand/.cpan/build/2016072415/Gentoo-Overlay-Group-1.000000-1/blib/lib
    /home/cpansand/.cpan/build/2016072415/Gentoo-Overlay-2.001001-1/blib/arch
    /home/cpansand/.cpan/build/2016072415/Gentoo-Overlay-2.001001-1/blib/lib
    /usr/perl5.22.3-RC1p/lib/site_perl/5.22.3/amd64-freebsd
    /usr/perl5.22.3-RC1p/lib/site_perl/5.22.3
    /usr/perl5.22.3-RC1p/lib/5.22.3/amd64-freebsd
    /usr/perl5.22.3-RC1p/lib/5.22.3
    .