Report for Class-MakeMethods-1.007

Back
From: metabase:user:d2c9f356-b46f-11df-9a90-20a83c0b7757
Subject: PASS Class-MakeMethods-1.007 v5.15.5 SunOS/Solaris
Date: 2011-12-29T07:48:59Z

This distribution has been tested as part of the CPAN Testers
project, supporting the Perl programming language.  See
http://wiki.cpantesters.org/ for more information or email
questions to cpan-testers-discuss@perl.org


--
Dear Matthew Simon Cavalletto,

This is a computer-generated report for Class-MakeMethods-1.007
on perl 5.15.5, created by CPAN-Reporter-1.2003.

Thank you for uploading your work to CPAN.  Congratulations!
All tests were successful.

Sections of this report:

    * Tester comments
    * Program output
    * Prerequisites
    * Environment and other context

------------------------------
TESTER COMMENTS
------------------------------

Additional comments from tester:

this report is from an automated smoke testing program
and was not reviewed by a human for accuracy

------------------------------
PROGRAM OUTPUT
------------------------------

Output from '/usr/local/bin/make test':

PERL_DL_NONLAZY=1 /export/home/cpant4/perl5/bin/perl5.15.5 "-MExtUtils::Command::MM" "-e" "test_harness(0, 'blib/lib', 'blib/arch')" t/*.t t-mm/*.t
t-mm/abstract.t ........................... ok
t-mm/boolean.092.t ........................ ok
t-mm/boolean.t ............................ ok
t-mm/code.t ............................... ok
t-mm/copy.t ............................... ok
t-mm/counter.t ............................ ok
t-mm/get_concat.092.t ..................... ok
t-mm/get_concat.t ......................... ok
t-mm/get_set.092.t ........................ ok
t-mm/get_set.t ............................ ok
t-mm/grouped_fields.t ..................... ok
t-mm/hash.092.t ........................... ok
t-mm/hash.t ............................... ok
t-mm/hash_of_lists.t ...................... ok
t-mm/key_attrib.t ......................... ok
t-mm/key_with_create.t .................... ok
t-mm/list.092.t ........................... ok
t-mm/list.104.t ........................... ok
t-mm/list.t ............................... ok
t-mm/listed_attrib.t ...................... ok
t-mm/method.t ............................. ok
t-mm/new.092.t ............................ ok
t-mm/new.102.t ............................ ok
t-mm/new.t ................................ ok
t-mm/object.092.t ......................... ok
t-mm/object.t ............................. ok
t-mm/object_list.102.t .................... ok
t-mm/object_list.t ........................ ok
t-mm/static_get_set.t ..................... ok
t-mm/static_hash.092.t .................... ok
t-mm/static_hash.t ........................ ok
t-mm/static_list.t ........................ ok
t-mm/struct.t ............................. ok
t-mm/sugar.092.t .......................... ok
t-mm/tie_hash.t ........................... ok
t/10_import_version.t ..................... ok
t/21_Basic_declarations.t ................. ok
t/22_Basic_array.t ........................ ok
t/23_Basic_hash.t ......................... ok
t/24_Basic_global_scalar.t ................ ok
t/25_Basic_global_hash.t .................. ok
t/30_Standard_declarations.t .............. ok
t/31_Standard_hash.t ...................... ok
t/32_Standard_inheritable.t ............... ok
t/33_Standard_inheritable_hash.t .......... ok
t/40_Composite_declarations.t ............. ok
t/41_Composite_hash.t ..................... ok
t/42_Composite_inheritable.t .............. ok
t/43_Composite_inheritable_hash.t ......... ok
t/44_Composite_inheritable_hook.t ......... ok
t/45_Composite_patch.t .................... ok
t/50_Template_declaration.t ............... ok
t/50_Template_doc_examples.t .............. ok
t/50_Template_doc_extending.t ............. ok
t/51_Template_abstract.t .................. ok
t/51_Template_clone.t ..................... ok
t/52_Template_hash_array.t ................ ok
t/52_Template_hash_array_getset.t ......... ok
t/52_Template_hash_array_object.t ......... ok
t/52_Template_hash_boolean.t .............. ok
t/52_Template_hash_code.t ................. ok
t/52_Template_hash_copy.t ................. ok
t/52_Template_hash_counter.t .............. ok
t/52_Template_hash_hash.t ................. ok
t/52_Template_hash_hash_array.t ........... ok
t/52_Template_hash_method.t ............... ok
t/52_Template_hash_new.t .................. ok
t/52_Template_hash_number.t ............... ok
t/52_Template_hash_number_templates.t ..... ok
t/52_Template_hash_object.t ............... ok
t/52_Template_hash_scalar.t ............... ok
t/52_Template_hash_scalar_templates.t ..... ok
t/52_Template_hash_string_concat.t ........ ok
t/52_Template_hash_string_index.t ......... ok
t/52_Template_hash_string_index_create.t .. ok
t/52_Template_hash_struct.t ............... ok
t/52_Template_hash_tiedhash.t ............. ok
t/53_Template_array_number.t .............. ok
t/53_Template_array_object.t .............. ok
t/53_Template_array_scalar.t .............. ok
t/54_Template_global_array.t .............. ok
t/54_Template_global_code.t ............... ok
t/54_Template_global_hash.t ............... ok
t/54_Template_global_scalar.t ............. ok
t/55_Template_class_array.t ............... ok
t/55_Template_class_scalar.t .............. ok
t/55_Template_classvar_array.t ............ ok
t/55_Template_classvar_scalar.t ........... ok
t/55_Template_package_scalar.t ............ ok
t/56_Template_inherit_scalar.t ............ ok
t/56_Template_insideout_array.t ........... ok
t/56_Template_insideout_bool_i.t .......... ok
t/56_Template_insideout_scalar.t .......... ok
t/57_Template_scalar_bits.t ............... ok
t/57_Template_scalar_counter.t ............ ok
t/58_Template_modifier_clos_cnt.t ......... ok
t/58_Template_modifier_closure.t .......... ok
t/58_Template_modifier_private.t .......... ok
t/59_Template_text_builder.t .............. ok
t/61_Attribute_stnd_hash.t ................ ok
t/62_Autoload_stnd_hash.t ................. ok
t/63_Autoload_typemap.t ................... ok
t/64_Utility_Inheritable.t ................ ok
t/71_Class_Accessor_Fast.t ................ ok
t/72_Class_Inheritable.t .................. ok
t/73_Class_Inheritable_trans.t ............ ok
t/74_Class_Singleton.t .................... ok
t/75_Class_Singleton_trans.t .............. ok
t/76_Class_Struct.t ....................... ok
t/77_Class_Struct_compare.t ............... ok
All tests successful.
Files=110, Tests=1695, 12 wallclock secs ( 0.37 usr  0.14 sys +  1.83 cusr  0.00 csys =  2.34 CPU)
Result: PASS

------------------------------
PREREQUISITES
------------------------------

Prerequisite modules loaded:

build_requires:

    Module              Need Have   
    ------------------- ---- -------
    ExtUtils::MakeMaker 0    6.63_02


------------------------------
ENVIRONMENT AND OTHER CONTEXT
------------------------------

Environment variables:

    AUTOMATED_TESTING = 1
    LANG = C
    LD_LIBRARY_PATH = /usr/local/lib:
    PATH = /export/home/cpant4/perl5/bin:/usr/local/bin:/usr/bin
    PERL5LIB = 
    PERL5OPT = 
    PERL5_CPANPLUS_IS_RUNNING = 1368
    PERL5_CPAN_IS_RUNNING = 1368
    PERL5_CPAN_IS_RUNNING_IN_RECURSION = 13482,1368
    PERL_CR_SMOKER_CURRENT = Class-MakeMethods-1.007
    PERL_EXTUTILS_AUTOINSTALL = --defaultdeps
    PERL_MM_USE_DEFAULT = 1
    SHELL = /bin/bash
    TERM = xterm

Perl special variables (and OS-specific diagnostics, for MSWin32):

    $^X = /export/home/cpant4/perl5/bin/perl5.15.5
    $UID/$EUID = 104 / 104
    $GID = 1 1
    $EGID = 1 1

Perl module toolchain versions installed:

    Module              Have    
    ------------------- --------
    CPAN                1.9800  
    CPAN::Meta          2.112621
    Cwd                 3.37    
    ExtUtils::CBuilder  0.280204
    ExtUtils::Command   1.17    
    ExtUtils::Install   1.57    
    ExtUtils::MakeMaker 6.63_02 
    ExtUtils::Manifest  1.60    
    ExtUtils::ParseXS   3.08    
    File::Spec          3.34    
    JSON                2.53    
    JSON::PP            2.27200 
    Module::Build       0.39_01 
    Module::Signature   n/a     
    Parse::CPAN::Meta   1.4401  
    Test::Harness       3.23    
    Test::More          0.98    
    YAML                0.77    
    YAML::Syck          1.19    
    version             0.95    


--

Summary of my perl5 (revision 5 version 15 subversion 5) configuration:
   
  Platform:
    osname=solaris, osvers=2.10, archname=i86pc-solaris-64int
    uname='sunos vmrz0046 5.10 generic_141445-09 i86pc i386 i86pc solaris '
    config_args='-Dcc=gcc -Dprefix=~/perl5 -Duse64bitint -Dusedevel -d'
    hint=recommended, useposix=true, d_sigaction=define
    useithreads=undef, usemultiplicity=undef
    useperlio=define, d_sfio=undef, uselargefiles=define, usesocks=undef
    use64bitint=define, use64bitall=undef, uselongdouble=undef
    usemymalloc=n, bincompat5005=undef
  Compiler:
    cc='gcc', ccflags ='-DPTR_IS_LONG -fno-strict-aliasing -pipe -I/usr/local/include -D_LARGEFILE_SOURCE -D_FILE_OFFSET_BITS=64 -DPERL_USE_SAFE_PUTENV',
    optimize='-O',
    cppflags='-DPTR_IS_LONG -fno-strict-aliasing -pipe -I/usr/local/include'
    ccversion='', gccversion='3.4.6', gccosandvers='solaris2.10'
    intsize=4, longsize=4, ptrsize=4, doublesize=8, byteorder=12345678
    d_longlong=define, longlongsize=8, d_longdbl=define, longdblsize=12
    ivtype='long long', ivsize=8, nvtype='double', nvsize=8, Off_t='off_t', lseeksize=8
    alignbytes=4, prototype=define
  Linker and Libraries:
    ld='gcc', ldflags =' -L/usr/local/lib '
    libpth=/usr/local/lib /usr/lib /usr/ccs/lib
    libs=-lsocket -lnsl -lgdbm -ldl -lm -lc
    perllibs=-lsocket -lnsl -ldl -lm -lc
    libc=/lib/libc.so, so=so, useshrplib=false, libperl=libperl.a
    gnulibc_version=''
  Dynamic Linking:
    dlsrc=dl_dlopen.xs, dlext=so, d_dlsymun=undef, ccdlflags=' '
    cccdlflags='-fPIC', lddlflags='-G -L/usr/local/lib'


Characteristics of this binary (from libperl): 
  Compile-time options: HAS_TIMES PERLIO_LAYERS PERL_DONT_CREATE_GVSV
                        PERL_MALLOC_WRAP PERL_PRESERVE_IVUV PERL_USE_DEVEL
                        PERL_USE_SAFE_PUTENV USE_64_BIT_INT USE_LARGE_FILES
                        USE_LOCALE USE_LOCALE_COLLATE USE_LOCALE_CTYPE
                        USE_LOCALE_NUMERIC USE_PERLIO USE_PERL_ATOF
  Built under solaris
  Compiled at Nov 28 2011 11:34:47
  %ENV:
    PERL5LIB=""
    PERL5OPT=""
    PERL5_CPANPLUS_IS_RUNNING="1368"
    PERL5_CPAN_IS_RUNNING="1368"
    PERL5_CPAN_IS_RUNNING_IN_RECURSION="13482,1368"
    PERL_CR_SMOKER_CURRENT="Class-MakeMethods-1.007"
    PERL_EXTUTILS_AUTOINSTALL="--defaultdeps"
    PERL_MM_USE_DEFAULT="1"
  @INC:
    /export/home/cpant4/perl5/lib/site_perl/5.15.5/i86pc-solaris-64int
    /export/home/cpant4/perl5/lib/site_perl/5.15.5
    /export/home/cpant4/perl5/lib/5.15.5/i86pc-solaris-64int
    /export/home/cpant4/perl5/lib/5.15.5
    /export/home/cpant4/perl5/lib/site_perl
    .