Report for Data-Session-1.16

Back
From: metabase:user:314402c4-2aae-11df-837a-5e0a49663a4f
Subject: PASS Data-Session-1.16 v5.18.2 GNU/Linux
Date: 2014-05-08T09:03:06Z

This distribution has been tested as part of the CPAN Testers
project, supporting the Perl programming language.  See
http://wiki.cpantesters.org/ for more information or email
questions to cpan-testers-discuss@perl.org


--
Dear Ron Savage,

This is a computer-generated report for Data-Session-1.16
on perl 5.18.2, created by CPAN-Reporter-1.2011.

Thank you for uploading your work to CPAN.  Congratulations!
All tests were successful.

Sections of this report:

    * Tester comments
    * Program output
    * Prerequisites
    * Environment and other context

------------------------------
TESTER COMMENTS
------------------------------

Additional comments from tester:

none provided

------------------------------
PROGRAM OUTPUT
------------------------------

Output from './Build test':

# Test: File.1. DSN: dbi:File:. ID generator: AutoIncrement. Serializer: DataDumper
# id 1: 1002
# Test: File.1. DSN: dbi:File:. ID generator: AutoIncrement. Serializer: FreezeThaw
# id 1: 1008
# Test: File.1. DSN: dbi:File:. ID generator: AutoIncrement. Serializer: JSON
# id 1: 1014
# Test: File.1. DSN: dbi:File:. ID generator: AutoIncrement. Serializer: Storable
# id 1: 1020
# Test: File.1. DSN: dbi:File:. ID generator: AutoIncrement. Serializer: YAML
# id 1: 1026
# Test: File.1. DSN: dbi:File:. ID generator: MD5. Serializer: DataDumper
# id 1: 5048152d9d9963cf7fb8b0aebf1f0d75
# Test: File.1. DSN: dbi:File:. ID generator: MD5. Serializer: FreezeThaw
# id 1: 6fe1efae19574abfcf1d9668381a1710
# Test: File.1. DSN: dbi:File:. ID generator: MD5. Serializer: JSON
# id 1: d48ce750e861d5c1cab3ec737f5f6787
# Test: File.1. DSN: dbi:File:. ID generator: MD5. Serializer: Storable
# id 1: 9a4e0efc99c59f4bb1c4df5435ec297b
# Test: File.1. DSN: dbi:File:. ID generator: MD5. Serializer: YAML
# id 1: 20f645b7dd0bcfe7ad1757bf32c02ff6
# Test: File.1. DSN: dbi:File:. ID generator: SHA1. Serializer: DataDumper
# id 1: 1ae4b864a795dbe5154cc4a8a7551d44e656fd36
# Test: File.1. DSN: dbi:File:. ID generator: SHA1. Serializer: FreezeThaw
# id 1: f99e135e9c2651e85bafba7b514d7c773a598c3c
# Test: File.1. DSN: dbi:File:. ID generator: SHA1. Serializer: JSON
# id 1: 2339908802f9d3f0424eaf0606afb11660109af2
# Test: File.1. DSN: dbi:File:. ID generator: SHA1. Serializer: Storable
# id 1: 8a225235c1d9db5b897b98c747c74085d04310ca
# Test: File.1. DSN: dbi:File:. ID generator: SHA1. Serializer: YAML
# id 1: 8edd31deb9532e316ace9b0a4fa6241376d38826
# Test: File.1. DSN: dbi:File:. ID generator: SHA256. Serializer: DataDumper
# id 1: ecb36c73079de204b55d117c6eeecfc692e5c7f6056ecc4c19d5a1ca76d2ebca
# Test: File.1. DSN: dbi:File:. ID generator: SHA256. Serializer: FreezeThaw
# id 1: c04d7abad34d636157e6acea527e97bf3793159d8ca50e2926adc1151f6e3b26
# Test: File.1. DSN: dbi:File:. ID generator: SHA256. Serializer: JSON
# id 1: 880849733de77a4e736d57bb150a825b6f7b8489a0bedae10fa3a4d3cf26847b
# Test: File.1. DSN: dbi:File:. ID generator: SHA256. Serializer: Storable
# id 1: 2e2360f974aabaa2a0a9f2c583162a7420dc010d465de837349219ad900ea6d1
# Test: File.1. DSN: dbi:File:. ID generator: SHA256. Serializer: YAML
# id 1: 44892ef24008b670cf05c25534bd75a1ba22adb053e1b76274811d88c99696b7
# Test: File.1. DSN: dbi:File:. ID generator: SHA512. Serializer: DataDumper
# id 1: f7828d9d5197c4fcaaf4248712b1aa8b52a6d3f58fe01d01955f768c846d4e233cdde3eed9141b456c95d89f1bb662f8f3085e22c9801191301c3d65da62bcbc
# Test: File.1. DSN: dbi:File:. ID generator: SHA512. Serializer: FreezeThaw
# id 1: 4f644f0245883116bf6c34a1087f2c360493cfb4942503165d13d797c696a2f4fc9403b3f9ef203e0ca674bdaa742099649331715bde7003199cf87f1842fd9b
# Test: File.1. DSN: dbi:File:. ID generator: SHA512. Serializer: JSON
# id 1: 0b37bccd84328d2dcc38289eb5a7f0a1e93105f5617184e652eb80cc87f20049cf86a3f2847ea4de6a7ceed30c10a3382cdaa47a1dbbacc5d243186629f6c2fb
# Test: File.1. DSN: dbi:File:. ID generator: SHA512. Serializer: Storable
# id 1: 52831a8112d051176847ca890a2ee1adaf23ceaed673f2840e1f250484c0cb0e955429d83f72a0bff6343e1f74b6d91c6e7c2e266e2d2ea43e3bcd0492b97912
# Test: File.1. DSN: dbi:File:. ID generator: SHA512. Serializer: YAML
# id 1: e5028e910f92e19c472a5e1034155ea19393835376680d7d599159c341e956e76f1f551187524958ac5b735d2d70ab6987eefb08d9bdc48036dec036286d4173
# Test: File.1. DSN: dbi:File:. ID generator: Static. Serializer: DataDumper
# id 1: 1234
# Test: File.1. DSN: dbi:File:. ID generator: Static. Serializer: FreezeThaw
# id 1: 1234
# Test: File.1. DSN: dbi:File:. ID generator: Static. Serializer: JSON
# id 1: 1234
# Test: File.1. DSN: dbi:File:. ID generator: Static. Serializer: Storable
# id 1: 1234
# Test: File.1. DSN: dbi:File:. ID generator: Static. Serializer: YAML
# id 1: 1234
# Test: File.1. DSN: dbi:File:. ID generator: UUID34. Serializer: DataDumper
# id 1: 0x81CB55BCD68F11E394A7874CB7F6D7DB
# Test: File.1. DSN: dbi:File:. ID generator: UUID34. Serializer: FreezeThaw
# id 1: 0x81CC8F40D68F11E394A7874CB7F6D7DB
# Test: File.1. DSN: dbi:File:. ID generator: UUID34. Serializer: JSON
# id 1: 0x81CD73ECD68F11E394A7874CB7F6D7DB
# Test: File.1. DSN: dbi:File:. ID generator: UUID34. Serializer: Storable
# id 1: 0x81CE49A2D68F11E394A7874CB7F6D7DB
# Test: File.1. DSN: dbi:File:. ID generator: UUID34. Serializer: YAML
# id 1: 0x81CF1F94D68F11E394A7874CB7F6D7DB
# Test: File.1. DSN: dbi:File:. ID generator: UUID36. Serializer: DataDumper
# id 1: 81D0236C-D68F-11E3-94A7-874CB7F6D7DB
# Test: File.1. DSN: dbi:File:. ID generator: UUID36. Serializer: FreezeThaw
# id 1: 81D14210-D68F-11E3-94A7-874CB7F6D7DB
# Test: File.1. DSN: dbi:File:. ID generator: UUID36. Serializer: JSON
# id 1: 81D21E24-D68F-11E3-94A7-874CB7F6D7DB
# Test: File.1. DSN: dbi:File:. ID generator: UUID36. Serializer: Storable
# id 1: 81D2EFD4-D68F-11E3-94A7-874CB7F6D7DB
# Test: File.1. DSN: dbi:File:. ID generator: UUID36. Serializer: YAML
# id 1: 81D3CE40-D68F-11E3-94A7-874CB7F6D7DB
# Skipping dsn 'dbi:SQLite:dbname=/tmp/sessions.sqlite' because the SQLite directory does not exist
# 
# Testing HTTP header generation
# 
# Testing expire the session. Sleeping for 1 second ...
# Expiring id: 81D54F2C-D68F-11E3-94A7-874CB7F6D7DB
# 
# Testing expire a session parameter. Sleeping for 1 second ...
t/basic.t ..... ok
t/pod.t ....... ok
# DSN name: File.1. DSN: dbi:File:. ID generator: MD5. Serializer: DataDumper
# id1: de0dd54270d3b94bc64e17b214edc971
# 1: Recovered known id e5c08999fd2a99950099f9841cae36ac from traverse
# 2: Recovered known id 526432c355bb4c20c5509a19a34935eb from traverse
# 3: Recovered known id 95cd55dd6a2c0fc8a33ca07c82ae12f8 from traverse
# 4: Recovered known id 05f057f30d0a505115dbeeb8cbb0e085 from traverse
# Skipping dsn 'dbi:SQLite:dbname=/tmp/sessions.sqlite' because the SQLite directory does not exist
t/traverse.t .. ok
All tests successful.
Files=3, Tests=80,  7 wallclock secs ( 0.03 usr  0.03 sys +  0.75 cusr  0.13 csys =  0.94 CPU)
Result: PASS

------------------------------
PREREQUISITES
------------------------------

Prerequisite modules loaded:

requires:

    Module                   Need    Have    
    ------------------------ ------- --------
    autovivification         0       0.12    
    CGI                      3.63    3.65    
    Class::Load              0.19    0.21    
    Config::Tiny             2.14    2.20    
    Data::Dumper             2.145   2.151   
    Data::UUID               1.218   1.219   
    DBD::SQLite              1.39    1.42    
    DBI                      1.627   1.631   
    DBIx::Admin::CreateTable 2.07    2.10    
    Digest::MD5              2.52    2.53    
    Digest::SHA              5.84    5.90    
    Fcntl                    1.06    1.11    
    File::Basename           2.77    2.84    
    File::Path               2.07    2.09    
    File::Slurp              9999.19 9999.19 
    File::Spec               3.3     3.40    
    File::Temp               0.22    0.2304  
    FreezeThaw               0.5001  0.5001  
    Hash::FieldHash          0.14    0.14    
    JSON                     2.59    2.90    
    overload                 0       1.22    
    parent                   0       0.228   
    Safe                     2.35    2.35    
    Scalar::Util             1.27    1.38    
    Storable                 2.39    2.45    
    strict                   0       1.07    
    Try::Tiny                0.12    0.22    
    vars                     0       1.03    
    warnings                 0       1.18    
    YAML::Tiny               1.51    1.62    

build_requires:

    Module                   Need    Have    
    ------------------------ ------- --------
    Config::Tiny             2.14    2.20    
    DBIx::Admin::CreateTable 2.07    2.10    
    Test::More               0.92    1.001003

configure_requires:

    Module                   Need    Have    
    ------------------------ ------- --------
    Module::Build            0.38    0.4205  


------------------------------
ENVIRONMENT AND OTHER CONTEXT
------------------------------

Environment variables:

    DBIC_NO_WARN_BAD_PERL = 1
    LANG = C
    PATH = /usr/local/bin:/usr/bin:/bin:/usr/local/sbin:/usr/sbin:/sbin:/home/eserte/bin/linux-gnu:/home/eserte/bin/sh:/home/eserte/bin:/usr/games:/home/eserte/devel:/home/eserte/src/srezic-misc/scripts
    PERL5LIB = 
    PERL5OPT = 
    PERL5_CPANPLUS_IS_RUNNING = 3363
    PERL5_CPAN_IS_RUNNING = 3363
    PERL5_CPAN_IS_RUNNING_IN_RECURSION = 3876,3363
    PERLDOC = -MPod::Perldoc::ToTextOverstrike
    PERL_BATCH = yes
    PERL_CPAN_REPORTER_CONFIG = /var/tmp/cpansmoker-1001/hGfMsKQ3gL_config.ini
    PERL_EXTUTILS_AUTOINSTALL = --defaultdeps
    PERL_HTML_DISPLAY_CLASS = HTML::Display::Mozilla
    PERL_PARALLEL_SMOKER = yes
    SHELL = /bin/zsh
    TERM = screen
    TMPDIR = /var/tmp/cpansmoker-1001

Perl special variables (and OS-specific diagnostics, for MSWin32):

    $^X = /bbbike/perl-5.18.2/bin/perl5.18.2
    $UID/$EUID = 1001 / 1001
    $GID = 1001 109 1001
    $EGID = 1001 109 1001

Perl module toolchain versions installed:

    Module              Have    
    ------------------- --------
    CPAN                2.05    
    CPAN::Meta          2.141170
    Cwd                 3.40    
    ExtUtils::CBuilder  0.280210
    ExtUtils::Command   1.17    
    ExtUtils::Install   1.67    
    ExtUtils::MakeMaker 6.98    
    ExtUtils::Manifest  1.63    
    ExtUtils::ParseXS   3.24    
    File::Spec          3.40    
    JSON                2.90    
    JSON::PP            2.27203 
    Module::Build       0.4205  
    Module::Signature   0.73    
    Parse::CPAN::Meta   1.4414  
    Test::Harness       3.30    
    Test::More          1.001003
    YAML                0.90    
    YAML::Syck          1.27    
    version             0.9908  


--

Summary of my perl5 (revision 5 version 18 subversion 2) configuration:
   
  Platform:
    osname=linux, osvers=3.2.0-4-amd64, archname=x86_64-linux
    uname='linux eserte 3.2.0-4-amd64 #1 smp debian 3.2.57-3 x86_64 gnulinux '
    config_args='-ds -e -Dprefix=/opt/perl-5.18.2'
    hint=recommended, useposix=true, d_sigaction=define
    useithreads=undef, usemultiplicity=undef
    useperlio=define, d_sfio=undef, uselargefiles=define, usesocks=undef
    use64bitint=define, use64bitall=define, uselongdouble=undef
    usemymalloc=n, bincompat5005=undef
  Compiler:
    cc='cc', ccflags ='-fno-strict-aliasing -pipe -fstack-protector -I/usr/local/include -D_LARGEFILE_SOURCE -D_FILE_OFFSET_BITS=64',
    optimize='-O2',
    cppflags='-fno-strict-aliasing -pipe -fstack-protector -I/usr/local/include'
    ccversion='', gccversion='4.7.2', gccosandvers=''
    intsize=4, longsize=8, ptrsize=8, doublesize=8, byteorder=12345678
    d_longlong=define, longlongsize=8, d_longdbl=define, longdblsize=16
    ivtype='long', ivsize=8, nvtype='double', nvsize=8, Off_t='off_t', lseeksize=8
    alignbytes=8, prototype=define
  Linker and Libraries:
    ld='cc', ldflags =' -fstack-protector -L/usr/local/lib'
    libpth=/usr/local/lib /lib/x86_64-linux-gnu /lib/../lib /usr/lib/x86_64-linux-gnu /usr/lib/../lib /lib /usr/lib
    libs=-lnsl -ldb -ldl -lm -lcrypt -lutil -lc
    perllibs=-lnsl -ldl -lm -lcrypt -lutil -lc
    libc=, so=so, useshrplib=false, libperl=libperl.a
    gnulibc_version='2.13'
  Dynamic Linking:
    dlsrc=dl_dlopen.xs, dlext=so, d_dlsymun=undef, ccdlflags='-Wl,-E'
    cccdlflags='-fPIC', lddlflags='-shared -O2 -L/usr/local/lib -fstack-protector'


Characteristics of this binary (from libperl): 
  Compile-time options: HAS_TIMES PERLIO_LAYERS PERL_DONT_CREATE_GVSV
                        PERL_HASH_FUNC_ONE_AT_A_TIME_HARD PERL_MALLOC_WRAP
                        PERL_PRESERVE_IVUV PERL_SAWAMPERSAND USE_64_BIT_ALL
                        USE_64_BIT_INT USE_LARGE_FILES USE_LOCALE
                        USE_LOCALE_COLLATE USE_LOCALE_CTYPE
                        USE_LOCALE_NUMERIC USE_PERLIO USE_PERL_ATOF
  Built under linux
  Compiled at May  7 2014 07:25:45
  %ENV:
    PERL5LIB=""
    PERL5OPT=""
    PERL5_CPANPLUS_IS_RUNNING="3363"
    PERL5_CPAN_IS_RUNNING="3363"
    PERL5_CPAN_IS_RUNNING_IN_RECURSION="3876,3363"
    PERLDOC="-MPod::Perldoc::ToTextOverstrike"
    PERL_BATCH="yes"
    PERL_CPAN_REPORTER_CONFIG="/var/tmp/cpansmoker-1001/hGfMsKQ3gL_config.ini"
    PERL_EXTUTILS_AUTOINSTALL="--defaultdeps"
    PERL_HTML_DISPLAY_CLASS="HTML::Display::Mozilla"
    PERL_PARALLEL_SMOKER="yes"
  @INC:
    /opt/perl-5.18.2/lib/site_perl/5.18.2/x86_64-linux
    /opt/perl-5.18.2/lib/site_perl/5.18.2
    /opt/perl-5.18.2/lib/5.18.2/x86_64-linux
    /opt/perl-5.18.2/lib/5.18.2
    .