Graphics-Color v0.31 Perl 5 v5.33.4 x86_64-linux-thread-multi
- Status
- Pass
- From
- Carlos Guevara
- Dist
-
Graphics-Color v0.31
- Platform
- Perl 5 v5.33.4 x86_64-linux-thread-multi
- Date
- 2020-11-07 07:12:17
- ID
- 91e7752c-20c8-11eb-89a6-cde89a6aeac3
This distribution has been tested as part of the CPAN Testers
project, supporting the Perl programming language. See
http://wiki.cpantesters.org/ for more information or email
questions to cpan-testers-discuss@perl.org
--
Dear Cory G Watson,
This is a computer-generated report for Graphics-Color-0.31
on perl 5.33.4, created by CPAN-Reporter-1.2018.
Thank you for uploading your work to CPAN. Congratulations!
All tests were successful.
Sections of this report:
* Tester comments
* Program output
* Prerequisites
* Environment and other context
------------------------------
TESTER COMMENTS
------------------------------
Additional comments from tester:
this report is from an automated smoke testing program
and was not reviewed by a human for accuracy
------------------------------
PROGRAM OUTPUT
------------------------------
Output from '/usr/bin/make test':
PERL_DL_NONLAZY=1 "/home/cpan/bin/perl-blead/bin/perl5.33.4" "-MExtUtils::Command::MM" "-MTest::Harness" "-e" "undef *Test::Harness::Switches; test_harness(0, 'blib/lib', 'blib/arch')" t/*.t t/author/*.t
# Testing Graphics::Color 0.31, Perl 5.033004, /home/cpan/bin/perl-blead/bin/perl5.33.4
t/00-load.t .............. ok
t/01-cmyk.t .............. ok
t/01-hsl.t ............... ok
t/01-hsv.t ............... ok
t/01-rgb.t ............... ok
t/01-yiq.t ............... ok
t/01-yuv.t ............... ok
t/11-color-library.t ..... ok
t/author/pod-coverage.t .. skipped: Pod::Coverage::Moose required for testing POD coverage
t/author/pod.t ........... ok
t/release-pod-syntax.t ... skipped: these tests are for release candidate testing
t/release-synopsis.t ..... skipped: these tests are for release candidate testing
All tests successful.
Files=12, Tests=120, 5 wallclock secs ( 0.08 usr 0.00 sys + 4.47 cusr 0.56 csys = 5.11 CPU)
Result: PASS
------------------------------
PREREQUISITES
------------------------------
Prerequisite modules loaded:
requires:
Module Need Have
---------------------------- ---- --------
Color::Library 0 0.021
Moose 0 2.2013
Moose::Role 0 2.2013
Moose::Util::TypeConstraints 0 2.2013
MooseX::Aliases 0.10 0.11
MooseX::Clone 0 0.06
MooseX::Storage::Deferred 0 0.53
MooseX::Types 0 0.50
MooseX::Types::Moose 0 0.50
build_requires:
Module Need Have
---------------------------- ---- --------
strict 0 1.12
Test::More 0 1.302183
Test::Number::Delta 0 1.06
warnings 0 1.48
configure_requires:
Module Need Have
---------------------------- ---- --------
ExtUtils::MakeMaker 6.30 7.52
------------------------------
ENVIRONMENT AND OTHER CONTEXT
------------------------------
Environment variables:
AUTOMATED_TESTING = 1
DATE_MANIP_TEST_DM5 = 1
LANG = C.UTF-8
LC_ALL = C
LC_COLLATE = C
NONINTERACTIVE_TESTING = 1
PATH = /home/cpan/bin/perl-blead/bin:/home/cpan/bin:/usr/local/sbin:/usr/local/bin:/usr/sbin:/usr/bin:/sbin:/bin
PERL5LIB =
PERL5OPT =
PERL5_CPANPLUS_IS_RUNNING = 5506
PERL5_CPAN_IS_RUNNING = 5506
PERL_MM_USE_DEFAULT = 1
PERL_USE_UNSAFE_INC = 1
PERL_VERSION = blead
SHELL = /bin/bash
TERM = screen.xterm-256color
TMPDIR = /home/cpan/tmp
Perl special variables (and OS-specific diagnostics, for MSWin32):
$^X = /home/cpan/bin/perl-blead/bin/perl5.33.4
$UID/$EUID = 1001 / 1001
$GID = 1001 1001
$EGID = 1001 1001
Perl module toolchain versions installed:
Module Have
------------------- --------
CPAN 2.28
CPAN::Meta 2.150010
Cwd 3.79
ExtUtils::CBuilder 0.280235
ExtUtils::Command 7.52
ExtUtils::Install 2.18
ExtUtils::MakeMaker 7.52
ExtUtils::Manifest 1.72
ExtUtils::ParseXS 3.41
File::Spec 3.79
JSON 4.02
JSON::PP 4.05
Module::Build 0.4231
Module::Signature n/a
Parse::CPAN::Meta 2.150010
Test::Harness 3.42
Test::More 1.302183
YAML 1.30
YAML::Syck 1.34
version 0.9928
--
Summary of my perl5 (revision 5 version 33 subversion 4) configuration:
Commit id: 5fd7c63cc75e7ead6d3044131e33e295b911afb0
Platform:
osname=linux
osvers=5.4.72-0-lts
archname=x86_64-linux-thread-multi
uname='linux cjg-alpine3 5.4.72-0-lts #1-alpine smp mon, 19 oct 2020 06:22:29 utc x86_64 linux '
config_args='-des -Dprefix=~/bin/perl-blead -Dscriptdir=~/bin/perl-blead/bin -Dusedevel -Duse64bitall -Duseithreads'
hint=recommended
useposix=true
d_sigaction=define
useithreads=define
usemultiplicity=define
use64bitint=define
use64bitall=define
uselongdouble=undef
usemymalloc=n
default_inc_excludes_dot=define
Compiler:
cc='cc'
ccflags ='-D_REENTRANT -D_GNU_SOURCE -D_GNU_SOURCE -fwrapv -fno-strict-aliasing -pipe -fstack-protector-strong -D_LARGEFILE_SOURCE -D_FILE_OFFSET_BITS=64'
optimize='-O2'
cppflags='-D_REENTRANT -D_GNU_SOURCE -D_GNU_SOURCE -fwrapv -fno-strict-aliasing -pipe -fstack-protector-strong'
ccversion=''
gccversion='9.3.0'
gccosandvers=''
intsize=4
longsize=8
ptrsize=8
doublesize=8
byteorder=12345678
doublekind=3
d_longlong=define
longlongsize=8
d_longdbl=define
longdblsize=16
longdblkind=3
ivtype='long'
ivsize=8
nvtype='double'
nvsize=8
Off_t='off_t'
lseeksize=8
alignbytes=8
prototype=define
Linker and Libraries:
ld='cc'
ldflags =' -fstack-protector-strong -L/usr/local/lib'
libpth=/usr/include/fortify /usr/lib /usr/local/lib /lib/../lib /usr/lib/../lib /lib
libs=-lpthread -ldb -ldl -lm -lcrypt -lutil -lc
perllibs=-lpthread -ldl -lm -lcrypt -lutil -lc
libc=/usr/lib/libc.a
so=so
useshrplib=false
libperl=libperl.a
gnulibc_version=''
Dynamic Linking:
dlsrc=dl_dlopen.xs
dlext=so
d_dlsymun=undef
ccdlflags='-Wl,-E'
cccdlflags='-fPIC'
lddlflags='-shared -O2 -L/usr/local/lib -fstack-protector-strong'
Characteristics of this binary (from libperl):
Compile-time options:
HAS_TIMES
MULTIPLICITY
PERLIO_LAYERS
PERL_COPY_ON_WRITE
PERL_DONT_CREATE_GVSV
PERL_IMPLICIT_CONTEXT
PERL_MALLOC_WRAP
PERL_OP_PARENT
PERL_PRESERVE_IVUV
PERL_USE_DEVEL
USE_64_BIT_ALL
USE_64_BIT_INT
USE_ITHREADS
USE_LARGE_FILES
USE_LOCALE
USE_LOCALE_COLLATE
USE_LOCALE_CTYPE
USE_LOCALE_NUMERIC
USE_LOCALE_TIME
USE_PERLIO
USE_PERL_ATOF
USE_REENTRANT_API
USE_THREAD_SAFE_LOCALE
Built under linux
Compiled at Nov 6 2020 19:11:13
%ENV:
PERL5LIB=""
PERL5OPT=""
PERL5_CPANPLUS_IS_RUNNING="5506"
PERL5_CPAN_IS_RUNNING="5506"
PERL_MM_USE_DEFAULT="1"
PERL_USE_UNSAFE_INC="1"
PERL_VERSION="blead"
@INC:
/home/cpan/bin/perl-blead/lib/site_perl/5.33.4/x86_64-linux-thread-multi
/home/cpan/bin/perl-blead/lib/site_perl/5.33.4
/home/cpan/bin/perl-blead/lib/5.33.4/x86_64-linux-thread-multi
/home/cpan/bin/perl-blead/lib/5.33.4
.