Report for CGI-Session-4.43

Back
From: metabase:user:315f03b2-2aae-11df-837a-5e0a49663a4f
Subject: PASS CGI-Session-4.43 v5.14.2 NetBSD
Date: 2013-03-02T15:33:45Z

This distribution has been tested as part of the CPAN Testers
project, supporting the Perl programming language.  See
http://wiki.cpantesters.org/ for more information or email
questions to cpan-testers-discuss@perl.org


--
Dear Mark Stosberg,

This is a computer-generated report for CGI-Session-4.43
on perl 5.14.2, created by CPAN-Reporter-1.2009.

Thank you for uploading your work to CPAN.  Congratulations!
All tests were successful.

Sections of this report:

    * Tester comments
    * Program output
    * Prerequisites
    * Environment and other context

------------------------------
TESTER COMMENTS
------------------------------

Additional comments from tester:

this report is from an automated smoke testing program
and was not reviewed by a human for accuracy

------------------------------
PROGRAM OUTPUT
------------------------------

Output from './Build test':

Use of qw(...) as parentheses is deprecated at
	/home/smoke/.cpan/build/CGI-Session-4.43-1jRsX1/blib/lib/CGI/Session.pm line 804 (#1)
    (D deprecated) You have something like foreach $x qw(a b c) {...},
    using a qw(...) list literal where a parenthesised expression is
    expected.  Historically the parser fooled itself into thinking that
    qw(...) literals were always enclosed in parentheses, and as a result
    you could sometimes omit parentheses around them.  (You could never do
    the foreach qw(a b c) {...} that you might have expected, though.)
    The parser no longer lies to itself in this way.  Wrap the list literal
    in parentheses, like foreach $x (qw(a b c)) {...}.
    
t/api3_db_file.t ................ ok
Use of qw(...) as parentheses is deprecated at
	/home/smoke/.cpan/build/CGI-Session-4.43-1jRsX1/blib/lib/CGI/Session.pm line 804 (#1)
    (D deprecated) You have something like foreach $x qw(a b c) {...},
    using a qw(...) list literal where a parenthesised expression is
    expected.  Historically the parser fooled itself into thinking that
    qw(...) literals were always enclosed in parentheses, and as a result
    you could sometimes omit parentheses around them.  (You could never do
    the foreach qw(a b c) {...} that you might have expected, though.)
    The parser no longer lies to itself in this way.  Wrap the list literal
    in parentheses, like foreach $x (qw(a b c)) {...}.
    
t/api3_db_file_freezethaw.t ..... ok
Use of qw(...) as parentheses is deprecated at
	/home/smoke/.cpan/build/CGI-Session-4.43-1jRsX1/blib/lib/CGI/Session.pm line 804 (#1)
    (D deprecated) You have something like foreach $x qw(a b c) {...},
    using a qw(...) list literal where a parenthesised expression is
    expected.  Historically the parser fooled itself into thinking that
    qw(...) literals were always enclosed in parentheses, and as a result
    you could sometimes omit parentheses around them.  (You could never do
    the foreach qw(a b c) {...} that you might have expected, though.)
    The parser no longer lies to itself in this way.  Wrap the list literal
    in parentheses, like foreach $x (qw(a b c)) {...}.
    
t/api3_db_file_storable.t ....... ok
Use of qw(...) as parentheses is deprecated at
	/home/smoke/.cpan/build/CGI-Session-4.43-1jRsX1/blib/lib/CGI/Session.pm line 804 (#1)
    (D deprecated) You have something like foreach $x qw(a b c) {...},
    using a qw(...) list literal where a parenthesised expression is
    expected.  Historically the parser fooled itself into thinking that
    qw(...) literals were always enclosed in parentheses, and as a result
    you could sometimes omit parentheses around them.  (You could never do
    the foreach qw(a b c) {...} that you might have expected, though.)
    The parser no longer lies to itself in this way.  Wrap the list literal
    in parentheses, like foreach $x (qw(a b c)) {...}.
    
t/api3_db_file_storable_incr.t .. ok
Use of qw(...) as parentheses is deprecated at
	/home/smoke/.cpan/build/CGI-Session-4.43-1jRsX1/blib/lib/CGI/Session.pm line 804 (#1)
    (D deprecated) You have something like foreach $x qw(a b c) {...},
    using a qw(...) list literal where a parenthesised expression is
    expected.  Historically the parser fooled itself into thinking that
    qw(...) literals were always enclosed in parentheses, and as a result
    you could sometimes omit parentheses around them.  (You could never do
    the foreach qw(a b c) {...} that you might have expected, though.)
    The parser no longer lies to itself in this way.  Wrap the list literal
    in parentheses, like foreach $x (qw(a b c)) {...}.
    
t/api3_file.t ................... ok
Use of qw(...) as parentheses is deprecated at
	/home/smoke/.cpan/build/CGI-Session-4.43-1jRsX1/blib/lib/CGI/Session.pm line 804 (#1)
    (D deprecated) You have something like foreach $x qw(a b c) {...},
    using a qw(...) list literal where a parenthesised expression is
    expected.  Historically the parser fooled itself into thinking that
    qw(...) literals were always enclosed in parentheses, and as a result
    you could sometimes omit parentheses around them.  (You could never do
    the foreach qw(a b c) {...} that you might have expected, though.)
    The parser no longer lies to itself in this way.  Wrap the list literal
    in parentheses, like foreach $x (qw(a b c)) {...}.
    
t/api3_file_freezethaw.t ........ ok
Use of qw(...) as parentheses is deprecated at
	/home/smoke/.cpan/build/CGI-Session-4.43-1jRsX1/blib/lib/CGI/Session.pm line 804 (#1)
    (D deprecated) You have something like foreach $x qw(a b c) {...},
    using a qw(...) list literal where a parenthesised expression is
    expected.  Historically the parser fooled itself into thinking that
    qw(...) literals were always enclosed in parentheses, and as a result
    you could sometimes omit parentheses around them.  (You could never do
    the foreach qw(a b c) {...} that you might have expected, though.)
    The parser no longer lies to itself in this way.  Wrap the list literal
    in parentheses, like foreach $x (qw(a b c)) {...}.
    
t/api3_file_freezethaw_incr.t ... ok
Use of qw(...) as parentheses is deprecated at
	/home/smoke/.cpan/build/CGI-Session-4.43-1jRsX1/blib/lib/CGI/Session.pm line 804 (#1)
    (D deprecated) You have something like foreach $x qw(a b c) {...},
    using a qw(...) list literal where a parenthesised expression is
    expected.  Historically the parser fooled itself into thinking that
    qw(...) literals were always enclosed in parentheses, and as a result
    you could sometimes omit parentheses around them.  (You could never do
    the foreach qw(a b c) {...} that you might have expected, though.)
    The parser no longer lies to itself in this way.  Wrap the list literal
    in parentheses, like foreach $x (qw(a b c)) {...}.
    
t/api3_file_storable.t .......... ok
Use of qw(...) as parentheses is deprecated at
	/home/smoke/.cpan/build/CGI-Session-4.43-1jRsX1/blib/lib/CGI/Session.pm line 804 (#1)
    (D deprecated) You have something like foreach $x qw(a b c) {...},
    using a qw(...) list literal where a parenthesised expression is
    expected.  Historically the parser fooled itself into thinking that
    qw(...) literals were always enclosed in parentheses, and as a result
    you could sometimes omit parentheses around them.  (You could never do
    the foreach qw(a b c) {...} that you might have expected, though.)
    The parser no longer lies to itself in this way.  Wrap the list literal
    in parentheses, like foreach $x (qw(a b c)) {...}.
    
t/api3_file_storable_incr.t ..... ok
Use of qw(...) as parentheses is deprecated at
	/home/smoke/.cpan/build/CGI-Session-4.43-1jRsX1/blib/lib/CGI/Session.pm line 804 (#1)
    (D deprecated) You have something like foreach $x qw(a b c) {...},
    using a qw(...) list literal where a parenthesised expression is
    expected.  Historically the parser fooled itself into thinking that
    qw(...) literals were always enclosed in parentheses, and as a result
    you could sometimes omit parentheses around them.  (You could never do
    the foreach qw(a b c) {...} that you might have expected, though.)
    The parser no longer lies to itself in this way.  Wrap the list literal
    in parentheses, like foreach $x (qw(a b c)) {...}.
    
t/api3_incr.t ................... ok
Use of qw(...) as parentheses is deprecated at
	/home/smoke/.cpan/build/CGI-Session-4.43-1jRsX1/blib/lib/CGI/Session.pm line 804 (#1)
    (D deprecated) You have something like foreach $x qw(a b c) {...},
    using a qw(...) list literal where a parenthesised expression is
    expected.  Historically the parser fooled itself into thinking that
    qw(...) literals were always enclosed in parentheses, and as a result
    you could sometimes omit parentheses around them.  (You could never do
    the foreach qw(a b c) {...} that you might have expected, though.)
    The parser no longer lies to itself in this way.  Wrap the list literal
    in parentheses, like foreach $x (qw(a b c)) {...}.
    
#Using FreezeThaw as object serializer
t/api3_obj_store.t .............. ok
Use of qw(...) as parentheses is deprecated at
	/home/smoke/.cpan/build/CGI-Session-4.43-1jRsX1/blib/lib/CGI/Session.pm line 804 (#1)
    (D deprecated) You have something like foreach $x qw(a b c) {...},
    using a qw(...) list literal where a parenthesised expression is
    expected.  Historically the parser fooled itself into thinking that
    qw(...) literals were always enclosed in parentheses, and as a result
    you could sometimes omit parentheses around them.  (You could never do
    the foreach qw(a b c) {...} that you might have expected, though.)
    The parser no longer lies to itself in this way.  Wrap the list literal
    in parentheses, like foreach $x (qw(a b c)) {...}.
    
t/api3_obj_store_db_file.t ...... ok
Use of qw(...) as parentheses is deprecated at /home/smoke/.cpan/build/CGI-Session-4.43-1jRsX1/blib/lib/CGI/Session.pm line 804.
t/bug21952.t .................... ok
Use of qw(...) as parentheses is deprecated at /home/smoke/.cpan/build/CGI-Session-4.43-1jRsX1/blib/lib/CGI/Session.pm line 804.
t/bug24285.t .................... ok
Use of qw(...) as parentheses is deprecated at
	/home/smoke/.cpan/build/CGI-Session-4.43-1jRsX1/blib/lib/CGI/Session.pm line 804 (#1)
    (D deprecated) You have something like foreach $x qw(a b c) {...},
    using a qw(...) list literal where a parenthesised expression is
    expected.  Historically the parser fooled itself into thinking that
    qw(...) literals were always enclosed in parentheses, and as a result
    you could sometimes omit parentheses around them.  (You could never do
    the foreach qw(a b c) {...} that you might have expected, though.)
    The parser no longer lies to itself in this way.  Wrap the list literal
    in parentheses, like foreach $x (qw(a b c)) {...}.
    
t/cgi_simple.t .................. ok
Use of qw(...) as parentheses is deprecated at
	/home/smoke/.cpan/build/CGI-Session-4.43-1jRsX1/blib/lib/CGI/Session.pm line 804 (#1)
    (D deprecated) You have something like foreach $x qw(a b c) {...},
    using a qw(...) list literal where a parenthesised expression is
    expected.  Historically the parser fooled itself into thinking that
    qw(...) literals were always enclosed in parentheses, and as a result
    you could sometimes omit parentheses around them.  (You could never do
    the foreach qw(a b c) {...} that you might have expected, though.)
    The parser no longer lies to itself in this way.  Wrap the list literal
    in parentheses, like foreach $x (qw(a b c)) {...}.
    
t/complex_ds.t .................. ok
t/driver_dbi.t .................. ok
Use of qw(...) as parentheses is deprecated at
	/home/smoke/.cpan/build/CGI-Session-4.43-1jRsX1/blib/lib/CGI/Session.pm line 804 (#1)
    (D deprecated) You have something like foreach $x qw(a b c) {...},
    using a qw(...) list literal where a parenthesised expression is
    expected.  Historically the parser fooled itself into thinking that
    qw(...) literals were always enclosed in parentheses, and as a result
    you could sometimes omit parentheses around them.  (You could never do
    the foreach qw(a b c) {...} that you might have expected, though.)
    The parser no longer lies to itself in this way.  Wrap the list literal
    in parentheses, like foreach $x (qw(a b c)) {...}.
    
t/expire.t ...................... ok
Use of qw(...) as parentheses is deprecated at /home/smoke/.cpan/build/CGI-Session-4.43-1jRsX1/blib/lib/CGI/Session.pm line 804.
# The found session has been deleted and flushed
t/find.t ........................ ok
Use of qw(...) as parentheses is deprecated at /home/smoke/.cpan/build/CGI-Session-4.43-1jRsX1/blib/lib/CGI/Session.pm line 804.
t/flush.t ....................... ok
Use of qw(...) as parentheses is deprecated at
	/home/smoke/.cpan/build/CGI-Session-4.43-1jRsX1/blib/lib/CGI/Session.pm line 804 (#1)
    (D deprecated) You have something like foreach $x qw(a b c) {...},
    using a qw(...) list literal where a parenthesised expression is
    expected.  Historically the parser fooled itself into thinking that
    qw(...) literals were always enclosed in parentheses, and as a result
    you could sometimes omit parentheses around them.  (You could never do
    the foreach qw(a b c) {...} that you might have expected, though.)
    The parser no longer lies to itself in this way.  Wrap the list literal
    in parentheses, like foreach $x (qw(a b c)) {...}.
    
t/g4.t .......................... ok
Use of qw(...) as parentheses is deprecated at
	/home/smoke/.cpan/build/CGI-Session-4.43-1jRsX1/blib/lib/CGI/Session.pm line 804 (#1)
    (D deprecated) You have something like foreach $x qw(a b c) {...},
    using a qw(...) list literal where a parenthesised expression is
    expected.  Historically the parser fooled itself into thinking that
    qw(...) literals were always enclosed in parentheses, and as a result
    you could sometimes omit parentheses around them.  (You could never do
    the foreach qw(a b c) {...} that you might have expected, though.)
    The parser no longer lies to itself in this way.  Wrap the list literal
    in parentheses, like foreach $x (qw(a b c)) {...}.
    
t/g4_dbfile.t ................... ok
Use of qw(...) as parentheses is deprecated at
	/home/smoke/.cpan/build/CGI-Session-4.43-1jRsX1/blib/lib/CGI/Session.pm line 804 (#1)
    (D deprecated) You have something like foreach $x qw(a b c) {...},
    using a qw(...) list literal where a parenthesised expression is
    expected.  Historically the parser fooled itself into thinking that
    qw(...) literals were always enclosed in parentheses, and as a result
    you could sometimes omit parentheses around them.  (You could never do
    the foreach qw(a b c) {...} that you might have expected, though.)
    The parser no longer lies to itself in this way.  Wrap the list literal
    in parentheses, like foreach $x (qw(a b c)) {...}.
    
t/g4_dbfile_freezethaw.t ........ ok
Use of qw(...) as parentheses is deprecated at
	/home/smoke/.cpan/build/CGI-Session-4.43-1jRsX1/blib/lib/CGI/Session.pm line 804 (#1)
    (D deprecated) You have something like foreach $x qw(a b c) {...},
    using a qw(...) list literal where a parenthesised expression is
    expected.  Historically the parser fooled itself into thinking that
    qw(...) literals were always enclosed in parentheses, and as a result
    you could sometimes omit parentheses around them.  (You could never do
    the foreach qw(a b c) {...} that you might have expected, though.)
    The parser no longer lies to itself in this way.  Wrap the list literal
    in parentheses, like foreach $x (qw(a b c)) {...}.
    
t/g4_dbfile_storable.t .......... ok
Use of qw(...) as parentheses is deprecated at
	/home/smoke/.cpan/build/CGI-Session-4.43-1jRsX1/blib/lib/CGI/Session.pm line 804 (#1)
    (D deprecated) You have something like foreach $x qw(a b c) {...},
    using a qw(...) list literal where a parenthesised expression is
    expected.  Historically the parser fooled itself into thinking that
    qw(...) literals were always enclosed in parentheses, and as a result
    you could sometimes omit parentheses around them.  (You could never do
    the foreach qw(a b c) {...} that you might have expected, though.)
    The parser no longer lies to itself in this way.  Wrap the list literal
    in parentheses, like foreach $x (qw(a b c)) {...}.
    
t/g4_freezethaw.t ............... ok
t/g4_mysql.t .................... skipped: DBD::mysql is NOT available
t/g4_mysql_freezethaw.t ......... skipped: DBD::mysql is NOT available
t/g4_mysql_storable.t ........... skipped: DBD::mysql is NOT available
t/g4_postgresql.t ............... skipped: DataSource is not known
t/g4_postgresql_freezethaw.t .... skipped: DataSource is not known
t/g4_postgresql_storable.t ...... skipped: DataSource is not known
Use of qw(...) as parentheses is deprecated at
	/home/smoke/.cpan/build/CGI-Session-4.43-1jRsX1/blib/lib/CGI/Session.pm line 804 (#1)
    (D deprecated) You have something like foreach $x qw(a b c) {...},
    using a qw(...) list literal where a parenthesised expression is
    expected.  Historically the parser fooled itself into thinking that
    qw(...) literals were always enclosed in parentheses, and as a result
    you could sometimes omit parentheses around them.  (You could never do
    the foreach qw(a b c) {...} that you might have expected, though.)
    The parser no longer lies to itself in this way.  Wrap the list literal
    in parentheses, like foreach $x (qw(a b c)) {...}.
    
t/g4_sqlite.t ................... ok
Use of qw(...) as parentheses is deprecated at
	/home/smoke/.cpan/build/CGI-Session-4.43-1jRsX1/blib/lib/CGI/Session.pm line 804 (#1)
    (D deprecated) You have something like foreach $x qw(a b c) {...},
    using a qw(...) list literal where a parenthesised expression is
    expected.  Historically the parser fooled itself into thinking that
    qw(...) literals were always enclosed in parentheses, and as a result
    you could sometimes omit parentheses around them.  (You could never do
    the foreach qw(a b c) {...} that you might have expected, though.)
    The parser no longer lies to itself in this way.  Wrap the list literal
    in parentheses, like foreach $x (qw(a b c)) {...}.
    
t/g4_sqlite_freezethaw.t ........ ok
Use of qw(...) as parentheses is deprecated at
	/home/smoke/.cpan/build/CGI-Session-4.43-1jRsX1/blib/lib/CGI/Session.pm line 804 (#1)
    (D deprecated) You have something like foreach $x qw(a b c) {...},
    using a qw(...) list literal where a parenthesised expression is
    expected.  Historically the parser fooled itself into thinking that
    qw(...) literals were always enclosed in parentheses, and as a result
    you could sometimes omit parentheses around them.  (You could never do
    the foreach qw(a b c) {...} that you might have expected, though.)
    The parser no longer lies to itself in this way.  Wrap the list literal
    in parentheses, like foreach $x (qw(a b c)) {...}.
    
t/g4_sqlite_storable.t .......... ok
Use of qw(...) as parentheses is deprecated at
	/home/smoke/.cpan/build/CGI-Session-4.43-1jRsX1/blib/lib/CGI/Session.pm line 804 (#1)
    (D deprecated) You have something like foreach $x qw(a b c) {...},
    using a qw(...) list literal where a parenthesised expression is
    expected.  Historically the parser fooled itself into thinking that
    qw(...) literals were always enclosed in parentheses, and as a result
    you could sometimes omit parentheses around them.  (You could never do
    the foreach qw(a b c) {...} that you might have expected, though.)
    The parser no longer lies to itself in this way.  Wrap the list literal
    in parentheses, like foreach $x (qw(a b c)) {...}.
    
t/g4_storable.t ................. ok
Use of qw(...) as parentheses is deprecated at
	/home/smoke/.cpan/build/CGI-Session-4.43-1jRsX1/blib/lib/CGI/Session.pm line 804 (#1)
    (D deprecated) You have something like foreach $x qw(a b c) {...},
    using a qw(...) list literal where a parenthesised expression is
    expected.  Historically the parser fooled itself into thinking that
    qw(...) literals were always enclosed in parentheses, and as a result
    you could sometimes omit parentheses around them.  (You could never do
    the foreach qw(a b c) {...} that you might have expected, though.)
    The parser no longer lies to itself in this way.  Wrap the list literal
    in parentheses, like foreach $x (qw(a b c)) {...}.
    
t/header.t ...................... ok
Use of qw(...) as parentheses is deprecated at t/ip_matches.t line 39 (#1)
    (D deprecated) You have something like foreach $x qw(a b c) {...},
    using a qw(...) list literal where a parenthesised expression is
    expected.  Historically the parser fooled itself into thinking that
    qw(...) literals were always enclosed in parentheses, and as a result
    you could sometimes omit parentheses around them.  (You could never do
    the foreach qw(a b c) {...} that you might have expected, though.)
    The parser no longer lies to itself in this way.  Wrap the list literal
    in parentheses, like foreach $x (qw(a b c)) {...}.
    
Use of qw(...) as parentheses is deprecated at
	/home/smoke/.cpan/build/CGI-Session-4.43-1jRsX1/blib/lib/CGI/Session.pm line 804 (#1)
t/ip_matches.t .................. ok
Use of qw(...) as parentheses is deprecated at
	/home/smoke/.cpan/build/CGI-Session-4.43-1jRsX1/blib/lib/CGI/Session.pm line 804 (#1)
    (D deprecated) You have something like foreach $x qw(a b c) {...},
    using a qw(...) list literal where a parenthesised expression is
    expected.  Historically the parser fooled itself into thinking that
    qw(...) literals were always enclosed in parentheses, and as a result
    you could sometimes omit parentheses around them.  (You could never do
    the foreach qw(a b c) {...} that you might have expected, though.)
    The parser no longer lies to itself in this way.  Wrap the list literal
    in parentheses, like foreach $x (qw(a b c)) {...}.
    
t/is_new.t ...................... ok
Use of qw(...) as parentheses is deprecated at
	/home/smoke/.cpan/build/CGI-Session-4.43-1jRsX1/blib/lib/CGI/Session.pm line 804 (#1)
    (D deprecated) You have something like foreach $x qw(a b c) {...},
    using a qw(...) list literal where a parenthesised expression is
    expected.  Historically the parser fooled itself into thinking that
    qw(...) literals were always enclosed in parentheses, and as a result
    you could sometimes omit parentheses around them.  (You could never do
    the foreach qw(a b c) {...} that you might have expected, though.)
    The parser no longer lies to itself in this way.  Wrap the list literal
    in parentheses, like foreach $x (qw(a b c)) {...}.
    
Argument "wrong" isn't numeric in numeric ne (!=) at
	/home/smoke/.cpan/build/CGI-Session-4.43-1jRsX1/blib/lib/CGI/Session.pm line 684 (#2)
    (W numeric) The indicated string was fed as an argument to an operator
    that expected a numeric value instead.  If you're fortunate the message
    will identify which operator was so unfortunate.
    
t/load.t ........................ ok
Use of qw(...) as parentheses is deprecated at /home/smoke/.cpan/build/CGI-Session-4.43-1jRsX1/blib/lib/CGI/Session.pm line 804.
t/load_with_undef.t ............. ok
Use of qw(...) as parentheses is deprecated at
	/home/smoke/.cpan/build/CGI-Session-4.43-1jRsX1/blib/lib/CGI/Session.pm line 804 (#1)
    (D deprecated) You have something like foreach $x qw(a b c) {...},
    using a qw(...) list literal where a parenthesised expression is
    expected.  Historically the parser fooled itself into thinking that
    qw(...) literals were always enclosed in parentheses, and as a result
    you could sometimes omit parentheses around them.  (You could never do
    the foreach qw(a b c) {...} that you might have expected, though.)
    The parser no longer lies to itself in this way.  Wrap the list literal
    in parentheses, like foreach $x (qw(a b c)) {...}.
    
t/name.t ........................ ok
Use of qw(...) as parentheses is deprecated at /home/smoke/.cpan/build/CGI-Session-4.43-1jRsX1/blib/lib/CGI/Session.pm line 804.
t/new_with_undef.t .............. ok
Use of qw(...) as parentheses is deprecated at
	/home/smoke/.cpan/build/CGI-Session-4.43-1jRsX1/blib/lib/CGI/Session.pm line 804 (#1)
    (D deprecated) You have something like foreach $x qw(a b c) {...},
    using a qw(...) list literal where a parenthesised expression is
    expected.  Historically the parser fooled itself into thinking that
    qw(...) literals were always enclosed in parentheses, and as a result
    you could sometimes omit parentheses around them.  (You could never do
    the foreach qw(a b c) {...} that you might have expected, though.)
    The parser no longer lies to itself in this way.  Wrap the list literal
    in parentheses, like foreach $x (qw(a b c)) {...}.
    
t/parse_dsn.t ................... ok
Use of qw(...) as parentheses is deprecated at /home/smoke/.cpan/build/CGI-Session-4.43-1jRsX1/blib/lib/CGI/Session.pm line 804.
t/remote_addr.t ................. ok
Use of qw(...) as parentheses is deprecated at /home/smoke/.cpan/build/CGI-Session-4.43-1jRsX1/blib/lib/CGI/Session.pm line 804.
# Check in STORE of original item
# Check in STORE of stored/retrieved item
# Check in LOAD after loading from session
t/session_param_undef.t ......... ok
Use of qw(...) as parentheses is deprecated at
	/home/smoke/.cpan/build/CGI-Session-4.43-1jRsX1/blib/lib/CGI/Session.pm line 804 (#1)
    (D deprecated) You have something like foreach $x qw(a b c) {...},
    using a qw(...) list literal where a parenthesised expression is
    expected.  Historically the parser fooled itself into thinking that
    qw(...) literals were always enclosed in parentheses, and as a result
    you could sometimes omit parentheses around them.  (You could never do
    the foreach qw(a b c) {...} that you might have expected, though.)
    The parser no longer lies to itself in this way.  Wrap the list literal
    in parentheses, like foreach $x (qw(a b c)) {...}.
    
t/str2seconds.t ................. ok
Use of qw(...) as parentheses is deprecated at /home/smoke/.cpan/build/CGI-Session-4.43-1jRsX1/blib/lib/CGI/Session.pm line 804.
t/symlink_db_file.t ............. ok
Use of qw(...) as parentheses is deprecated at /home/smoke/.cpan/build/CGI-Session-4.43-1jRsX1/blib/lib/CGI/Session.pm line 804.
t/symlink_file.t ................ ok
All tests successful.
Files=48, Tests=1233, 43 wallclock secs ( 0.45 usr  0.09 sys + 13.00 cusr  1.12 csys = 14.66 CPU)
Result: PASS

------------------------------
PREREQUISITES
------------------------------

Prerequisite modules loaded:

requires:

    Module              Need Have 
    ------------------- ---- -----
    CGI                 3.26 3.63 
    Data::Dumper        0    2.143
    Digest::MD5         0    2.52 
    Scalar::Util        0    1.27 

build_requires:

    Module              Need Have 
    ------------------- ---- -----
    Test::More          0    0.98 

configure_requires:

    Module              Need Have 
    ------------------- ---- -----
    ExtUtils::MakeMaker 0    6.64 


------------------------------
ENVIRONMENT AND OTHER CONTEXT
------------------------------

Environment variables:

    AUTOMATED_TESTING = 1
    MANPATH_WITHOUT_PERLBREW = 
    PATH = /home/smoke/perl5/perlbrew/bin:/home/smoke/perl5/perlbrew/perls/perl-5.14.2/bin:/home/smoke/bin:/bin:/sbin:/usr/bin:/usr/sbin:/usr/X11R7/bin:/usr/X11R6/bin:/usr/pkg/bin:/usr/pkg/sbin:/usr/games:/usr/local/bin:/usr/local/sbin
    PATH_WITHOUT_PERLBREW = /home/smoke/bin:/bin:/sbin:/usr/bin:/usr/sbin:/usr/X11R7/bin:/usr/X11R6/bin:/usr/pkg/bin:/usr/pkg/sbin:/usr/games:/usr/local/bin:/usr/local/sbin
    PERL5LIB = 
    PERL5OPT = 
    PERL5_CPANPLUS_IS_RUNNING = 18228
    PERL5_CPAN_IS_RUNNING = 18228
    PERL5_CPAN_IS_RUNNING_IN_RECURSION = 2346,18228
    PERLBREW_BASHRC_VERSION = 0.41
    PERLBREW_HOME = /home/smoke/.perlbrew
    PERLBREW_MANPATH = /home/smoke/perl5/perlbrew/perls/perl-5.14.2/man
    PERLBREW_PATH = /home/smoke/perl5/perlbrew/bin:/home/smoke/perl5/perlbrew/perls/perl-5.14.2/bin
    PERLBREW_PERL = perl-5.14.2
    PERLBREW_ROOT = /home/smoke/perl5/perlbrew
    PERLBREW_VERSION = 0.41
    PERL_CR_SMOKER_CURRENT = CGI-Session-4.43
    PERL_EXTUTILS_AUTOINSTALL = --defaultdeps
    PERL_MM_USE_DEFAULT = 1
    SHELL = /usr/pkg/bin/bash
    TERM = xterm-color

Perl special variables (and OS-specific diagnostics, for MSWin32):

    $^X = /home/smoke/perl5/perlbrew/perls/perl-5.14.2/bin/perl
    $UID/$EUID = 1002 / 1002
    $GID = 100 100
    $EGID = 100 100

Perl module toolchain versions installed:

    Module              Have     
    ------------------- ---------
    CPAN                1.9600_01
    CPAN::Meta          2.120921 
    Cwd                 3.40     
    ExtUtils::CBuilder  0.280205 
    ExtUtils::Command   1.17     
    ExtUtils::Install   1.56     
    ExtUtils::MakeMaker 6.64     
    ExtUtils::Manifest  1.61     
    ExtUtils::ParseXS   3.18     
    File::Spec          3.40     
    JSON                2.53     
    JSON::PP            2.27200  
    Module::Build       0.4003   
    Module::Signature   n/a      
    Parse::CPAN::Meta   1.4404   
    Test::Harness       3.26     
    Test::More          0.98     
    YAML                0.73     
    YAML::Syck          1.23     
    version             0.9901   


--

Summary of my perl5 (revision 5 version 14 subversion 2) configuration:
   
  Platform:
    osname=netbsd, osvers=6.0.1, archname=i386-netbsd
    uname='netbsd prickle.zeroclue.com 6.0.1 netbsd 6.0.1 (generic) i386 '
    config_args='-de -Dprefix=/home/smoke/perl5/perlbrew/perls/perl-5.14.2'
    hint=recommended, useposix=true, d_sigaction=define
    useithreads=undef, usemultiplicity=undef
    useperlio=define, d_sfio=undef, uselargefiles=define, usesocks=undef
    use64bitint=undef, use64bitall=undef, uselongdouble=undef
    usemymalloc=n, bincompat5005=undef
  Compiler:
    cc='cc', ccflags ='-fno-strict-aliasing -pipe -fstack-protector -I/usr/pkg/include',
    optimize='-O',
    cppflags='-fno-strict-aliasing -pipe -fstack-protector -I/usr/pkg/include'
    ccversion='', gccversion='4.5.3', gccosandvers=''
    intsize=4, longsize=4, ptrsize=4, doublesize=8, byteorder=1234
    d_longlong=define, longlongsize=8, d_longdbl=define, longdblsize=12
    ivtype='long', ivsize=4, nvtype='double', nvsize=8, Off_t='off_t', lseeksize=8
    alignbytes=4, prototype=define
  Linker and Libraries:
    ld='cc', ldflags =' -Wl,-rpath,/usr/pkg/lib -Wl,-rpath,/usr/local/lib -fstack-protector -L/usr/pkg/lib'
    libpth=/usr/pkg/lib /lib /usr/lib
    libs=-lm -lcrypt -lutil -lc -lposix
    perllibs=-lm -lcrypt -lutil -lc -lposix
    libc=/lib/libc.so, so=so, useshrplib=false, libperl=libperl.a
    gnulibc_version=''
  Dynamic Linking:
    dlsrc=dl_dlopen.xs, dlext=so, d_dlsymun=undef, ccdlflags='-Wl,-E '
    cccdlflags='-DPIC -fPIC ', lddlflags='--whole-archive -shared  -L/usr/pkg/lib -fstack-protector'


Characteristics of this binary (from libperl): 
  Compile-time options: PERL_DONT_CREATE_GVSV PERL_MALLOC_WRAP
                        PERL_PRESERVE_IVUV USE_LARGE_FILES USE_PERLIO
                        USE_PERL_ATOF
  Built under netbsd
  Compiled at Feb  1 2013 00:11:44
  %ENV:
    PERL5LIB=""
    PERL5OPT=""
    PERL5_CPANPLUS_IS_RUNNING="18228"
    PERL5_CPAN_IS_RUNNING="18228"
    PERL5_CPAN_IS_RUNNING_IN_RECURSION="2346,18228"
    PERLBREW_BASHRC_VERSION="0.41"
    PERLBREW_HOME="/home/smoke/.perlbrew"
    PERLBREW_MANPATH="/home/smoke/perl5/perlbrew/perls/perl-5.14.2/man"
    PERLBREW_PATH="/home/smoke/perl5/perlbrew/bin:/home/smoke/perl5/perlbrew/perls/perl-5.14.2/bin"
    PERLBREW_PERL="perl-5.14.2"
    PERLBREW_ROOT="/home/smoke/perl5/perlbrew"
    PERLBREW_VERSION="0.41"
    PERL_CR_SMOKER_CURRENT="CGI-Session-4.43"
    PERL_EXTUTILS_AUTOINSTALL="--defaultdeps"
    PERL_MM_USE_DEFAULT="1"
  @INC:
    /home/smoke/perl5/perlbrew/perls/perl-5.14.2/lib/site_perl/5.14.2/i386-netbsd
    /home/smoke/perl5/perlbrew/perls/perl-5.14.2/lib/site_perl/5.14.2
    /home/smoke/perl5/perlbrew/perls/perl-5.14.2/lib/5.14.2/i386-netbsd
    /home/smoke/perl5/perlbrew/perls/perl-5.14.2/lib/5.14.2
    .