Report for WWW-Mechanize-Firefox-Extended-0.03

Back
From: metabase:user:314402c4-2aae-11df-837a-5e0a49663a4f
Subject: PASS WWW-Mechanize-Firefox-Extended-0.03 v5.25.10 GNU/Linux
Date: 2017-02-25T15:10:41Z

This distribution has been tested as part of the CPAN Testers
project, supporting the Perl programming language.  See
http://wiki.cpantesters.org/ for more information or email
questions to cpan-testers-discuss@perl.org


--
Dear Hoe-Kit Chew,

This is a computer-generated report for WWW-Mechanize-Firefox-Extended-0.03
on perl 5.25.10, created by CPAN-Reporter-1.2018.

Thank you for uploading your work to CPAN.  Congratulations!
All tests were successful.

Sections of this report:

    * Tester comments
    * Program output
    * Prerequisites
    * Environment and other context

------------------------------
TESTER COMMENTS
------------------------------

Additional comments from tester:

none provided

------------------------------
PROGRAM OUTPUT
------------------------------

Output from '/usr/bin/make test':

PERL_DL_NONLAZY=1 "/bbbike/perl-5.25.10/bin/perl5.25.10" "-MExtUtils::Command::MM" "-MTest::Harness" "-e" "undef *Test::Harness::Switches; test_harness(0, 'blib/lib', 'blib/arch')" t/*.t
# Testing WWW::Mechanize::Firefox::Extended 0.03, Perl 5.025010
# AutoLoader 5.74
# Carp 1.42
# Config 5.025010
# DynaLoader 1.41
# Encode 2.88
# Encode::Alias 2.21
# Encode::Config 2.05
# Encode::Encoding 2.07
# Exporter 5.72
# Exporter::Heavy 5.72
# Fcntl 1.13
# File::Basename 2.85
# Firefox::Application 0.79
# HTML::Selector::XPath 0.20
# HTTP::Cookies 6.01
# HTTP::Cookies::MozRepl 0.79
# HTTP::Cookies::Netscape 6.00
# HTTP::Date 6.02
# HTTP::Headers 6.11
# HTTP::Headers::Util 6.11
# HTTP::Message 6.11
# HTTP::Request 6.11
# HTTP::Request::Common 6.11
# HTTP::Response 6.11
# HTTP::Status 6.11
# JSON 2.90
# JSON::XS 3.03
# List::Util 1.47
# Log::Agent 1.001
# Log::Agent::Formatting <unknown>
# Log::Agent::Message <unknown>
# Log::Agent::Priorities <unknown>
# MIME::Base64 3.15
# MozRepl::RemoteObject 0.39
# MozRepl::RemoteObject::Methods 0.39
# PerlIO 1.10
# Scalar::Util 1.47
# Storable 2.62
# Test::Builder 1.302075
# Test::Builder::Formatter 1.302075
# Test::Builder::Module 1.302075
# Test::Builder::TodoDiag 1.302075
# Test::More 1.302075
# Test2::API 1.302075
# Test2::API::Context 1.302075
# Test2::API::Instance 1.302075
# Test2::API::Stack 1.302075
# Test2::Event 1.302075
# Test2::Event::Bail 1.302075
# Test2::Event::Diag 1.302075
# Test2::Event::Exception 1.302075
# Test2::Event::Info 1.302075
# Test2::Event::Note 1.302075
# Test2::Event::Ok 1.302075
# Test2::Event::Plan 1.302075
# Test2::Event::Skip 1.302075
# Test2::Event::Subtest 1.302075
# Test2::Event::Waiting 1.302075
# Test2::Formatter 1.302075
# Test2::Formatter::TAP 1.302075
# Test2::Hub 1.302075
# Test2::Hub::Interceptor 1.302075
# Test2::Hub::Interceptor::Terminator 1.302075
# Test2::Hub::Subtest 1.302075
# Test2::Util 1.302075
# Test2::Util::ExternalMeta 1.302075
# Test2::Util::HashBase 0.002
# Test2::Util::Trace 1.302075
# Time::HiRes 1.9741
# Time::Local 1.25
# Types::Serialiser 1.0
# URI 1.71
# URI::Escape 3.31
# WWW::Mechanize::Firefox 0.79
# WWW::Mechanize::Firefox::Extended 0.03
# WWW::Mechanize::Link 1.83
# XSLoader 0.24
# attributes 0.29
# base 2.24
# bytes 1.05
# common::sense 3.74
# constant 1.33
# lib 0.64
# mro 1.20
# overload 1.28
# overloading 0.02
# parent 0.236
# strict 1.11
# vars 1.03
# warnings 1.37
# warnings::register 1.04
t/00-load.t ............. ok
t/10-hasAll-hasAny.t .... skipped: Couldn't connect to MozRepl: Failed to connect to , problem connecting to "localhost", port 4242: Connection refused at /opt/perl-5.25.10/lib/site_perl/5.25.10/MozRepl/Client.pm line 144
t/20-waitAll-waitAny.t .. skipped: Couldn't connect to MozRepl: Failed to connect to , problem connecting to "localhost", port 4242: Connection refused at /opt/perl-5.25.10/lib/site_perl/5.25.10/MozRepl/Client.pm line 144
t/manifest.t ............ skipped: Author tests not required for installation
t/pod.t ................. ok
All tests successful.
Files=5, Tests=3,  1 wallclock secs ( 0.01 usr  0.02 sys +  0.33 cusr  0.06 csys =  0.42 CPU)
Result: PASS

------------------------------
PREREQUISITES
------------------------------

Prerequisite modules loaded:

requires:

    Module                  Need  Have    
    ----------------------- ----- --------
    perl                    5.006 5.025010
    Time::HiRes             0     1.9741  
    WWW::Mechanize::Firefox 0     0.79    

build_requires:

    Module                  Need  Have    
    ----------------------- ----- --------
    Test::More              0     1.302075

configure_requires:

    Module                  Need  Have    
    ----------------------- ----- --------
    ExtUtils::MakeMaker     0     7.24    


------------------------------
ENVIRONMENT AND OTHER CONTEXT
------------------------------

Environment variables:

    LANG = C
    LC_ALL = de_DE.UTF-8
    PATH = /usr/local/bin:/usr/bin:/bin:/usr/local/sbin:/usr/sbin:/sbin:/home/cpansand/bin/linux-gnu:/home/cpansand/bin/sh:/home/cpansand/bin:/usr/games:/home/cpansand/devel:/home/eserte/src/srezic-misc/scripts
    PERL5LIB = 
    PERL5OPT = 
    PERL5_CPANPLUS_IS_RUNNING = 13522
    PERL5_CPAN_IS_RUNNING = 13522
    PERL5_CPAN_IS_RUNNING_IN_RECURSION = 21307,13522
    PERLDOC = -MPod::Perldoc::ToTextOverstrike
    PERL_BATCH = yes
    PERL_CANARY_STABILITY_NOPROMPT = 1
    PERL_CPAN_REPORTER_CONFIG = /var/tmp/cpansmoker-1023/2017022403/cpanreporter_001_config.ini
    PERL_EXTUTILS_AUTOINSTALL = --defaultdeps
    PERL_PARALLEL_SMOKER = yes
    PERL_USE_UNSAFE_INC = 1
    SHELL = /bin/zsh
    TERM = screen
    TMPDIR = /var/tmp/cpansmoker-1023/2017022403

Perl special variables (and OS-specific diagnostics, for MSWin32):

    $^X = /bbbike/perl-5.25.10/bin/perl5.25.10
    $UID/$EUID = 1023 / 1023
    $GID = 1023 1023
    $EGID = 1023 1023

Perl module toolchain versions installed:

    Module              Have    
    ------------------- --------
    CPAN                2.16    
    CPAN::Meta          2.150010
    Cwd                 3.66    
    ExtUtils::CBuilder  0.280225
    ExtUtils::Command   7.24    
    ExtUtils::Install   2.04    
    ExtUtils::MakeMaker 7.24    
    ExtUtils::Manifest  1.70    
    ExtUtils::ParseXS   3.33    
    File::Spec          3.66    
    JSON                2.90    
    JSON::PP            2.27400 
    Module::Build       0.4220  
    Module::Signature   0.81    
    Parse::CPAN::Meta   2.150010
    Test::Harness       3.36_01 
    Test::More          1.302075
    YAML                1.23    
    YAML::Syck          1.29    
    version             0.9917  


--

Summary of my perl5 (revision 5 version 25 subversion 10) configuration:
   
  Platform:
    osname=linux
    osvers=3.16.0-4-amd64
    archname=x86_64-linux
    uname='linux eserte 3.16.0-4-amd64 #1 smp debian 3.16.39-1 (2016-12-30) x86_64 gnulinux '
    config_args='-ds -e -Dprefix=/opt/perl-5.25.10 -Dusedevel -Dusemallocwrap=no -Dcf_email=srezic@cpan.org'
    hint=recommended
    useposix=true
    d_sigaction=define
    useithreads=undef
    usemultiplicity=undef
    use64bitint=define
    use64bitall=define
    uselongdouble=undef
    usemymalloc=n
    bincompat5005=undef
  Compiler:
    cc='cc'
    ccflags ='-fwrapv -fno-strict-aliasing -pipe -fstack-protector-strong -I/usr/local/include -D_LARGEFILE_SOURCE -D_FILE_OFFSET_BITS=64 -D_FORTIFY_SOURCE=2'
    optimize='-O2'
    cppflags='-fwrapv -fno-strict-aliasing -pipe -fstack-protector-strong -I/usr/local/include'
    ccversion=''
    gccversion='4.9.2'
    gccosandvers=''
    intsize=4
    longsize=8
    ptrsize=8
    doublesize=8
    byteorder=12345678
    doublekind=3
    d_longlong=define
    longlongsize=8
    d_longdbl=define
    longdblsize=16
    longdblkind=3
    ivtype='long'
    ivsize=8
    nvtype='double'
    nvsize=8
    Off_t='off_t'
    lseeksize=8
    alignbytes=8
    prototype=define
  Linker and Libraries:
    ld='cc'
    ldflags =' -fstack-protector-strong -L/usr/local/lib'
    libpth=/usr/local/lib /usr/lib/gcc/x86_64-linux-gnu/4.9/include-fixed /usr/include/x86_64-linux-gnu /usr/lib /lib/x86_64-linux-gnu /lib/../lib /usr/lib/x86_64-linux-gnu /usr/lib/../lib /lib
    libs=-lpthread -lnsl -lgdbm -ldb -ldl -lm -lcrypt -lutil -lc -lgdbm_compat
    perllibs=-lpthread -lnsl -ldl -lm -lcrypt -lutil -lc
    libc=libc-2.19.so
    so=so
    useshrplib=false
    libperl=libperl.a
    gnulibc_version='2.19'
  Dynamic Linking:
    dlsrc=dl_dlopen.xs
    dlext=so
    d_dlsymun=undef
    ccdlflags='-Wl,-E'
    cccdlflags='-fPIC'
    lddlflags='-shared -O2 -L/usr/local/lib -fstack-protector-strong'


Characteristics of this binary (from libperl): 
  Compile-time options:
    HAS_TIMES
    PERLIO_LAYERS
    PERL_COPY_ON_WRITE
    PERL_DONT_CREATE_GVSV
    PERL_OP_PARENT
    PERL_PRESERVE_IVUV
    PERL_USE_DEVEL
    USE_64_BIT_ALL
    USE_64_BIT_INT
    USE_LARGE_FILES
    USE_LOCALE
    USE_LOCALE_COLLATE
    USE_LOCALE_CTYPE
    USE_LOCALE_NUMERIC
    USE_LOCALE_TIME
    USE_PERLIO
    USE_PERL_ATOF
  Built under linux
  Compiled at Feb 21 2017 21:02:42
  %ENV:
    PERL5LIB=""
    PERL5OPT=""
    PERL5_CPANPLUS_IS_RUNNING="13522"
    PERL5_CPAN_IS_RUNNING="13522"
    PERL5_CPAN_IS_RUNNING_IN_RECURSION="21307,13522"
    PERLDOC="-MPod::Perldoc::ToTextOverstrike"
    PERL_BATCH="yes"
    PERL_CANARY_STABILITY_NOPROMPT="1"
    PERL_CPAN_REPORTER_CONFIG="/var/tmp/cpansmoker-1023/2017022403/cpanreporter_001_config.ini"
    PERL_EXTUTILS_AUTOINSTALL="--defaultdeps"
    PERL_PARALLEL_SMOKER="yes"
    PERL_USE_UNSAFE_INC="1"
  @INC:
    /opt/perl-5.25.10/lib/site_perl/5.25.10/x86_64-linux
    /opt/perl-5.25.10/lib/site_perl/5.25.10
    /opt/perl-5.25.10/lib/5.25.10/x86_64-linux
    /opt/perl-5.25.10/lib/5.25.10
    .