Mail-DKIM v1.20240923 Perl 5 v5.10.1 MSWin32-x86-multi-thread

Status
Pass
From
NONAME
Dist
Mail-DKIM v1.20240923
Platform
Perl 5 v5.10.1 MSWin32-x86-multi-thread
Date
2024-09-28 20:10:30
ID
9265024b-6fb9-1014-8391-52a1b03d33c9
This distribution has been tested as part of the CPAN Testers
project, supporting the Perl programming language.  See
http://wiki.cpantesters.org/ for more information or email
questions to cpan-testers-discuss@perl.org


--
Dear MBRADSHAW,

This is a computer-generated report for Mail-DKIM-1.20240923
on perl 5.10.1, created by App::cpanminus::reporter 0.17 (1.7045).

Thank you for uploading your work to CPAN.  Congratulations!
All tests were successful.

Sections of this report:

    * Tester comments
    * Program output
    * Prerequisites
    * Environment and other context

------------------------------
TESTER COMMENTS
------------------------------

Additional comments from tester:

none provided

------------------------------
PROGRAM OUTPUT
------------------------------

Output from '':

Building and testing Mail-DKIM-1.20240923
cp lib/Mail/DKIM/AuthorDomainPolicy.pm blib\lib\Mail\DKIM\AuthorDomainPolicy.pm
cp lib/Mail/DKIM/Algorithm/rsa_sha256.pm blib\lib\Mail\DKIM\Algorithm\rsa_sha256.pm
cp lib/Mail/DKIM/Algorithm/Base.pm blib\lib\Mail\DKIM\Algorithm\Base.pm
cp lib/Mail/DKIM/Algorithm/rsa_sha1.pm blib\lib\Mail\DKIM\Algorithm\rsa_sha1.pm
cp lib/Mail/DKIM/Canonicalization/DkimCommon.pm blib\lib\Mail\DKIM\Canonicalization\DkimCommon.pm
cp lib/Mail/DKIM/ARC/Seal.pm blib\lib\Mail\DKIM\ARC\Seal.pm
cp lib/Mail/DKIM/Algorithm/ed25519_sha256.pm blib\lib\Mail\DKIM\Algorithm\ed25519_sha256.pm
cp lib/Mail/DKIM/Algorithm/dk_rsa_sha1.pm blib\lib\Mail\DKIM\Algorithm\dk_rsa_sha1.pm
cp lib/Mail/DKIM/ARC/MessageSignature.pm blib\lib\Mail\DKIM\ARC\MessageSignature.pm
cp lib/Mail/DKIM.pm blib\lib\Mail\DKIM.pm
cp lib/Mail/DKIM/ARC/Signer.pm blib\lib\Mail\DKIM\ARC\Signer.pm
cp lib/Mail/DKIM/Canonicalization/Base.pm blib\lib\Mail\DKIM\Canonicalization\Base.pm
cp lib/Mail/DKIM/Canonicalization/dk_simple.pm blib\lib\Mail\DKIM\Canonicalization\dk_simple.pm
cp lib/Mail/DKIM/Canonicalization/DkCommon.pm blib\lib\Mail\DKIM\Canonicalization\DkCommon.pm
cp lib/Mail/DKIM/Canonicalization/dk_nofws.pm blib\lib\Mail\DKIM\Canonicalization\dk_nofws.pm
cp lib/Mail/DKIM/ARC/Verifier.pm blib\lib\Mail\DKIM\ARC\Verifier.pm
cp lib/Mail/DKIM/Canonicalization/seal.pm blib\lib\Mail\DKIM\Canonicalization\seal.pm
cp lib/Mail/DKIM/KeyValueList.pm blib\lib\Mail\DKIM\KeyValueList.pm
cp lib/Mail/DKIM/PrivateKey.pm blib\lib\Mail\DKIM\PrivateKey.pm
cp lib/Mail/DKIM/Policy.pm blib\lib\Mail\DKIM\Policy.pm
cp lib/Mail/DKIM/MessageParser.pm blib\lib\Mail\DKIM\MessageParser.pm
cp lib/Mail/DKIM/DkSignature.pm blib\lib\Mail\DKIM\DkSignature.pm
cp lib/Mail/DKIM/PublicKey.pm blib\lib\Mail\DKIM\PublicKey.pm
cp lib/Mail/DKIM/Common.pm blib\lib\Mail\DKIM\Common.pm
cp lib/Mail/DKIM/Signature.pm blib\lib\Mail\DKIM\Signature.pm
cp lib/Mail/DKIM/SignerPolicy.pm blib\lib\Mail\DKIM\SignerPolicy.pm
cp lib/Mail/DKIM/DkPolicy.pm blib\lib\Mail\DKIM\DkPolicy.pm
cp lib/Mail/DKIM/Canonicalization/nowsp.pm blib\lib\Mail\DKIM\Canonicalization\nowsp.pm
cp lib/Mail/DKIM/DNS.pm blib\lib\Mail\DKIM\DNS.pm
cp lib/Mail/DKIM/Signer.pm blib\lib\Mail\DKIM\Signer.pm
cp lib/Mail/DKIM/TextWrap.pm blib\lib\Mail\DKIM\TextWrap.pm
cp lib/Mail/DKIM/Canonicalization/simple.pm blib\lib\Mail\DKIM\Canonicalization\simple.pm
cp lib/Mail/DKIM/Canonicalization/relaxed.pm blib\lib\Mail\DKIM\Canonicalization\relaxed.pm
cp lib/Mail/DKIM/DkimPolicy.pm blib\lib\Mail\DKIM\DkimPolicy.pm
cp lib/Mail/DKIM/Key.pm blib\lib\Mail\DKIM\Key.pm
cp lib/Mail/DKIM/Verifier.pm blib\lib\Mail\DKIM\Verifier.pm
C:\"Strawberry\perl\bin\perl.exe" "-MExtUtils::Command::MM" "-MTest::Harness" "-e" "undef *Test::Harness::Switches; test_harness(0, 'blib\lib', 'blib\arch')" t/*.t
t/adsp.t ........................ ok
Authentication-Results Header parse error: not expecting a string at C:\home\tennis\.cpanm\work\1727554165.9564\Mail-DKIM-1.20240923\blib\lib/Mail/DKIM/ARC/Signer.pm line 116.

Authentication-Results: Garbage Authentication-Results Header - SHOULD NOT PARSE at C:\home\tennis\.cpanm\work\1727554165.9564\Mail-DKIM-1.20240923\blib\lib/Mail/DKIM/ARC/Signer.pm line 121.
t/arc-draft-sign-tests.t ........ ok
t/arc-draft-validation-tests.t .. ok
t/arc-signer.t .................. ok
t/author-pod-syntax.t ........... skipped: these tests are for testing by the author
t/dev-manifest.t ................ skipped: Author tests not required for installation
t/external_signer.t ............. ok
t/Mail-DKIM.t ................... ok
t/policy.t ...................... ok
t/public_key.t .................. ok
t/signature.t ................... ok
t/signer.t ...................... ok
t/signer_dk.t ................... ok
t/signer_expiration.t ........... ok
t/signer_expiration_set_time.t .. ok
t/signer_policy.t ............... ok
t/simple_canonicalization.t ..... ok
t/textwrap.t .................... ok
did not cache that DNS entry: 2023-05-ed25519-does-not-exist._domainkey.wander.science
>>>
No results: NXDOMAIN
<<<
t/verifier.t .................... ok
t/verifier_strict.t ............. ok
All tests successful.
Files=20, Tests=495, 44 wallclock secs ( 0.36 usr +  0.08 sys =  0.44 CPU)
Result: PASS

------------------------------
PREREQUISITES
------------------------------

Prerequisite modules loaded:

    No requirements found

------------------------------
ENVIRONMENT AND OTHER CONTEXT
------------------------------

Environment variables:

    COMSPEC = C:\windows\system32\cmd.exe
    NUMBER_OF_PROCESSORS = 4
    PATH = C:\home\tennis\perl5\bin;C:\windows\system32;C:\windows;C:\windows\System32\Wbem;C:\windows\System32\WindowsPowerShell\v1.0\;C:\Strawberry\c\bin;C:\Strawberry\perl\site\bin;C:\Strawberry\perl\bin;C:\cmake-3.27.7\bin
    PERL5LIB = C:\home\tennis\perl5\lib\perl5
    PERL_LOCAL_LIB_ROOT = C:\home\tennis\perl5
    PERL_MB_OPT = --install_base "C:\\home\\tennis\\perl5"
    PERL_MM_OPT = INSTALL_BASE=C:\\home\\tennis\\perl5
    PROCESSOR_IDENTIFIER = x86 Family 6 Model 37 Stepping 5, GenuineIntel
    TEMP = C:\Users\user\AppData\Local\Temp
    TERM = dumb
    TUGI_PERLVER = 5.010001

Perl special variables (and OS-specific diagnostics, for MSWin32):

    EGID = 0
    EUID = 0
    EXECUTABLE_NAME = C:\Strawberry\perl\bin\perl.exe
    GID = 0
    UID = 0
    Win32::FsType = NTFS
    Win32::GetOSName = Win7
    Win32::GetOSVersion = Service Pack 1, 6, 1, 7601, 2, 1, 0, 256, 1
    Win32::IsAdminUser = 0

Perl module toolchain versions installed:

    Module              Have    
    ------------------- --------
    CPAN                2.28    
    CPAN::Meta          2.150010
    Cwd                 3.62    
    ExtUtils::CBuilder  0.280236
    ExtUtils::Command   7.71_01 
    ExtUtils::Install   2.22    
    ExtUtils::MakeMaker 7.71_01 
    ExtUtils::Manifest  1.75    
    ExtUtils::ParseXS   3.51    
    File::Spec          3.62    
    JSON                4.10    
    JSON::PP            4.17_01 
    Module::Build       0.4234  
    Module::Signature   0.89    
    Parse::CPAN::Meta   2.150010
    Test::Harness       3.50    
    Test::More          1.302204
    YAML                1.31    
    YAML::Syck          1.34    
    version             0.9933  


--

Summary of my perl5 (revision 5 version 10 subversion 1) configuration:
   
  Platform:
    osname=MSWin32, osvers=5.1, archname=MSWin32-x86-multi-thread
    uname='Win32 strawberryperl 5.10.1.5 #1 Sun May 15 09:44:53 2011 i386'
    config_args='undef'
    hint=recommended, useposix=true, d_sigaction=undef
    useithreads=define, usemultiplicity=define
    useperlio=define, d_sfio=undef, uselargefiles=define, usesocks=undef
    use64bitint=undef, use64bitall=undef, uselongdouble=undef
    usemymalloc=n, bincompat5005=undef
  Compiler:
    cc='gcc', ccflags =' -s -O2 -DWIN32 -DHAVE_DES_FCRYPT  -DUSE_SITECUSTOMIZE -DPERL_IMPLICIT_CONTEXT -DPERL_IMPLICIT_SYS -fno-strict-aliasing -DPERL_MSVCRT_READFIX',
    optimize='-s -O2',
    cppflags='-DWIN32'
    ccversion='', gccversion='3.4.5', gccosandvers=''
    intsize=4, longsize=4, ptrsize=4, doublesize=8, byteorder=1234
    d_longlong=undef, longlongsize=8, d_longdbl=define, longdblsize=12
    ivtype='long', ivsize=4, nvtype='double', nvsize=8, Off_t='long long', lseeksize=8
    alignbytes=8, prototype=define
  Linker and Libraries:
    ld='g++', ldflags ='-s -L"C:\strawberry\perl\lib\CORE" -L"C:\strawberry\c\lib"'
    libpth=C:\strawberry\c\lib
    libs= -lmoldname -lkernel32 -luser32 -lgdi32 -lwinspool -lcomdlg32 -ladvapi32 -lshell32 -lole32 -loleaut32 -lnetapi32 -luuid -lws2_32 -lmpr -lwinmm -lversion -lodbc32 -lodbccp32
    perllibs= -lmoldname -lkernel32 -luser32 -lgdi32 -lwinspool -lcomdlg32 -ladvapi32 -lshell32 -lole32 -loleaut32 -lnetapi32 -luuid -lws2_32 -lmpr -lwinmm -lversion -lodbc32 -lodbccp32
    libc=, so=dll, useshrplib=true, libperl=libperl510.a
    gnulibc_version=''
  Dynamic Linking:
    dlsrc=dl_win32.xs, dlext=dll, d_dlsymun=undef, ccdlflags=' '
    cccdlflags=' ', lddlflags='-mdll -s -L"C:\strawberry\perl\lib\CORE" -L"C:\strawberry\c\lib"'


Characteristics of this binary (from libperl): 
  Compile-time options: MULTIPLICITY PERL_DONT_CREATE_GVSV
                        PERL_IMPLICIT_CONTEXT PERL_IMPLICIT_SYS
                        PERL_MALLOC_WRAP PL_OP_SLAB_ALLOC USE_ITHREADS
                        USE_LARGE_FILES USE_PERLIO USE_SITECUSTOMIZE
  Built under MSWin32
  Compiled at May 15 2011 09:50:23
  %ENV:
    PERL5LIB="C:\home\tennis\perl5\lib\perl5"
    PERL_LOCAL_LIB_ROOT="C:\home\tennis\perl5"
    PERL_MB_OPT="--install_base "C:\\home\\tennis\\perl5""
    PERL_MM_OPT="INSTALL_BASE=C:\\home\\tennis\\perl5"
  @INC:
    C:\home\tennis\perl5\lib\perl5/MSWin32-x86-multi-thread
    C:\home\tennis\perl5\lib\perl5
    C:/Strawberry/perl/lib
    C:/Strawberry/perl/site/lib
    C:\strawberry\perl\vendor\lib
    .