Report for MooseX-Types-Structured-0.36

Back
From: metabase:user:30f4dfbe-2aae-11df-837a-5e0a49663a4f
Subject: PASS MooseX-Types-Structured-0.36 v5.14.0 GNU/Linux
Date: 2017-08-08T01:47:44Z

This distribution has been tested as part of the CPAN Testers
project, supporting the Perl programming language.  See
http://wiki.cpantesters.org/ for more information or email
questions to cpan-testers-discuss@perl.org


--
Dear Karen Etheridge,

This is a computer-generated report for MooseX-Types-Structured-0.36
on perl 5.14.0, created by CPAN-Reporter-1.2018.

Thank you for uploading your work to CPAN.  Congratulations!
All tests were successful.

Sections of this report:

    * Tester comments
    * Program output
    * Prerequisites
    * Environment and other context

------------------------------
TESTER COMMENTS
------------------------------

Additional comments from tester:

this report is from an automated smoke testing program
and was not reviewed by a human for accuracy

------------------------------
PROGRAM OUTPUT
------------------------------

Output from './Build test':

t/01-basic.t ................... ok
# 
# Versions for all modules listed in MYMETA.json (including optional ones):
# 
# === Configure Requires ===
# 
#     Module               Want  Have
#     ------------------- ----- -----
#     Module::Build::Tiny 0.034 0.039
# 
# === Configure Suggests ===
# 
#     Module      Want    Have
#     -------- ------- -------
#     JSON::PP 2.27300 2.27400
# 
# === Test Requires ===
# 
#     Module               Want     Have
#     -------------------- ---- --------
#     Data::Dumper          any    2.145
#     DateTime              any     1.06
#     File::Spec            any     3.40
#     Module::Metadata      any 1.000033
#     MooseX::Types::Moose  any     0.41
#     Test::Fatal           any    0.014
#     Test::More           0.88 1.302062
#     Test::Needs           any 0.002005
#     strict                any     1.04
#     warnings              any     1.12
# 
# === Test Recommends ===
# 
#     Module         Want     Have
#     ---------- -------- --------
#     CPAN::Meta 2.120900 2.150005
# 
# === Test Suggests ===
# 
#     Module                  Want    Have
#     ----------------------- ---- -------
#     MooseX::Types::DateTime  any missing
# 
# === Runtime Requires ===
# 
#     Module                                        Want   Have
#     -------------------------------------------- ----- ------
#     Devel::PartialDump                            0.13   0.20
#     Moose                                          any 2.1005
#     Moose::Meta::TypeCoercion                      any 2.1005
#     Moose::Meta::TypeConstraint                    any 2.1005
#     Moose::Meta::TypeConstraint::Parameterizable   any 2.1005
#     Moose::Util::TypeConstraints                  1.06 2.1005
#     MooseX::Types                                 0.22   0.41
#     Scalar::Util                                   any   1.48
#     Sub::Exporter                                0.982  0.986
#     if                                             any 0.0601
#     namespace::clean                              0.19   0.24
#     overload                                       any   1.13
# 
# === Other Modules ===
# 
#     Module                  Have
#     -------------------- -------
#     Dist::CheckConflicts    0.10
#     JSON::PP             2.27400
#     Sub::Name               0.05
#     YAML                    1.23
#     autodie                 2.22
# 
t/00-report-prereqs.t .......... ok
t/00-load.t .................... ok
t/02-tuple.t ................... ok
t/04-combined.t ................ ok
t/03-dict.t .................... ok
t/05-advanced.t ................ ok
t/04-map.t ..................... ok
t/08-examples.t ................ skipped: Need MooseX::Types::DateTime
t/06-api.t ..................... ok
t/07-coerce.t .................. ok
t/09-optional.t ................ ok
t/10-recursion.t ............... ok
t/12-error.t ................... ok
t/11-overflow.t ................ ok
t/13-deeper_error.t ............ ok
t/14-fully-qualified.t ......... ok
t/bug-incorrect-message.t ...... ok
t/bug-is-subtype.t ............. ok
t/bug-mixed-stringy.t .......... ok
t/bug-optional.t ............... ok
t/regressions/01-is_type_of.t .. ok
t/zzz-check-breaks.t ........... ok
All tests successful.
Files=23, Tests=352,  2 wallclock secs ( 0.08 usr  0.03 sys +  7.59 cusr  0.38 csys =  8.08 CPU)
Result: PASS

------------------------------
PREREQUISITES
------------------------------

Prerequisite modules loaded:

requires:

    Module                                       Need  Have    
    -------------------------------------------- ----- --------
    Devel::PartialDump                           0.13  0.20    
    if                                           0     0.0601  
    Moose                                        0     2.1005  
    Moose::Meta::TypeCoercion                    0     2.1005  
    Moose::Meta::TypeConstraint                  0     2.1005  
    Moose::Meta::TypeConstraint::Parameterizable 0     2.1005  
    Moose::Util::TypeConstraints                 1.06  2.1005  
    MooseX::Types                                0.22  0.41    
    namespace::clean                             0.19  0.24    
    overload                                     0     1.13    
    perl                                         5.008 5.014000
    Scalar::Util                                 0     1.48    
    Sub::Exporter                                0.982 0.986   

build_requires:

    Module                                       Need  Have    
    -------------------------------------------- ----- --------
    Data::Dumper                                 0     2.145   
    DateTime                                     0     1.06    
    File::Spec                                   0     3.40    
    Module::Metadata                             0     1.000033
    MooseX::Types::Moose                         0     0.41    
    perl                                         5.008 5.014000
    strict                                       0     1.04    
    Test::Fatal                                  0     0.014   
    Test::More                                   0.88  1.302062
    Test::Needs                                  0     0.002005
    warnings                                     0     1.12    

configure_requires:

    Module                                       Need  Have    
    -------------------------------------------- ----- --------
    Module::Build::Tiny                          0.034 0.039   
    perl                                         5.008 5.014000


------------------------------
ENVIRONMENT AND OTHER CONTEXT
------------------------------

Environment variables:

    AUTOMATED_TESTING = 1
    HARNESS_OPTIONS = j4
    LANG = en_GB.UTF-8
    LANGUAGE = en_GB:en
    PATH = /home/njh/perl5/perlbrew/bin:/home/njh/perl5/perlbrew/perls/perl-5.14.0/bin:/home/njh/perl5/perlbrew/bin:/usr/bin:/bin
    PERL5LIB = /home/njh/.cpan/build/Devel-PartialDump-0.20-0/blib/arch:/home/njh/.cpan/build/Devel-PartialDump-0.20-0/blib/lib:/home/njh/.cpan/build/MooseX-Meta-TypeConstraint-ForceCoercion-0.01-0/blib/arch:/home/njh/.cpan/build/MooseX-Meta-TypeConstraint-ForceCoercion-0.01-0/blib/lib:/home/njh/.cpan/build/MooseX-LazyRequire-0.11-10/blib/arch:/home/njh/.cpan/build/MooseX-LazyRequire-0.11-10/blib/lib:/home/njh/.cpan/build/Devel-Declare-0.006019-10/blib/arch:/home/njh/.cpan/build/Devel-Declare-0.006019-10/blib/lib:/home/njh/.cpan/build/Context-Preserve-0.02-11/blib/arch:/home/njh/.cpan/build/Context-Preserve-0.02-11/blib/lib:/home/njh/.cpan/build/MooseX-Log-Log4perl-0.47-11/blib/arch:/home/njh/.cpan/build/MooseX-Log-Log4perl-0.47-11/blib/lib:/home/njh/.cpan/build/MooseX-ClassAttribute-0.29-11/blib/arch:/home/njh/.cpan/build/MooseX-ClassAttribute-0.29-11/blib/lib:/home/njh/.cpan/build/Scalar-List-Utils-1.48-6/blib/arch:/home/njh/.cpan/build/Scalar-List-Utils-1.48-6/blib/lib
    PERL5OPT = 
    PERL5_CPANPLUS_IS_RUNNING = 18925
    PERL5_CPAN_IS_RUNNING = 18925
    PERLBREW_BASHRC_VERSION = 0.73
    PERLBREW_HOME = /home/njh/.perlbrew
    PERLBREW_LIB = 
    PERLBREW_MANPATH = /home/njh/perl5/perlbrew/perls/perl-5.14.0/man
    PERLBREW_PATH = /home/njh/perl5/perlbrew/bin:/home/njh/perl5/perlbrew/perls/perl-5.14.0/bin
    PERLBREW_PERL = perl-5.14.0
    PERLBREW_ROOT = /home/njh/perl5/perlbrew
    PERLBREW_VERSION = 0.73
    PERL_LOCAL_LIB_ROOT = 
    SHELL = /bin/sh

Perl special variables (and OS-specific diagnostics, for MSWin32):

    $^X = /home/njh/perl5/perlbrew/perls/perl-5.14.0/bin/perl
    $UID/$EUID = 1000 / 1000
    $GID = 1000 4 24 25 29 30 44 46 108 112 1000
    $EGID = 1000 4 24 25 29 30 44 46 108 112 1000

Perl module toolchain versions installed:

    Module              Have    
    ------------------- --------
    CPAN                2.16    
    CPAN::Meta          2.150005
    Cwd                 3.40    
    ExtUtils::CBuilder  0.280216
    ExtUtils::Command   7.24    
    ExtUtils::Install   1.56    
    ExtUtils::MakeMaker 7.24    
    ExtUtils::Manifest  1.70    
    ExtUtils::ParseXS   3.30    
    File::Spec          3.40    
    JSON                2.93    
    JSON::PP            2.27400 
    Module::Build       0.4206  
    Module::Signature   0.73    
    Parse::CPAN::Meta   1.4422  
    Test::Harness       3.36    
    Test::More          1.302062
    YAML                1.23    
    YAML::Syck          1.30    
    version             0.9904  


--

Summary of my perl5 (revision 5 version 14 subversion 0) configuration:
   
  Platform:
    osname=linux, osvers=3.2.0-4-amd64, archname=x86_64-linux-thread-multi
    uname='linux nigelhorne.force9.co.uk 3.2.0-4-amd64 #1 smp debian 3.2.32-1 x86_64 gnulinux '
    config_args='-de -Dprefix=/home/njh/perl5/perlbrew/perls/perl-5.14.0 -Duseithreads -Dusemultiplicity -Accflags=-O2 -W -Wformat=2 -Wswitch -Wshadow -Wwrite-strings -Wuninitialized -Wall -pipe -mtune=native -march=native -fomit-frame-pointer -msse2 -msse -mmmx -mfpmath=sse -pedantic -D_FORTIFY_SOURCE=2 -Wpointer-arith -Wstrict-prototypes -fstack-protector -Wstack-protector -Wextra -Wbad-function-cast -Wcast-align -Wcast-qual -Wdisabled-optimization -Wendif-labels -Wfloat-equal -Wformat-nonliteral -Winline -Wmissing-declarations -Wmissing-prototypes -Wnested-externs -Wpointer-arith -Wundef -Wformat-security -ftree-vectorize -fassociative-math -ftree-vectorizer-verbose=2 -Aeval:scriptdir=/home/njh/perl5/perlbrew/perls/perl-5.14.0/bin'
    hint=recommended, useposix=true, d_sigaction=define
    useithreads=define, usemultiplicity=define
    useperlio=define, d_sfio=undef, uselargefiles=define, usesocks=undef
    use64bitint=define, use64bitall=define, uselongdouble=undef
    usemymalloc=n, bincompat5005=undef
  Compiler:
    cc='cc', ccflags ='-D_REENTRANT -D_GNU_SOURCE -O2 -W -Wformat=2 -Wswitch -Wshadow -Wwrite-strings -Wuninitialized -Wall -pipe -mtune=native -march=native -fomit-frame-pointer -msse2 -msse -mmmx -mfpmath=sse -pedantic -D_FORTIFY_SOURCE=2 -Wpointer-arith -Wstrict-prototypes -fstack-protector -Wstack-protector -Wextra -Wbad-function-cast -Wcast-align -Wcast-qual -Wdisabled-optimization -Wendif-labels -Wfloat-equal -Wformat-nonliteral -Winline -Wmissing-declarations -Wmissing-prototypes -Wnested-externs -Wpointer-arith -Wundef -Wformat-security -ftree-vectorize -fassociative-math -ftree-vectorizer-verbose=2 -fno-strict-aliasing -I/usr/local/include -D_LARGEFILE_SOURCE -D_FILE_OFFSET_BITS=64',
    optimize='-O2',
    cppflags='-D_REENTRANT -D_GNU_SOURCE -O2 -W -Wformat=2 -Wswitch -Wshadow -Wwrite-strings -Wuninitialized -Wall -pipe -mtune=native -march=native -fomit-frame-pointer -msse2 -msse -mmmx -mfpmath=sse -pedantic -D_FORTIFY_SOURCE=2 -Wpointer-arith -Wstrict-prototypes -fstack-protector -Wstack-protector -Wextra -Wbad-function-cast -Wcast-align -Wcast-qual -Wdisabled-optimization -Wendif-labels -Wfloat-equal -Wformat-nonliteral -Winline -Wmissing-declarations -Wmissing-prototypes -Wnested-externs -Wpointer-arith -Wundef -Wformat-security -ftree-vectorize -fassociative-math -ftree-vectorizer-verbose=2 -fno-strict-aliasing -I/usr/local/include'
    ccversion='', gccversion='4.7.2', gccosandvers=''
    intsize=4, longsize=8, ptrsize=8, doublesize=8, byteorder=12345678
    d_longlong=define, longlongsize=8, d_longdbl=define, longdblsize=16
    ivtype='long', ivsize=8, nvtype='double', nvsize=8, Off_t='off_t', lseeksize=8
    alignbytes=8, prototype=define
  Linker and Libraries:
    ld='cc', ldflags =' -fstack-protector -L/usr/local/lib'
    libpth=/usr/local/lib /lib/x86_64-linux-gnu /lib/../lib /usr/lib/x86_64-linux-gnu /usr/lib/../lib /lib /usr/lib
    libs=-lnsl -lgdbm -ldb -ldl -lm -lcrypt -lutil -lpthread -lc -lgdbm_compat
    perllibs=-lnsl -ldl -lm -lcrypt -lutil -lpthread -lc
    libc=, so=so, useshrplib=false, libperl=libperl.a
    gnulibc_version='2.13'
  Dynamic Linking:
    dlsrc=dl_dlopen.xs, dlext=so, d_dlsymun=undef, ccdlflags='-Wl,-E'
    cccdlflags='-fPIC', lddlflags='-shared -O2 -L/usr/local/lib -fstack-protector'


Characteristics of this binary (from libperl): 
  Compile-time options: MULTIPLICITY PERL_DONT_CREATE_GVSV
                        PERL_IMPLICIT_CONTEXT PERL_MALLOC_WRAP
                        PERL_PRESERVE_IVUV USE_64_BIT_ALL USE_64_BIT_INT
                        USE_ITHREADS USE_LARGE_FILES USE_PERLIO USE_PERL_ATOF
                        USE_REENTRANT_API
  Built under linux
  Compiled at Mar 18 2013 16:05:13
  %ENV:
    PERL5LIB="/home/njh/.cpan/build/Devel-PartialDump-0.20-0/blib/arch:/home/njh/.cpan/build/Devel-PartialDump-0.20-0/blib/lib:/home/njh/.cpan/build/MooseX-Meta-TypeConstraint-ForceCoercion-0.01-0/blib/arch:/home/njh/.cpan/build/MooseX-Meta-TypeConstraint-ForceCoercion-0.01-0/blib/lib:/home/njh/.cpan/build/MooseX-LazyRequire-0.11-10/blib/arch:/home/njh/.cpan/build/MooseX-LazyRequire-0.11-10/blib/lib:/home/njh/.cpan/build/Devel-Declare-0.006019-10/blib/arch:/home/njh/.cpan/build/Devel-Declare-0.006019-10/blib/lib:/home/njh/.cpan/build/Context-Preserve-0.02-11/blib/arch:/home/njh/.cpan/build/Context-Preserve-0.02-11/blib/lib:/home/njh/.cpan/build/MooseX-Log-Log4perl-0.47-11/blib/arch:/home/njh/.cpan/build/MooseX-Log-Log4perl-0.47-11/blib/lib:/home/njh/.cpan/build/MooseX-ClassAttribute-0.29-11/blib/arch:/home/njh/.cpan/build/MooseX-ClassAttribute-0.29-11/blib/lib:/home/njh/.cpan/build/Scalar-List-Utils-1.48-6/blib/arch:/home/njh/.cpan/build/Scalar-List-Utils-1.48-6/blib/lib"
    PERL5OPT=""
    PERL5_CPANPLUS_IS_RUNNING="18925"
    PERL5_CPAN_IS_RUNNING="18925"
    PERLBREW_BASHRC_VERSION="0.73"
    PERLBREW_HOME="/home/njh/.perlbrew"
    PERLBREW_LIB=""
    PERLBREW_MANPATH="/home/njh/perl5/perlbrew/perls/perl-5.14.0/man"
    PERLBREW_PATH="/home/njh/perl5/perlbrew/bin:/home/njh/perl5/perlbrew/perls/perl-5.14.0/bin"
    PERLBREW_PERL="perl-5.14.0"
    PERLBREW_ROOT="/home/njh/perl5/perlbrew"
    PERLBREW_VERSION="0.73"
    PERL_LOCAL_LIB_ROOT=""
  @INC:
    /home/njh/.cpan/build/Devel-PartialDump-0.20-0/blib/arch
    /home/njh/.cpan/build/Devel-PartialDump-0.20-0/blib/lib
    /home/njh/.cpan/build/MooseX-Meta-TypeConstraint-ForceCoercion-0.01-0/blib/arch
    /home/njh/.cpan/build/MooseX-Meta-TypeConstraint-ForceCoercion-0.01-0/blib/lib
    /home/njh/.cpan/build/MooseX-LazyRequire-0.11-10/blib/arch
    /home/njh/.cpan/build/MooseX-LazyRequire-0.11-10/blib/lib
    /home/njh/.cpan/build/Devel-Declare-0.006019-10/blib/arch
    /home/njh/.cpan/build/Devel-Declare-0.006019-10/blib/lib
    /home/njh/.cpan/build/Context-Preserve-0.02-11/blib/arch
    /home/njh/.cpan/build/Context-Preserve-0.02-11/blib/lib
    /home/njh/.cpan/build/MooseX-Log-Log4perl-0.47-11/blib/arch
    /home/njh/.cpan/build/MooseX-Log-Log4perl-0.47-11/blib/lib
    /home/njh/.cpan/build/MooseX-ClassAttribute-0.29-11/blib/arch
    /home/njh/.cpan/build/MooseX-ClassAttribute-0.29-11/blib/lib
    /home/njh/.cpan/build/Scalar-List-Utils-1.48-6/blib/arch
    /home/njh/.cpan/build/Scalar-List-Utils-1.48-6/blib/lib
    /home/njh/perl5/perlbrew/perls/perl-5.14.0/lib/site_perl/5.14.0/x86_64-linux-thread-multi
    /home/njh/perl5/perlbrew/perls/perl-5.14.0/lib/site_perl/5.14.0
    /home/njh/perl5/perlbrew/perls/perl-5.14.0/lib/5.14.0/x86_64-linux-thread-multi
    /home/njh/perl5/perlbrew/perls/perl-5.14.0/lib/5.14.0
    .