Dist-Zilla-Plugin-Test-EOL v0.19 Perl 5 v5.30.2 darwin-2level
- Status
- Pass
- From
- Karen Etheridge
- Dist
-
Dist-Zilla-Plugin-Test-EOL v0.19
- Platform
- Perl 5 v5.30.2 darwin-2level
- Date
- 2020-03-14 21:20:04
- ID
- 927a00f8-6639-11ea-a19f-65b54f37a840
This distribution has been tested as part of the CPAN Testers
project, supporting the Perl programming language. See
http://wiki.cpantesters.org/ for more information or email
questions to cpan-testers-discuss@perl.org
--
Dear ETHER,
This is a computer-generated report for Dist-Zilla-Plugin-Test-EOL-0.19
on perl 5.30.2, created by App::cpanminus::reporter 0.17 (1.7044).
Thank you for uploading your work to CPAN. Congratulations!
All tests were successful.
Sections of this report:
* Tester comments
* Program output
* Prerequisites
* Environment and other context
------------------------------
TESTER COMMENTS
------------------------------
Additional comments from tester:
none provided
------------------------------
PROGRAM OUTPUT
------------------------------
Output from '':
Building and testing Dist-Zilla-Plugin-Test-EOL-0.19
do "t/00-report-prereqs.dd" failed, '.' is no longer in @INC; did you mean do "./t/00-report-prereqs.dd"? at t/00-report-prereqs.t line 72.
#
# Versions for all modules listed in MYMETA.json (including optional ones):
#
# === Configure Requires ===
#
# Module Want Have
# ------------------- ----- -----
# Module::Build::Tiny 0.034 0.039
#
# === Test Requires ===
#
# Module Want Have
# ---------------- ----- --------
# File::Spec any 3.78
# File::pushd any 1.016
# FindBin any 1.51
# Module::Metadata any 1.000036
# Test::DZil any 6.014
# Test::Deep any 1.130
# Test::EOL any 2.00
# Test::More 0.88 1.302162
# Test::Warnings 0.009 0.029
# if any 0.0608
#
# === Test Recommends ===
#
# Module Want Have
# ---------- -------- --------
# CPAN::Meta 2.120900 2.150010
#
# === Runtime Requires ===
#
# Module Want Have
# --------------------------------- ----- --------
# Data::Section 0.004 0.200007
# Dist::Zilla::File::InMemory any 6.014
# Dist::Zilla::Role::FileFinderUser any 6.014
# Dist::Zilla::Role::FileGatherer any 6.014
# Dist::Zilla::Role::FileMunger any 6.014
# Dist::Zilla::Role::PrereqSource any 6.014
# Dist::Zilla::Role::TextTemplate any 6.014
# Moose any 2.2012
# Moose::Util::TypeConstraints any 2.2012
# Path::Tiny any 0.112
# Sub::Exporter::ForMethods any 0.100052
# namespace::autoclean any 0.29
# strict any 1.11
# warnings any 1.44
#
# === Other Modules ===
#
# Module Have
# --------------------- --------
# CPAN::Meta::Validator 2.150010
# Pod::Coverage 0.23
#
t/eol.t ................ ok
t/00-report-prereqs.t .. ok
t/prereqs.t ............ ok
t/01-basic.t ........... ok
t/04-filename.t ........ ok
t/03-finder.t .......... ok
t/02-eoltests.t ........ ok
t/zzz-check-breaks.t ... ok
All tests successful.
Files=8, Tests=66, 1 wallclock secs ( 0.04 usr 0.02 sys + 5.72 cusr 0.71 csys = 6.49 CPU)
Result: PASS
------------------------------
PREREQUISITES
------------------------------
Prerequisite modules loaded:
No requirements found
------------------------------
ENVIRONMENT AND OTHER CONTEXT
------------------------------
Environment variables:
HARNESS_OPTIONS = j6:c
LANG = en_CA.UTF-8
NO_NETWORK_TESTING = 1
PATH = /Volumes/amaretto/Users/ether/.perlbrew/libs/30.2@std/bin:/Volumes/amaretto/Users/ether/perl5/perlbrew/bin:/Volumes/amaretto/Users/ether/perl5/perlbrew/perls/30.2/bin:/Volumes/amaretto/Users/ether/bin:/Volumes/amaretto/Users/ether/git/misc/install/jaeger/bin:/Volumes/amaretto/Users/ether/git/misc/install/generic/bin:/opt/local/bin:/opt/local/sbin:/Volumes/amaretto/Users/ether/git/git-hub/lib:/usr/local/bin:/usr/bin:/bin:/usr/sbin:/sbin:/opt/local/share/git-core/contrib/workdir
PERL5LIB = /Volumes/amaretto/Users/ether/.perlbrew/libs/30.2@std/lib/perl5
PERLBREW_HOME = /Volumes/amaretto/Users/ether/.perlbrew
PERLBREW_LIB = std
PERLBREW_MANPATH = /Volumes/amaretto/Users/ether/.perlbrew/libs/30.2@std/man:/Volumes/amaretto/Users/ether/perl5/perlbrew/perls/30.2/man
PERLBREW_PATH = /Volumes/amaretto/Users/ether/.perlbrew/libs/30.2@std/bin:/Volumes/amaretto/Users/ether/perl5/perlbrew/bin:/Volumes/amaretto/Users/ether/perl5/perlbrew/perls/30.2/bin
PERLBREW_PERL = 30.2
PERLBREW_ROOT = /Volumes/amaretto/Users/ether/perl5/perlbrew
PERLBREW_SHELLRC_VERSION = 0.88
PERLBREW_VERSION = 0.88
PERLDOC = -oman
PERLDOC_PAGER = less -sicMr
PERL_AUTOINSTALL_PREFER_CPAN = 1
PERL_INSTALL_QUIET = 1
PERL_LOCAL_LIB_ROOT = /Volumes/amaretto/Users/ether/.perlbrew/libs/30.2@std
PERL_MB_OPT = --install_base /Volumes/amaretto/Users/ether/.perlbrew/libs/30.2@std
PERL_MM_OPT = INSTALL_BASE=/Volumes/amaretto/Users/ether/.perlbrew/libs/30.2@std
PERL_USE_UNSAFE_INC = 0
SHELL = /bin/bash
TERM = xterm-color
Perl special variables (and OS-specific diagnostics, for MSWin32):
EGID = 20 20 12 61 79 80 81 98 701 33 100 204 250 395 398 399 400
EUID = 502
EXECUTABLE_NAME = /Volumes/amaretto/Users/ether/perl5/perlbrew/perls/30.2/bin/perl
GID = 20 20 12 61 79 80 81 98 701 33 100 204 250 395 398 399 400
UID = 502
Perl module toolchain versions installed:
Module Have
------------------- --------
CPAN 2.22
CPAN::Meta 2.150010
Cwd 3.78
ExtUtils::CBuilder 0.280234
ExtUtils::Command 7.44
ExtUtils::Install 2.14
ExtUtils::MakeMaker 7.44
ExtUtils::Manifest 1.72
ExtUtils::ParseXS 3.40
File::Spec 3.78
JSON 4.02
JSON::PP 4.04
Module::Build 0.4231
Module::Signature n/a
Parse::CPAN::Meta 2.150010
Test::Harness 3.42
Test::More 1.302162
YAML 1.30
YAML::Syck 1.32
version 0.9924
--
Summary of my perl5 (revision 5 version 30 subversion 2) configuration:
Platform:
osname=darwin
osvers=19.3.0
archname=darwin-2level
uname='darwin jaeger 19.3.0 darwin kernel version 19.3.0: thu jan 9 20:58:23 pst 2020; root:xnu-6153.81.5~1release_x86_64 x86_64 '
config_args='-de -Dprefix=/Volumes/amaretto/Users/ether/perl5/perlbrew/perls/30.2 -Dman1dir=none -Dman3dir=none -Aeval:scriptdir=/Volumes/amaretto/Users/ether/perl5/perlbrew/perls/30.2/bin'
hint=recommended
useposix=true
d_sigaction=define
useithreads=undef
usemultiplicity=undef
use64bitint=define
use64bitall=define
uselongdouble=undef
usemymalloc=n
default_inc_excludes_dot=define
bincompat5005=undef
Compiler:
cc='cc'
ccflags ='-fno-common -DPERL_DARWIN -mmacosx-version-min=10.15 -fno-strict-aliasing -pipe -fstack-protector-strong -I/opt/local/include -DPERL_USE_SAFE_PUTENV'
optimize='-O3'
cppflags='-fno-common -DPERL_DARWIN -mmacosx-version-min=10.15 -fno-strict-aliasing -pipe -fstack-protector-strong -I/opt/local/include'
ccversion=''
gccversion='4.2.1 Compatible Apple LLVM 11.0.0 (clang-1100.0.33.17)'
gccosandvers=''
intsize=4
longsize=8
ptrsize=8
doublesize=8
byteorder=12345678
doublekind=3
d_longlong=define
longlongsize=8
d_longdbl=define
longdblsize=16
longdblkind=3
ivtype='long'
ivsize=8
nvtype='double'
nvsize=8
Off_t='off_t'
lseeksize=8
alignbytes=8
prototype=define
Linker and Libraries:
ld='cc'
ldflags =' -mmacosx-version-min=10.15 -fstack-protector-strong -L/opt/local/lib'
libpth=/Applications/Xcode.app/Contents/Developer/Toolchains/XcodeDefault.xctoolchain/usr/lib/clang/11.0.0/lib /Applications/Xcode.app/Contents/Developer/Toolchains/XcodeDefault.xctoolchain/usr/lib /Applications/Xcode.app/Contents/Developer/Platforms/MacOSX.platform/Developer/SDKs/MacOSX.sdk/usr/lib /opt/local/lib /usr/lib
libs=-lpthread -lgdbm -ldbm -ldl -lm -lutil -lc
perllibs=-lpthread -ldl -lm -lutil -lc
libc=
so=dylib
useshrplib=false
libperl=libperl.a
gnulibc_version=''
Dynamic Linking:
dlsrc=dl_dlopen.xs
dlext=bundle
d_dlsymun=undef
ccdlflags=' '
cccdlflags=' '
lddlflags=' -mmacosx-version-min=10.15 -bundle -undefined dynamic_lookup -L/opt/local/lib -fstack-protector-strong'
Characteristics of this binary (from libperl):
Compile-time options:
HAS_TIMES
PERLIO_LAYERS
PERL_COPY_ON_WRITE
PERL_DONT_CREATE_GVSV
PERL_MALLOC_WRAP
PERL_OP_PARENT
PERL_PRESERVE_IVUV
PERL_USE_SAFE_PUTENV
USE_64_BIT_ALL
USE_64_BIT_INT
USE_LARGE_FILES
USE_LOCALE
USE_LOCALE_COLLATE
USE_LOCALE_CTYPE
USE_LOCALE_NUMERIC
USE_LOCALE_TIME
USE_PERLIO
USE_PERL_ATOF
Locally applied patches:
Devel::PatchPerl 1.90
Built under darwin
Compiled at Mar 14 2020 12:53:08
%ENV:
PERL5LIB="/Volumes/amaretto/Users/ether/.perlbrew/libs/30.2@std/lib/perl5"
PERLBREW_HOME="/Volumes/amaretto/Users/ether/.perlbrew"
PERLBREW_LIB="std"
PERLBREW_MANPATH="/Volumes/amaretto/Users/ether/.perlbrew/libs/30.2@std/man:/Volumes/amaretto/Users/ether/perl5/perlbrew/perls/30.2/man"
PERLBREW_PATH="/Volumes/amaretto/Users/ether/.perlbrew/libs/30.2@std/bin:/Volumes/amaretto/Users/ether/perl5/perlbrew/bin:/Volumes/amaretto/Users/ether/perl5/perlbrew/perls/30.2/bin"
PERLBREW_PERL="30.2"
PERLBREW_ROOT="/Volumes/amaretto/Users/ether/perl5/perlbrew"
PERLBREW_SHELLRC_VERSION="0.88"
PERLBREW_VERSION="0.88"
PERLDOC="-oman"
PERLDOC_PAGER="less -sicMr"
PERL_AUTOINSTALL_PREFER_CPAN="1"
PERL_INSTALL_QUIET="1"
PERL_LOCAL_LIB_ROOT="/Volumes/amaretto/Users/ether/.perlbrew/libs/30.2@std"
PERL_MB_OPT="--install_base /Volumes/amaretto/Users/ether/.perlbrew/libs/30.2@std"
PERL_MM_OPT="INSTALL_BASE=/Volumes/amaretto/Users/ether/.perlbrew/libs/30.2@std"
PERL_USE_UNSAFE_INC="0"
@INC:
/Volumes/amaretto/Users/ether/.perlbrew/libs/30.2@std/lib/perl5/darwin-2level
/Volumes/amaretto/Users/ether/.perlbrew/libs/30.2@std/lib/perl5
/Volumes/amaretto/Users/ether/perl5/perlbrew/perls/30.2/lib/site_perl/5.30.2/darwin-2level
/Volumes/amaretto/Users/ether/perl5/perlbrew/perls/30.2/lib/site_perl/5.30.2
/Volumes/amaretto/Users/ether/perl5/perlbrew/perls/30.2/lib/5.30.2/darwin-2level
/Volumes/amaretto/Users/ether/perl5/perlbrew/perls/30.2/lib/5.30.2