Crypt-OpenSSL-PKCS10 v0.30-TRIAL Perl 5 v5.22.0 i686-linux-thread-multi-ld

Status
Pass
From
Chris Williams (BINGOS)
Dist
Crypt-OpenSSL-PKCS10 v0.30-TRIAL
Platform
Perl 5 v5.22.0 i686-linux-thread-multi-ld
Date
2025-01-26 02:23:47
ID
92a3f61a-db8c-11ef-98b0-b3c3213a625c
This distribution has been tested as part of the CPAN Testers
project, supporting the Perl programming language.  See
http://wiki.cpantesters.org/ for more information or email
questions to cpan-testers-discuss@perl.org


--

Dear TIMLEGGE,

This is a computer-generated error report created automatically by
CPANPLUS, version 0.9914. Testers personal comments may appear
at the end of this report.


Thank you for uploading your work to CPAN.  Congratulations!
All tests were successful.

TEST RESULTS:

Below is the error stack from stage 'make test':

"/home/cpan/pit/thr-ld/perl-5.22.0/bin/perl" -MExtUtils::Command::MM -e 'cp_nonempty' -- PKCS10.bs blib/arch/auto/Crypt/OpenSSL/PKCS10/PKCS10.bs 644
PERL_DL_NONLAZY=1 "/home/cpan/pit/thr-ld/perl-5.22.0/bin/perl" "-MExtUtils::Command::MM" "-MTest::Harness" "-e" "undef *Test::Harness::Switches; test_harness(0, 'blib/lib', 'blib/arch')" t/*.t
t/00-openssl-version.t .. ok
# OpenSSL 3.0.11 19 Sep 2023 (Library: OpenSSL 3.0.11 19 Sep 2023)
t/10-rsa-keys.t ......... ok
t/20-ec.t ............... ok
t/30-ec-keys.t .......... ok
t/author-pod-spell.t .... skipped: these tests are for testing by the author
t/author-pod-syntax.t ... skipped: these tests are for testing by the author
-----BEGIN CERTIFICATE REQUEST-----
MIIBPzCBqQIBADAAMIGfMA0GCSqGSIb3DQEBAQUAA4GNADCBiQKBgQC0n2KUDxeM
ArdEockJdZ75pMufcxMYbbwt1FAwqWiKpiP92fMIio41Lbp3GVupCOkCG54MghYz
Y/lKOVf8xOXs/NS+tvFHf8F7lOrTJTY00LOZ3coapupecNX8KzCOWUEYq6rZACid
mMqOisR+TtRiKD2ufgr9ZUx/9v3st9bX+QIDAQABoAAwDQYJKoZIhvcNAQELBQAD
gYEAeiGJzn0NRKPIdtwwMqwvPCKrSKfQ2H8x3Al5pLTYj8UmE+LpLu1krFSurxwA
myBqbz0Yiua/SlioZpFBazfHoCgHJ3LQuj6X/yVcQBoIshDtNtX+JgIqlAqZreWI
lW+ramshSnpxMw4fyTtbulzkLD8bHzofRjpaIh2FtKiI3BQ=
-----END CERTIFICATE REQUEST-----
-----BEGIN PRIVATE KEY-----
MIICdQIBADANBgkqhkiG9w0BAQEFAASCAl8wggJbAgEAAoGBALSfYpQPF4wCt0Sh
yQl1nvmky59zExhtvC3UUDCpaIqmI/3Z8wiKjjUtuncZW6kI6QIbngyCFjNj+Uo5
V/zE5ez81L628Ud/wXuU6tMlNjTQs5ndyhqm6l5w1fwrMI5ZQRirqtkAKJ2Yyo6K
xH5O1GIoPa5+Cv1lTH/2/ey31tf5AgMBAAECgYAOsq2d6MB8xzfMoPGwEF84Z12e
gwm5wiw++njwDMkSB0UEgjjRqBy8XRVAXdLkpXH4lvC8idVupyMBFDuBuTAQfr6F
fAXPX8XZGM+sGg9gVHClYDRNIlbgPdqdr9xoYqj/JwAFSRJbiWs9DRR/L3ARMiuV
SVKNZ1ghCyBfDpzd0QJBAOo857ozHqEQyo8HHmAY7cajMKlDYhC4iDogvPmhiHmi
vMjGkYNNYd6ubxbnVe3TnQ/7SzFh1njPrxeM8LgMCXUCQQDFZ0w7hD+9RPqgwhuz
hbabaxjzi7J1pe2aqDZKRpMYVvzK4cT2j6W6dOfl2D+p3ARmOg+7E0zBTqqaJzHo
Rj/1AkAT4gWdhZdU/rLi/yyx5YvRb6rCw2iAmNlfbcX8vpxyDsFNnaVeauQi3dWq
MQrXPD45zA/u6iolaSOosRsB1Gu9AkASoHSpCQmaqm+by7Uhc3SPpcNs97mXMFkD
RuwYhiBLI6om2rbjLRrORUm8fnNDa+deXgwt8txDQVEHyrsC194hAkA9+hcvhdH1
xwfuPG0pdt32zh5Qp0jNIU8oSMsH7EYbsSeH2kqtqcVTuHz2OJlUzV3gfyT30clA
v9pT4Y33BeqR
-----END PRIVATE KEY-----


Public-Key: (1024 bit)
Modulus:
    00:b4:9f:62:94:0f:17:8c:02:b7:44:a1:c9:09:75:
    9e:f9:a4:cb:9f:73:13:18:6d:bc:2d:d4:50:30:a9:
    68:8a:a6:23:fd:d9:f3:08:8a:8e:35:2d:ba:77:19:
    5b:a9:08:e9:02:1b:9e:0c:82:16:33:63:f9:4a:39:
    57:fc:c4:e5:ec:fc:d4:be:b6:f1:47:7f:c1:7b:94:
    ea:d3:25:36:34:d0:b3:99:dd:ca:1a:a6:ea:5e:70:
    d5:fc:2b:30:8e:59:41:18:ab:aa:d9:00:28:9d:98:
    ca:8e:8a:c4:7e:4e:d4:62:28:3d:ae:7e:0a:fd:65:
    4c:7f:f6:fd:ec:b7:d6:d7:f9
Exponent: 65537 (0x10001)

-----BEGIN CERTIFICATE REQUEST-----
MIIBPzCBqQIBADAAMIGfMA0GCSqGSIb3DQEBAQUAA4GNADCBiQKBgQDT0h0a71TT
PTVtPRR1mgDmVXoaBy7k9tpAutMJg8c6iFXVKkkDeUKJ4AoLr53d4McIu4dZsWqQ
3AdHTJPfg34LqH/NQ/JGXXhECe18bpzG8SRAbDYghzgAxpDqElAHais38T1uKROD
stp6BkY0JFd8pP19DMebKfoiKgZkc9qsCQIDAQABoAAwDQYJKoZIhvcNAQELBQAD
gYEAbD6H6rD9mB0xTawZA9jzbFUZrrUyrbjIw0T/wVTe06Pp4lopwvX0gT5cDF0b
x+nc/XSXc+kDsWwQdUJiIGCFypqVnIEGhIVuB2YBxadm/KL02xWN+OMFhuq+2K+y
kTiiCm3gGvBybTNOyVuouAtauYg22UP4zlNmK9cUYM/7dCo=
-----END CERTIFICATE REQUEST-----

Public-Key: (1024 bit)
Modulus:
    00:d3:d2:1d:1a:ef:54:d3:3d:35:6d:3d:14:75:9a:
    00:e6:55:7a:1a:07:2e:e4:f6:da:40:ba:d3:09:83:
    c7:3a:88:55:d5:2a:49:03:79:42:89:e0:0a:0b:af:
    9d:dd:e0:c7:08:bb:87:59:b1:6a:90:dc:07:47:4c:
    93:df:83:7e:0b:a8:7f:cd:43:f2:46:5d:78:44:09:
    ed:7c:6e:9c:c6:f1:24:40:6c:36:20:87:38:00:c6:
    90:ea:12:50:07:6a:2b:37:f1:3d:6e:29:13:83:b2:
    da:7a:06:46:34:24:57:7c:a4:fd:7d:0c:c7:9b:29:
    fa:22:2a:06:64:73:da:ac:09
Exponent: 65537 (0x10001)

rsa
-----BEGIN PUBLIC KEY-----
MIGfMA0GCSqGSIb3DQEBAQUAA4GNADCBiQKBgQDT0h0a71TTPTVtPRR1mgDmVXoa
By7k9tpAutMJg8c6iFXVKkkDeUKJ4AoLr53d4McIu4dZsWqQ3AdHTJPfg34LqH/N
Q/JGXXhECe18bpzG8SRAbDYghzgAxpDqElAHais38T1uKRODstp6BkY0JFd8pP19
DMebKfoiKgZkc9qsCQIDAQAB
-----END PUBLIC KEY-----

-----BEGIN CERTIFICATE REQUEST-----
MIIBPzCBqQIBADAAMIGfMA0GCSqGSIb3DQEBAQUAA4GNADCBiQKBgQDAz5eRaiZ/
d6qubGy/hBUKCwLwHa4cWYf1CJiay1xFrBeg0W+CtBGXCoKLGPZ6iQWnRYLdW/qM
mxu0bp6vFHfXxqnI5n+9Ae8agb0wgFwprCqf+G0kbLzZO6pRWv09nSnUPYEqJC1/
xxsXvC1IojQbYA6WahuOtfll22M9AXau/QIDAQABoAAwDQYJKoZIhvcNAQEMBQAD
gYEAqke0Xn2axAK/PhYXQvF+hFxuvfPkEff6sTbyzQa9k5CKpfVJmefj/yGwQaQ+
mm4jhR9rROeIJKzELLA3dPRjX6oCA186LaGjWyW9HnpIQ0anYDhj0yMJm8B74fzy
exkCeJGw3VkiuBJYKCCwz4dvtzhwj9IQkoJmUPVMM3Nvxcg=
-----END CERTIFICATE REQUEST-----

Public-Key: (1024 bit)
Modulus:
    00:c0:cf:97:91:6a:26:7f:77:aa:ae:6c:6c:bf:84:
    15:0a:0b:02:f0:1d:ae:1c:59:87:f5:08:98:9a:cb:
    5c:45:ac:17:a0:d1:6f:82:b4:11:97:0a:82:8b:18:
    f6:7a:89:05:a7:45:82:dd:5b:fa:8c:9b:1b:b4:6e:
    9e:af:14:77:d7:c6:a9:c8:e6:7f:bd:01:ef:1a:81:
    bd:30:80:5c:29:ac:2a:9f:f8:6d:24:6c:bc:d9:3b:
    aa:51:5a:fd:3d:9d:29:d4:3d:81:2a:24:2d:7f:c7:
    1b:17:bc:2d:48:a2:34:1b:60:0e:96:6a:1b:8e:b5:
    f9:65:db:63:3d:01:76:ae:fd
Exponent: 65537 (0x10001)

rsa
-----BEGIN PUBLIC KEY-----
MIGfMA0GCSqGSIb3DQEBAQUAA4GNADCBiQKBgQDAz5eRaiZ/d6qubGy/hBUKCwLw
Ha4cWYf1CJiay1xFrBeg0W+CtBGXCoKLGPZ6iQWnRYLdW/qMmxu0bp6vFHfXxqnI
5n+9Ae8agb0wgFwprCqf+G0kbLzZO6pRWv09nSnUPYEqJC1/xxsXvC1IojQbYA6W
ahuOtfll22M9AXau/QIDAQAB
-----END PUBLIC KEY-----

-----BEGIN CERTIFICATE REQUEST-----
MIICJzCCAZACAQAwKTELMAkGA1UEBhMCUk8xDDAKBgNVBAoMA1VUSTEMMAoGA1UE
CwwDc3NpMIGfMA0GCSqGSIb3DQEBAQUAA4GNADCBiQKBgQDd4QaZ5bPYk+D3Co4h
LShDcv8ZaE0xNJgqHnaUJBcYNNSUu7t7bVvQ93ZMRLhkoe2LviYGEIKhHWCC2khs
Euz5C3B3umcBNd9B5+hdiWQuogky5s3AXq2C4jUcQQ7dW25MklhWDrVa7Y6PwSUo
VZd6aDVVdoKWvBuspBJ717TPdQIDAQABoIG9MIG6BgkqhkiG9w0BCQ4xgawwgakw
DgYDVR0PAQH/BAQDAgWgMC4GA1UdJQQnMCUGCCsGAQUFBwMBBglghkgBhvhCBAEG
CisGAQQBgjcKAwMGAisEMBwGA1UdEQQVMBOBEXN0ZXZlQG9wZW5zc2wub3JnMB0G
A1UdDgQWBBRLBWFB66LBybpHnRHHaAOEDYwfVDAZBgMqAwMEEhYQTXkgbmV3IGV4
dGVuc2lvbjAPBgMqAwQECB4GAGEAYgBjMA0GCSqGSIb3DQEBCwUAA4GBAHyPYM5x
z2g1ZeOcHq3Ha61/SRQ+dvkvBzbaijGIRZ6IIZR01ad4yFJxJ0zf9x377u8POU+W
Bkvql4u82RtpOK8p9CDVJmaRUVfERuN+FFHX8lKb0Oy6yVOWEBgSEdxycp/4Z6Fw
nAD4uhjlbzjb4qgrjfCdtSklMzCh6lLAzCU6
-----END CERTIFICATE REQUEST-----
Public-Key: (1024 bit)
Modulus:
    00:dd:e1:06:99:e5:b3:d8:93:e0:f7:0a:8e:21:2d:
    28:43:72:ff:19:68:4d:31:34:98:2a:1e:76:94:24:
    17:18:34:d4:94:bb:bb:7b:6d:5b:d0:f7:76:4c:44:
    b8:64:a1:ed:8b:be:26:06:10:82:a1:1d:60:82:da:
    48:6c:12:ec:f9:0b:70:77:ba:67:01:35:df:41:e7:
    e8:5d:89:64:2e:a2:09:32:e6:cd:c0:5e:ad:82:e2:
    35:1c:41:0e:dd:5b:6e:4c:92:58:56:0e:b5:5a:ed:
    8e:8f:c1:25:28:55:97:7a:68:35:55:76:82:96:bc:
    1b:ac:a4:12:7b:d7:b4:cf:75
Exponent: 65537 (0x10001)

-----BEGIN PUBLIC KEY-----
MIGfMA0GCSqGSIb3DQEBAQUAA4GNADCBiQKBgQDd4QaZ5bPYk+D3Co4hLShDcv8Z
aE0xNJgqHnaUJBcYNNSUu7t7bVvQ93ZMRLhkoe2LviYGEIKhHWCC2khsEuz5C3B3
umcBNd9B5+hdiWQuogky5s3AXq2C4jUcQQ7dW25MklhWDrVa7Y6PwSUoVZd6aDVV
doKWvBuspBJ717TPdQIDAQAB
-----END PUBLIC KEY-----

t/Mytest.t .............. ok
t/release-kwalitee.t .... skipped: these tests are for release candidate testing
t/release-meta-json.t ... skipped: these tests are for release candidate testing
All tests successful.
Files=9, Tests=720, 48 wallclock secs ( 0.07 usr  0.03 sys + 47.26 cusr  0.78 csys = 48.14 CPU)
Result: PASS


PREREQUISITES:

Here is a list of prerequisites you specified and versions we
managed to load:

	  Module Name                        Have     Want
	  Crypt::OpenSSL::Guess              0.15     0.11
	  Crypt::OpenSSL::RSA                0.33        0
	  Exporter                           5.72        0
	  File::Slurper                     0.014        0
	  File::Spec::Functions              3.75        0
	  File::Temp                       0.2311        0
	  Import::Into                   1.002005        0
	  Test::Lib                         0.003        0
	  Test::More                     1.302199        0
	  XSLoader                           0.20        0

Perl module toolchain versions installed:
	Module Name                        Have
	CPANPLUS                         0.9914
	CPANPLUS::Dist::Build              0.90
	Cwd                                3.75
	ExtUtils::CBuilder             0.280236
	ExtUtils::Command                  7.70
	ExtUtils::Install                  2.22
	ExtUtils::MakeMaker                7.70
	ExtUtils::Manifest                 1.75
	ExtUtils::ParseXS                  3.51
	File::Spec                         3.75
	Module::Build                    0.4234
	Pod::Parser                        1.63
	Pod::Simple                        3.29
	Test2                          1.302199
	Test::Harness                      3.48
	Test::More                     1.302199
	version                          0.9932

******************************** NOTE ********************************
The comments above are created mechanically, possibly without manual
checking by the sender.  As there are many people performing automatic
tests on each upload to CPAN, it is likely that you will receive
identical messages about the same problem.

If you believe that the message is mistaken, please reply to the first
one with correction and/or additional informations, and do not take
it personally.  We appreciate your patience. :)
**********************************************************************

Additional comments:


This report was machine-generated by CPANPLUS::Dist::YACSmoke 1.08.
Powered by minismokebox version 0.68

CPANPLUS is prefering Build.PL

------------------------------
ENVIRONMENT AND OTHER CONTEXT
------------------------------

Environment variables:

    AUTOMATED_TESTING = 1
    LANG = en_GB.UTF-8
    LANGUAGE = en_GB:en
    NONINTERACTIVE_TESTING = 1
    PATH = /usr/local/bin:/usr/bin:/bin:/usr/local/games:/usr/games
    PERL5LIB = /home/cpan/pit/jail/7CP9zcD8bA/lib/perl5:/home/cpan/pit/thr-ld/conf/perl-5.22.0/.cpanplus/5.22.0/build/ukDSUuPWpo/Crypt-OpenSSL-PKCS10-0.30/blib/lib:/home/cpan/pit/thr-ld/conf/perl-5.22.0/.cpanplus/5.22.0/build/ukDSUuPWpo/Crypt-OpenSSL-PKCS10-0.30/blib/arch
    PERL5_CPANPLUS_IS_RUNNING = 11518
    PERL5_CPANPLUS_IS_VERSION = 0.9914
    PERL5_MINISMOKEBOX = 0.68
    PERL5_YACSMOKE_BASE = /home/cpan/pit/thr-ld/conf/perl-5.22.0
    PERL_EXTUTILS_AUTOINSTALL = --defaultdeps
    PERL_LOCAL_LIB_ROOT = /home/cpan/pit/jail/7CP9zcD8bA
    PERL_MB_OPT = --install_base "/home/cpan/pit/jail/7CP9zcD8bA"
    PERL_MM_OPT = INSTALL_BASE=/home/cpan/pit/jail/7CP9zcD8bA
    PERL_MM_USE_DEFAULT = 1
    SHELL = /bin/bash
    TERM = screen.xterm-256color

Perl special variables (and OS-specific diagnostics, for MSWin32):

    Perl: $^X = /home/cpan/pit/thr-ld/perl-5.22.0/bin/perl
    UID:  $<  = 1001
    EUID: $>  = 1001
    GID:  $(  = 1001 1001
    EGID: $)  = 1001 1001


-------------------------------


--

Summary of my perl5 (revision 5 version 22 subversion 0) configuration:
   
  Platform:
    osname=linux, osvers=5.10.0-12-686, archname=i686-linux-thread-multi-ld
    uname='linux dagobah 5.10.0-12-686 #1 smp debian 5.10.103-1 (2022-03-07) i686 gnulinux '
    config_args='-des -Dprefix=/home/cpan/pit/thr-ld/perl-5.22.0 -Dusethreads -Duselongdouble'
    hint=recommended, useposix=true, d_sigaction=define
    useithreads=define, usemultiplicity=define
    use64bitint=undef, use64bitall=undef, uselongdouble=define
    usemymalloc=n, bincompat5005=undef
  Compiler:
    cc='cc', ccflags ='-D_REENTRANT -D_GNU_SOURCE -fwrapv -fno-strict-aliasing -pipe -fstack-protector-strong -I/usr/local/include -D_LARGEFILE_SOURCE -D_FILE_OFFSET_BITS=64 -D_FORTIFY_SOURCE=2',
    optimize='-O2',
    cppflags='-D_REENTRANT -D_GNU_SOURCE -fwrapv -fno-strict-aliasing -pipe -fstack-protector-strong -I/usr/local/include'
    ccversion='', gccversion='10.2.1 20210110', gccosandvers=''
    intsize=4, longsize=4, ptrsize=4, doublesize=8, byteorder=1234, doublekind=3
    d_longlong=define, longlongsize=8, d_longdbl=define, longdblsize=12, longdblkind=3
    ivtype='long', ivsize=4, nvtype='long double', nvsize=12, Off_t='off_t', lseeksize=8
    alignbytes=4, prototype=define
  Linker and Libraries:
    ld='cc', ldflags =' -fstack-protector-strong -L/usr/local/lib'
    libpth=/usr/local/lib /usr/include/i386-linux-gnu /usr/lib /lib/i386-linux-gnu /lib/../lib /usr/lib/i386-linux-gnu /usr/lib/../lib /lib /lib64 /usr/lib64
    libs=-lpthread -lnsl -lgdbm -ldl -lm -lcrypt -lutil -lc
    perllibs=-lpthread -lnsl -ldl -lm -lcrypt -lutil -lc
    libc=libc-2.31.so, so=so, useshrplib=false, libperl=libperl.a
    gnulibc_version='2.31'
  Dynamic Linking:
    dlsrc=dl_dlopen.xs, dlext=so, d_dlsymun=undef, ccdlflags='-Wl,-E'
    cccdlflags='-fPIC', lddlflags='-shared -O2 -L/usr/local/lib -fstack-protector-strong'


Characteristics of this binary (from libperl): 
  Compile-time options: HAS_TIMES MULTIPLICITY PERLIO_LAYERS
                        PERL_DONT_CREATE_GVSV
                        PERL_HASH_FUNC_ONE_AT_A_TIME_HARD
                        PERL_IMPLICIT_CONTEXT PERL_MALLOC_WRAP
                        PERL_NEW_COPY_ON_WRITE PERL_PRESERVE_IVUV
                        USE_ITHREADS USE_LARGE_FILES USE_LOCALE
                        USE_LOCALE_COLLATE USE_LOCALE_CTYPE
                        USE_LOCALE_NUMERIC USE_LOCALE_TIME USE_LONG_DOUBLE
                        USE_PERLIO USE_PERL_ATOF USE_REENTRANT_API
  Locally applied patches:
	Devel::PatchPerl 2.08
  Built under linux
  Compiled at Mar 19 2022 14:46:26
  %ENV:
    PERL5LIB="/home/cpan/pit/jail/7CP9zcD8bA/lib/perl5:/home/cpan/pit/thr-ld/conf/perl-5.22.0/.cpanplus/5.22.0/build/ukDSUuPWpo/Crypt-OpenSSL-PKCS10-0.30/blib/lib:/home/cpan/pit/thr-ld/conf/perl-5.22.0/.cpanplus/5.22.0/build/ukDSUuPWpo/Crypt-OpenSSL-PKCS10-0.30/blib/arch"
    PERL5_CPANPLUS_IS_RUNNING="11518"
    PERL5_CPANPLUS_IS_VERSION="0.9914"
    PERL5_MINISMOKEBOX="0.68"
    PERL5_YACSMOKE_BASE="/home/cpan/pit/thr-ld/conf/perl-5.22.0"
    PERL_EXTUTILS_AUTOINSTALL="--defaultdeps"
    PERL_LOCAL_LIB_ROOT="/home/cpan/pit/jail/7CP9zcD8bA"
    PERL_MB_OPT="--install_base "/home/cpan/pit/jail/7CP9zcD8bA""
    PERL_MM_OPT="INSTALL_BASE=/home/cpan/pit/jail/7CP9zcD8bA"
    PERL_MM_USE_DEFAULT="1"
  @INC:
    /home/cpan/pit/jail/7CP9zcD8bA/lib/perl5/5.22.0/i686-linux-thread-multi-ld
    /home/cpan/pit/jail/7CP9zcD8bA/lib/perl5/5.22.0
    /home/cpan/pit/jail/7CP9zcD8bA/lib/perl5/i686-linux-thread-multi-ld
    /home/cpan/pit/jail/7CP9zcD8bA/lib/perl5
    /home/cpan/pit/thr-ld/conf/perl-5.22.0/.cpanplus/5.22.0/build/ukDSUuPWpo/Crypt-OpenSSL-PKCS10-0.30/blib/lib
    /home/cpan/pit/thr-ld/conf/perl-5.22.0/.cpanplus/5.22.0/build/ukDSUuPWpo/Crypt-OpenSSL-PKCS10-0.30/blib/arch
    /home/cpan/pit/thr-ld/perl-5.22.0/lib/site_perl/5.22.0/i686-linux-thread-multi-ld
    /home/cpan/pit/thr-ld/perl-5.22.0/lib/site_perl/5.22.0
    /home/cpan/pit/thr-ld/perl-5.22.0/lib/5.22.0/i686-linux-thread-multi-ld
    /home/cpan/pit/thr-ld/perl-5.22.0/lib/5.22.0
    .