Report for XML-FeedPP-0.41

Back
From: metabase:user:e3434da8-b236-11df-85ca-0247c6d74bde
Subject: PASS XML-FeedPP-0.41 v5.8.9 GNU/Linux
Date: 2010-10-14T17:07:49Z

This distribution has been tested as part of the CPAN Testers
project, supporting the Perl programming language.  See
http://wiki.cpantesters.org/ for more information or email
questions to cpan-testers-discuss@perl.org


--
Dear Yusuke Kawasaki,

This is a computer-generated report for XML-FeedPP-0.41
on perl 5.8.9, created by CPAN-Reporter-1.1803.

Thank you for uploading your work to CPAN.  Congratulations!
All tests were successful.

Sections of this report:

    * Tester comments
    * Program output
    * Prerequisites
    * Environment and other context

------------------------------
TESTER COMMENTS
------------------------------

Additional comments from tester:

this report is from an automated smoke testing program
and was not reviewed by a human for accuracy

------------------------------
PROGRAM OUTPUT
------------------------------

Output from '/usr/bin/make test':

PERL_DL_NONLAZY=1 /home/cpt3/testing/perl-5.8.9/bin/perl "-MExtUtils::Command::MM" "-e" "test_harness(0, 'blib/lib', 'blib/arch')" t/*.t
t/01_new................ok
t/02_rss................ok
t/03_rdf................ok
t/04_atom...............ok
t/05_round..............ok
t/06_xmlns..............ok
t/07_encoding...........ok
t/08_datetime...........ok
t/09_setget.............ok
t/10_image..............ok
t/11_media..............ok
t/12_sort_item..........ok
t/13_remove_item........ok
t/14_clear_item.........ok
t/15_clone_item.........ok
t/16_invalid_pubdate....ok
t/17_multi_category.....ok
t/18_image_atom.........ok
t/19_invalid_w3cdtf.....ok
t/20_limit_item.........ok
t/21_negative_item......ok
t/22_init_elements......ok
t/23_match_item.........ok
t/24_get_epoch..........ok
t/25_sort_timezone......ok
t/26_atom10_parse.......ok
t/27_atom03_parse.......ok
t/28_atom10_write.......ok
t/29_rfc2822............ok
t/30_invalid_rdfseq.....ok
t/31_two_digit_date.....ok
t/32_two_titles.........ok
t/33_guid...............ok
t/34_category_type......ok
t/35_no_xml_decl........ok
t/36_get_multiple.......ok
t/39_load_type..........ok
t/40_xml_deref..........ok
t/41_utf8_flag..........ok
t/42_indent.............ok
t/43_indent_atom........ok
t/44_cdata..............ok
t/45_cdata_multi........ok
All tests successful.
Files=43, Tests=1367,  2 wallclock secs ( 1.95 cusr +  0.19 csys =  2.14 CPU)

------------------------------
PREREQUISITES
------------------------------

Prerequisite modules loaded:

requires:

    Module              Need Have
    ------------------- ---- ----
    Test::More          0    0.80
    XML::TreePP         0.39 0.39

configure_requires:

    Module              Need Have
    ------------------- ---- ----
    ExtUtils::MakeMaker 0    6.48


------------------------------
ENVIRONMENT AND OTHER CONTEXT
------------------------------

Environment variables:

    AUTOMATED_TESTING = 1
    LANG = en_US.utf8
    PATH = /usr/local/bin:/usr/bin:/bin:/usr/local/games:/usr/games
    PERL5LIB = /home/cpt3/.cpan/build/XML-TreePP-0.39-tFugNV/blib/arch:/home/cpt3/.cpan/build/XML-TreePP-0.39-tFugNV/blib/lib:/home/cpt3/.cpan/build/Test-Base-0.59-69r1Jg/blib/arch:/home/cpt3/.cpan/build/Test-Base-0.59-69r1Jg/blib/lib:/home/cpt3/.cpan/build/Spiffy-0.30-3h4HRZ/blib/arch:/home/cpt3/.cpan/build/Spiffy-0.30-3h4HRZ/blib/lib
    PERL5OPT = 
    PERL5_CPANPLUS_IS_RUNNING = 2963
    PERL5_CPAN_IS_RUNNING = 2963
    PERL5_CPAN_IS_RUNNING_IN_RECURSION = 2641,2963
    PERL_CR_SMOKER_CURRENT = WebService-Aladdin-0.0703
    PERL_EXTUTILS_AUTOINSTALL = --defaultdeps
    PERL_MM_USE_DEFAULT = 1
    SHELL = /bin/bash
    TERM = screen

Perl special variables (and OS-specific diagnostics, for MSWin32):

    $^X = /home/cpt3/testing/perl-5.8.9/bin/perl
    $UID/$EUID = 1004 / 1004
    $GID = 1004 20 24 25 27 29 30 44 46 100 103 111 113 114 1004
    $EGID = 1004 20 24 25 27 29 30 44 46 100 103 111 113 114 1004

Perl module toolchain versions installed:

    Module              Have   
    ------------------- -------
    CPAN                1.9301 
    Cwd                 3.29   
    ExtUtils::CBuilder  0.2703 
    ExtUtils::Command   1.15   
    ExtUtils::Install   1.50_01
    ExtUtils::MakeMaker 6.48   
    ExtUtils::Manifest  1.55   
    ExtUtils::ParseXS   2.19   
    File::Spec          3.29   
    Module::Build       0.3607 
    Module::Signature   n/a    
    Test::Harness       2.64   
    Test::More          0.80   
    YAML                0.72   
    YAML::Syck          n/a    
    version             n/a    


--

Summary of my perl5 (revision 5 version 8 subversion 9) configuration:
  Platform:
    osname=linux, osvers=2.6.35-4.slh.9-aptosid-686, archname=i686-linux
    uname='linux firenze 2.6.35-4.slh.9-aptosid-686 #1 smp preempt mon sep 13 16:40:35 utc 2010 i686 gnulinux '
    config_args='-Dprefix=/home/cpt3/testing/perl-5.8.9'
    hint=recommended, useposix=true, d_sigaction=define
    usethreads=undef use5005threads=undef useithreads=undef usemultiplicity=undef
    useperlio=define d_sfio=undef uselargefiles=define usesocks=undef
    use64bitint=undef use64bitall=undef uselongdouble=undef
    usemymalloc=n, bincompat5005=undef
  Compiler:
    cc='cc', ccflags ='-fno-strict-aliasing -pipe -I/usr/local/include -D_LARGEFILE_SOURCE -D_FILE_OFFSET_BITS=64',
    optimize='-O2',
    cppflags='-fno-strict-aliasing -pipe -I/usr/local/include'
    ccversion='', gccversion='4.4.5', gccosandvers=''
    intsize=4, longsize=4, ptrsize=4, doublesize=8, byteorder=1234
    d_longlong=define, longlongsize=8, d_longdbl=define, longdblsize=12
    ivtype='long', ivsize=4, nvtype='double', nvsize=8, Off_t='off_t', lseeksize=8
    alignbytes=4, prototype=define
  Linker and Libraries:
    ld='cc', ldflags =' -L/usr/local/lib'
    libpth=/usr/local/lib /lib /usr/lib
    libs=-lnsl -lgdbm -ldb -ldl -lm -lcrypt -lutil -lc
    perllibs=-lnsl -ldl -lm -lcrypt -lutil -lc
    libc=/lib/libc-2.11.2.so, so=so, useshrplib=false, libperl=libperl.a
    gnulibc_version='2.11.2'
  Dynamic Linking:
    dlsrc=dl_dlopen.xs, dlext=so, d_dlsymun=undef, ccdlflags='-Wl,-E'
    cccdlflags='-fPIC', lddlflags='-shared -O2 -L/usr/local/lib'


Characteristics of this binary (from libperl): 
  Compile-time options: PERL_MALLOC_WRAP USE_FAST_STDIO USE_LARGE_FILES
                        USE_PERLIO
  Built under linux
  Compiled at Oct 11 2010 12:18:13
  %ENV:
    PERL5LIB="/home/cpt3/.cpan/build/XML-TreePP-0.39-tFugNV/blib/arch:/home/cpt3/.cpan/build/XML-TreePP-0.39-tFugNV/blib/lib:/home/cpt3/.cpan/build/Test-Base-0.59-69r1Jg/blib/arch:/home/cpt3/.cpan/build/Test-Base-0.59-69r1Jg/blib/lib:/home/cpt3/.cpan/build/Spiffy-0.30-3h4HRZ/blib/arch:/home/cpt3/.cpan/build/Spiffy-0.30-3h4HRZ/blib/lib"
    PERL5OPT=""
    PERL5_CPANPLUS_IS_RUNNING="2963"
    PERL5_CPAN_IS_RUNNING="2963"
    PERL5_CPAN_IS_RUNNING_IN_RECURSION="2641,2963"
    PERL_CR_SMOKER_CURRENT="WebService-Aladdin-0.0703"
    PERL_EXTUTILS_AUTOINSTALL="--defaultdeps"
    PERL_MM_USE_DEFAULT="1"
  @INC:
    /home/cpt3/.cpan/build/XML-TreePP-0.39-tFugNV/blib/arch
    /home/cpt3/.cpan/build/XML-TreePP-0.39-tFugNV/blib/lib
    /home/cpt3/.cpan/build/Test-Base-0.59-69r1Jg/blib/arch
    /home/cpt3/.cpan/build/Test-Base-0.59-69r1Jg/blib/lib
    /home/cpt3/.cpan/build/Spiffy-0.30-3h4HRZ/blib/arch
    /home/cpt3/.cpan/build/Spiffy-0.30-3h4HRZ/blib/lib
    /home/cpt3/testing/perl-5.8.9/lib/5.8.9/i686-linux
    /home/cpt3/testing/perl-5.8.9/lib/5.8.9
    /home/cpt3/testing/perl-5.8.9/lib/site_perl/5.8.9/i686-linux
    /home/cpt3/testing/perl-5.8.9/lib/site_perl/5.8.9
    .