Math-LongDouble v0.26 Perl 5 v5.24.3 x86_64-linux-thread-multi-quadmath

Status
Pass
From
Chris Williams (BINGOS)
Dist
Math-LongDouble v0.26
Platform
Perl 5 v5.24.3 x86_64-linux-thread-multi-quadmath
Date
2024-12-10 02:15:06
ID
92d13e8c-b69c-11ef-98b0-b3c3213a625c
This distribution has been tested as part of the CPAN Testers
project, supporting the Perl programming language.  See
http://wiki.cpantesters.org/ for more information or email
questions to cpan-testers-discuss@perl.org


--

Dear SISYPHUS,

This is a computer-generated error report created automatically by
CPANPLUS, version 0.9914. Testers personal comments may appear
at the end of this report.


Thank you for uploading your work to CPAN.  Congratulations!
All tests were successful.

TEST RESULTS:

Below is the error stack from stage 'make test':

"/home/cpan/pit/thr-qm/perl-5.24.3/bin/perl" -MExtUtils::Command::MM -e 'cp_nonempty' -- LongDouble.bs blib/arch/auto/Math/LongDouble/LongDouble.bs 644
PERL_DL_NONLAZY=1 "/home/cpan/pit/thr-qm/perl-5.24.3/bin/perl" "-MExtUtils::Command::MM" "-MTest::Harness" "-e" "undef *Test::Harness::Switches; test_harness(0, 'blib/lib', 'blib/arch')" t/*.t


  No tests with this file. Instead, mainly for the benefit
  of the author, we (hopefully) see some diagnostics from some
  test executables that were run during the Makefile.PL stage.


CC = cc
OPTMIZE = -O2
erfl & isnanl check (build): 
erfl & isnanl check (run): rop is set to a sane value
op is set to the correct value

build output (nanl check): 
execution output (nanl check): rop set as expected

build output (nan**0 check):
try2.in: In function ‘main’:
try2.in:50:32: warning: format ‘%u’ expects argument of type ‘unsigned int’, but argument 2 has type ‘long unsigned int’ [-Wformat=]
   50 |  printf("size of long double: %u\n", ul);
      |                               ~^     ~~
      |                                |     |
      |                                |     long unsigned int
      |                                unsigned int
      |                               %lu

nan**0 check diagnostic: 1.0L
1.0L
1.0L
size of long double: 16

build output (signbitl check): 
execution output (signbitl check): ret set as expected

build output (sincosl check): try5.in: In function ‘main’:
try5.in:18:2: warning: incompatible implicit declaration of built-in function ‘sincosl’ [-Wbuiltin-declaration-mismatch]
   18 |  sincosl(op, &sine, &cosine);
      |  ^~~~~~~
try5.in:14:1: note: include ‘<math.h>’ or provide a declaration of ‘sincosl’
   13 | #include <math.h>
  +++ |+#include <math.h>
   14 | 

execution output (sincosl check): output: 0.000000e+00 1.000000e+00


t/01config_xtra.t .......... ok

NAN_POW_BUG is NOT defined
NANL_IS_UNAVAILABLE is NOT defined
ISNANL_IS_UNAVAILABLE is NOT defined
SIGNBITL_IS_UNAVAILABLE is NOT defined
SINCOSL_IS_UNAVAILABLE is NOT defined
Actual nvsize == 16
Actual long double size = 10
t/aab_basic.t .............. ok

Math::LongDouble::_have_isnanl() returns 1
Math::LongDouble::_have_nanl() returns 1
Math::LongDouble::_have_signbitl() returns 1
t/abs.t .................... ok
t/arith.t .................. ok
t/base_conversion.t ........ ok
t/bool.t ................... ok
t/cmp.t .................... ok

LD_DBL_DENORM_MIN not implemented

LD_LDBL_DENORM_MIN not implemented
t/constants.t .............. ok
t/inc_dec.t ................ ok
t/int.t .................... ok

 Skipping all tests - nvtype ('__float128') is not 'long double'
t/ld_bytes.t ............... ok
t/log_exp.t ................ ok

Math:LongDouble::_nan_pow_bug() returns 0
t/nan_pow.t ................ ok
t/new.t .................... ok
t/nnum.t ................... ok
t/overload.t ............... ok
t/overload_cmp_reversal.t .. ok
t/overload_switch.t ........ ok
Skipping test 1 - no recent version of Test::Pod installed
t/pod.t .................... ok
t/pow.t .................... ok

FYI:
 DBL_DIG = 15
 LDBL_DIG = 18
 Default precison = 21
t/prec.t ................... ok
t/signbit.t ................ ok
t/special.t ................ ok
t/stringification.t ........ ok

built with sincosl function
t/trig.t ................... ok
All tests successful.
Files=25, Tests=340,  1 wallclock secs ( 0.08 usr  0.00 sys +  0.47 cusr  0.10 csys =  0.65 CPU)
Result: PASS


PREREQUISITES:

Here is a list of prerequisites you specified and versions we
managed to load:

	  Module Name                        Have     Want
	  ExtUtils::MakeMaker                7.70        0

Perl module toolchain versions installed:
	Module Name                        Have
	CPANPLUS                         0.9914
	CPANPLUS::Dist::Build              0.90
	Cwd                                3.75
	ExtUtils::CBuilder             0.280236
	ExtUtils::Command                  7.70
	ExtUtils::Install                  2.22
	ExtUtils::MakeMaker                7.70
	ExtUtils::Manifest                 1.75
	ExtUtils::ParseXS                  3.51
	File::Spec                         3.75
	Module::Build                    0.4234
	Pod::Parser                        1.63
	Pod::Simple                        3.32
	Test2                          1.302199
	Test::Harness                      3.48
	Test::More                     1.302199
	version                          0.9932

******************************** NOTE ********************************
The comments above are created mechanically, possibly without manual
checking by the sender.  As there are many people performing automatic
tests on each upload to CPAN, it is likely that you will receive
identical messages about the same problem.

If you believe that the message is mistaken, please reply to the first
one with correction and/or additional informations, and do not take
it personally.  We appreciate your patience. :)
**********************************************************************

Additional comments:


This report was machine-generated by CPANPLUS::Dist::YACSmoke 1.08.
Powered by minismokebox version 0.68

CPANPLUS is prefering Build.PL

------------------------------
ENVIRONMENT AND OTHER CONTEXT
------------------------------

Environment variables:

    AUTOMATED_TESTING = 1
    LANG = en_GB.UTF-8
    LANGUAGE = en_GB:en
    NONINTERACTIVE_TESTING = 1
    PATH = /home/cpan/pit/jail/6sHo_xIF13/bin:/usr/local/sbin:/usr/local/bin:/usr/sbin:/usr/bin:/sbin:/bin:/usr/games:/usr/local/games:/snap/bin
    PERL5LIB = /home/cpan/pit/jail/6sHo_xIF13/lib/perl5:/home/cpan/pit/thr-qm/conf/perl-5.24.3/.cpanplus/5.24.3/build/FHSJ7Ff9Ir/Math-LongDouble-0.26/blib/lib:/home/cpan/pit/thr-qm/conf/perl-5.24.3/.cpanplus/5.24.3/build/FHSJ7Ff9Ir/Math-LongDouble-0.26/blib/arch
    PERL5_CPANPLUS_IS_RUNNING = 692753
    PERL5_CPANPLUS_IS_VERSION = 0.9914
    PERL5_MINISMOKEBOX = 0.68
    PERL5_YACSMOKE_BASE = /home/cpan/pit/thr-qm/conf/perl-5.24.3
    PERL_EXTUTILS_AUTOINSTALL = --defaultdeps
    PERL_LOCAL_LIB_ROOT = /home/cpan/pit/jail/6sHo_xIF13
    PERL_MB_OPT = --install_base "/home/cpan/pit/jail/6sHo_xIF13"
    PERL_MM_OPT = INSTALL_BASE=/home/cpan/pit/jail/6sHo_xIF13
    PERL_MM_USE_DEFAULT = 1
    SHELL = /bin/bash
    TERM = screen.xterm-256color

Perl special variables (and OS-specific diagnostics, for MSWin32):

    Perl: $^X = /home/cpan/pit/thr-qm/perl-5.24.3/bin/perl
    UID:  $<  = 1001
    EUID: $>  = 1001
    GID:  $(  = 1001 1001
    EGID: $)  = 1001 1001


-------------------------------


--

Summary of my perl5 (revision 5 version 24 subversion 3) configuration:
   
  Platform:
    osname=linux, osvers=5.4.0-26-generic, archname=x86_64-linux-thread-multi-quadmath
    uname='linux uchder 5.4.0-26-generic #30-ubuntu smp mon apr 20 16:58:30 utc 2020 x86_64 x86_64 x86_64 gnulinux '
    config_args='-des -Dprefix=/home/cpan/pit/thr-qm/perl-5.24.3 -Dusethreads -Dusequadmath'
    hint=recommended, useposix=true, d_sigaction=define
    useithreads=define, usemultiplicity=define
    use64bitint=define, use64bitall=define, uselongdouble=undef
    usemymalloc=n, bincompat5005=undef
  Compiler:
    cc='cc', ccflags ='-D_REENTRANT -D_GNU_SOURCE -fwrapv -fno-strict-aliasing -pipe -fstack-protector-strong -I/usr/local/include -D_LARGEFILE_SOURCE -D_FILE_OFFSET_BITS=64',
    optimize='-O2',
    cppflags='-D_REENTRANT -D_GNU_SOURCE -fwrapv -fno-strict-aliasing -pipe -fstack-protector-strong -I/usr/local/include'
    ccversion='', gccversion='9.3.0', gccosandvers=''
    intsize=4, longsize=8, ptrsize=8, doublesize=8, byteorder=12345678, doublekind=3
    d_longlong=define, longlongsize=8, d_longdbl=define, longdblsize=16, longdblkind=3
    ivtype='long', ivsize=8, nvtype='__float128', nvsize=16, Off_t='off_t', lseeksize=8
    alignbytes=16, prototype=define
  Linker and Libraries:
    ld='cc', ldflags =' -fstack-protector-strong -L/usr/local/lib'
    libpth=/usr/local/lib /usr/include/x86_64-linux-gnu /usr/lib /lib/x86_64-linux-gnu /lib/../lib /usr/lib/x86_64-linux-gnu /usr/lib/../lib /lib
    libs=-lpthread -lnsl -lgdbm -ldl -lm -lcrypt -lutil -lc -lquadmath
    perllibs=-lpthread -lnsl -ldl -lm -lcrypt -lutil -lc -lquadmath
    libc=libc-2.31.so, so=so, useshrplib=false, libperl=libperl.a
    gnulibc_version='2.31'
  Dynamic Linking:
    dlsrc=dl_dlopen.xs, dlext=so, d_dlsymun=undef, ccdlflags='-Wl,-E'
    cccdlflags='-fPIC', lddlflags='-shared -O2 -L/usr/local/lib -fstack-protector-strong'


Characteristics of this binary (from libperl): 
  Compile-time options: HAS_TIMES MULTIPLICITY PERLIO_LAYERS
                        PERL_COPY_ON_WRITE PERL_DONT_CREATE_GVSV
                        PERL_HASH_FUNC_ONE_AT_A_TIME_HARD
                        PERL_IMPLICIT_CONTEXT PERL_MALLOC_WRAP
                        PERL_PRESERVE_IVUV USE_64_BIT_ALL USE_64_BIT_INT
                        USE_ITHREADS USE_LARGE_FILES USE_LOCALE
                        USE_LOCALE_COLLATE USE_LOCALE_CTYPE
                        USE_LOCALE_NUMERIC USE_LOCALE_TIME USE_PERLIO
                        USE_PERL_ATOF USE_QUADMATH USE_REENTRANT_API
  Locally applied patches:
	Devel::PatchPerl 1.92
  Built under linux
  Compiled at Apr 28 2020 08:44:23
  %ENV:
    PERL5LIB="/home/cpan/pit/jail/6sHo_xIF13/lib/perl5:/home/cpan/pit/thr-qm/conf/perl-5.24.3/.cpanplus/5.24.3/build/FHSJ7Ff9Ir/Math-LongDouble-0.26/blib/lib:/home/cpan/pit/thr-qm/conf/perl-5.24.3/.cpanplus/5.24.3/build/FHSJ7Ff9Ir/Math-LongDouble-0.26/blib/arch"
    PERL5_CPANPLUS_IS_RUNNING="692753"
    PERL5_CPANPLUS_IS_VERSION="0.9914"
    PERL5_MINISMOKEBOX="0.68"
    PERL5_YACSMOKE_BASE="/home/cpan/pit/thr-qm/conf/perl-5.24.3"
    PERL_EXTUTILS_AUTOINSTALL="--defaultdeps"
    PERL_LOCAL_LIB_ROOT="/home/cpan/pit/jail/6sHo_xIF13"
    PERL_MB_OPT="--install_base "/home/cpan/pit/jail/6sHo_xIF13""
    PERL_MM_OPT="INSTALL_BASE=/home/cpan/pit/jail/6sHo_xIF13"
    PERL_MM_USE_DEFAULT="1"
  @INC:
    /home/cpan/pit/jail/6sHo_xIF13/lib/perl5/5.24.3/x86_64-linux-thread-multi-quadmath
    /home/cpan/pit/jail/6sHo_xIF13/lib/perl5/5.24.3
    /home/cpan/pit/jail/6sHo_xIF13/lib/perl5/x86_64-linux-thread-multi-quadmath
    /home/cpan/pit/jail/6sHo_xIF13/lib/perl5
    /home/cpan/pit/thr-qm/conf/perl-5.24.3/.cpanplus/5.24.3/build/FHSJ7Ff9Ir/Math-LongDouble-0.26/blib/lib
    /home/cpan/pit/thr-qm/conf/perl-5.24.3/.cpanplus/5.24.3/build/FHSJ7Ff9Ir/Math-LongDouble-0.26/blib/arch
    /home/cpan/pit/thr-qm/perl-5.24.3/lib/site_perl/5.24.3/x86_64-linux-thread-multi-quadmath
    /home/cpan/pit/thr-qm/perl-5.24.3/lib/site_perl/5.24.3
    /home/cpan/pit/thr-qm/perl-5.24.3/lib/5.24.3/x86_64-linux-thread-multi-quadmath
    /home/cpan/pit/thr-qm/perl-5.24.3/lib/5.24.3
    .