Report for DateTime-Format-Pg-0.16007

Back
From: metabase:user:d2c9f356-b46f-11df-9a90-20a83c0b7757
Subject: PASS DateTime-Format-Pg-0.16007 v5.10.1 SunOS/Solaris
Date: 2011-11-29T14:43:59Z

This distribution has been tested as part of the CPAN Testers
project, supporting the Perl programming language.  See
http://wiki.cpantesters.org/ for more information or email
questions to cpan-testers-discuss@perl.org


--
Dear Daisuke Maki,

This is a computer-generated report for DateTime-Format-Pg-0.16007
on perl 5.10.1, created by CPAN-Reporter-1.2002.

Thank you for uploading your work to CPAN.  Congratulations!
All tests were successful.

Sections of this report:

    * Tester comments
    * Program output
    * Prerequisites
    * Environment and other context

------------------------------
TESTER COMMENTS
------------------------------

Additional comments from tester:

this report is from an automated smoke testing program
and was not reviewed by a human for accuracy

------------------------------
PROGRAM OUTPUT
------------------------------

Output from '/usr/local/bin/make test':

PERL_DL_NONLAZY=1 /export/home/cpantest/perl5/bin/perl "-MExtUtils::Command::MM" "-e" "test_harness(0, 'inc', 'blib/lib', 'blib/arch')" t/*.t
t/1basic.t ............. ok
t/2new-param.t ......... ok
t/99-pod-coverage.t .... ok
t/99-pod.t ............. ok
t/format_date.t ........ ok
t/format_datetime.t .... ok
t/format_fractional.t .. ok
t/format_interval.t .... ok
t/parse_date.t ......... ok
t/parse_datetime.t ..... ok
t/parse_datetime2.t .... ok
t/parse_datetime3.t .... ok
t/parse_infinity.t ..... ok
t/parse_interval.t ..... ok
t/parse_time.t ......... ok
t/rt18487.t ............ ok
t/rt29635.t ............ ok
t/self_circle.t ........ ok
t/tz_1901_2038.t ....... ok
All tests successful.
Files=19, Tests=137,  6 wallclock secs ( 0.21 usr  0.18 sys +  3.86 cusr  0.91 csys =  5.16 CPU)
Result: PASS

------------------------------
PREREQUISITES
------------------------------

Prerequisite modules loaded:

requires:

    Module                    Need Have  
    ------------------------- ---- ------
  ! DateTime                  0.10 broken
  ! DateTime::Format::Builder 0.72 broken
    DateTime::TimeZone        0.05 1.42  

build_requires:

    Module                    Need Have  
    ------------------------- ---- ------
    ExtUtils::MakeMaker       6.42 6.62  
    Test::More                0    0.98  

configure_requires:

    Module                    Need Have  
    ------------------------- ---- ------
    ExtUtils::MakeMaker       6.42 6.62  


------------------------------
ENVIRONMENT AND OTHER CONTEXT
------------------------------

Environment variables:

    AUTOMATED_TESTING = 1
    LANG = C
    LD_LIBRARY_PATH = /usr/local/lib:
    PATH = /export/home/cpantest/perl5/bin:/usr/local/bin:/usr/bin
    PERL5LIB = 
    PERL5OPT = 
    PERL5_CPANPLUS_IS_RUNNING = 10180
    PERL5_CPAN_IS_RUNNING = 10180
    PERL5_CPAN_IS_RUNNING_IN_RECURSION = 3991,10180
    PERL_CR_SMOKER_CURRENT = DateTime-Format-Pg-0.16007
    PERL_EXTUTILS_AUTOINSTALL = --defaultdeps
    PERL_MM_USE_DEFAULT = 1
    SHELL = /usr/bin/bash
    TERM = xterm

Perl special variables (and OS-specific diagnostics, for MSWin32):

    $^X = /export/home/cpantest/perl5/bin/perl
    $UID/$EUID = 100 / 100
    $GID = 1 1
    $EGID = 1 1

Perl module toolchain versions installed:

    Module              Have    
    ------------------- --------
    CPAN                1.9800  
    CPAN::Meta          2.112621
    Cwd                 3.33    
    ExtUtils::CBuilder  0.280202
    ExtUtils::Command   1.17    
    ExtUtils::Install   1.54    
    ExtUtils::MakeMaker 6.62    
    ExtUtils::Manifest  1.60    
    ExtUtils::ParseXS   3.05    
    File::Spec          3.33    
    JSON                2.53    
    JSON::PP            2.27200 
    Module::Build       0.3800  
    Module::Signature   n/a     
    Parse::CPAN::Meta   1.4401  
    Test::Harness       3.23    
    Test::More          0.98    
    YAML                0.77    
    YAML::Syck          1.19    
    version             0.95    


--

Summary of my perl5 (revision 5 version 10 subversion 1) configuration:
   
  Platform:
    osname=solaris, osvers=2.10, archname=i86pc-solaris-64int
    uname='sunos vmrz0046 5.10 generic_141445-09 i86pc i386 i86pc '
    config_args='-Dcc=gcc -Dprefix=~/perl5 -Duse64bitint -d'
    hint=recommended, useposix=true, d_sigaction=define
    useithreads=undef, usemultiplicity=undef
    useperlio=define, d_sfio=undef, uselargefiles=define, usesocks=undef
    use64bitint=define, use64bitall=undef, uselongdouble=undef
    usemymalloc=n, bincompat5005=undef
  Compiler:
    cc='gcc', ccflags ='-DPTR_IS_LONG -fno-strict-aliasing -pipe -I/usr/local/include -D_LARGEFILE_SOURCE -D_FILE_OFFSET_BITS=64 -DPERL_USE_SAFE_PUTENV -DPERL_USE_SAFE_PUTENV',
    optimize='-O',
    cppflags='-DPTR_IS_LONG -fno-strict-aliasing -pipe -I/usr/local/include'
    ccversion='', gccversion='3.4.6', gccosandvers='solaris2.10'
    intsize=4, longsize=4, ptrsize=4, doublesize=8, byteorder=12345678
    d_longlong=define, longlongsize=8, d_longdbl=define, longdblsize=12
    ivtype='long long', ivsize=8, nvtype='double', nvsize=8, Off_t='off_t', lseeksize=8
    alignbytes=4, prototype=define
  Linker and Libraries:
    ld='gcc', ldflags =' -L/usr/local/lib '
    libpth=/usr/local/lib /usr/lib /usr/ccs/lib
    libs=-lsocket -lnsl -ldl -lm -lc
    perllibs=-lsocket -lnsl -ldl -lm -lc
    libc=/lib/libc.so, so=so, useshrplib=false, libperl=libperl.a
    gnulibc_version=''
  Dynamic Linking:
    dlsrc=dl_dlopen.xs, dlext=so, d_dlsymun=undef, ccdlflags=' '
    cccdlflags='-fPIC', lddlflags='-G -L/usr/local/lib'


Characteristics of this binary (from libperl): 
  Compile-time options: PERL_DONT_CREATE_GVSV PERL_MALLOC_WRAP
                        PERL_USE_SAFE_PUTENV USE_64_BIT_INT USE_LARGE_FILES
                        USE_PERLIO
  Built under solaris
  Compiled at Mar  1 2011 16:15:56
  %ENV:
    PERL5LIB=""
    PERL5OPT=""
    PERL5_CPANPLUS_IS_RUNNING="10180"
    PERL5_CPAN_IS_RUNNING="10180"
    PERL5_CPAN_IS_RUNNING_IN_RECURSION="3991,10180"
    PERL_CR_SMOKER_CURRENT="DateTime-Format-Pg-0.16007"
    PERL_EXTUTILS_AUTOINSTALL="--defaultdeps"
    PERL_MM_USE_DEFAULT="1"
  @INC:
    /export/home/cpantest/perl5/lib/5.10.1/i86pc-solaris-64int
    /export/home/cpantest/perl5/lib/5.10.1
    /export/home/cpantest/perl5/lib/site_perl/5.10.1/i86pc-solaris-64int
    /export/home/cpantest/perl5/lib/site_perl/5.10.1
    /export/home/cpantest/perl5/lib/site_perl/5.10.0/i86pc-solaris-64int
    /export/home/cpantest/perl5/lib/site_perl/5.10.0
    /export/home/cpantest/perl5/lib/site_perl
    .