Starman v0.4017 Perl 5 v5.39.6 x86_64-linux-thread-multi

Status
Pass
From
Andreas J. König (ANDK)
Dist
Starman v0.4017
Platform
Perl 5 v5.39.6 x86_64-linux-thread-multi
Date
2024-02-21 20:05:35
ID
92fc6bf4-d0f4-11ee-9067-6aa5e377df82
This distribution has been tested as part of the CPAN Testers
project, supporting the Perl programming language.  See
http://wiki.cpantesters.org/ for more information or email
questions to cpan-testers-discuss@perl.org


--
Dear Tatsuhiko Miyagawa,

This is a computer-generated report for Starman-0.4017
on perl 5.39.6, created by CPAN-Reporter-1.2019.

Thank you for uploading your work to CPAN.  Congratulations!
All tests were successful.

Sections of this report:

    * Tester comments
    * Program output
    * Prerequisites
    * Environment and other context

------------------------------
TESTER COMMENTS
------------------------------

Additional comments from tester:

this report is from an automated smoke testing program
and was not reviewed by a human for accuracy

------------------------------
PROGRAM OUTPUT
------------------------------

Output from './Build test':

t/00_compile.t ........... ok
t/author-pod-syntax.t .... skipped: these tests are for testing by the author
2024/02/21-21:04:37 Starman::Server (type Net::Server::PreFork) starting! pid(3962964)
Binding to TCP port 46593 on host 127.0.0.1 with IPv4
Setting gid to "1005 1005 1005"
2024/02/21-21:04:37 Server closing!
t/chunked_req.t .......... ok
t/chunked_termination.t .. ok
2024/02/21-21:04:38 Starman::Server (type Net::Server::PreFork) starting! pid(3962974)
Binding to TCP port 40759 on host 127.0.0.1 with IPv4
Setting gid to "1005 1005 1005"
2024/02/21-21:04:38 Server closing!
t/chunked_zero_length.t .. ok
2024/02/21-21:04:38 Starman::Server (type Net::Server::PreFork) starting! pid(3962981)
Binding to TCP port 36969 on host 127.0.0.1 with IPv4
Setting gid to "1005 1005 1005"
2024/02/21-21:04:38 Server closing!
t/early-hints.t .......... ok
2024/02/21-21:04:39 Starman::Server (type Net::Server::PreFork) starting! pid(3962988)
Binding to TCP port 37073 on host 127.0.0.1 with IPv4
Setting gid to "1005 1005 1005"
2024/02/21-21:04:40 Server closing!
t/eintr.t ................ ok
2024/02/21-21:04:40 Starman::Server (type Net::Server::PreFork) starting! pid(3962996)
Binding to TCP port 34811 on host 127.0.0.1 with IPv4
Setting gid to "1005 1005 1005"
2024/02/21-21:04:40 Server closing!
t/expect.t ............... ok
2024/02/21-21:04:41 Starman::Server (type Net::Server::PreFork) starting! pid(3963005)
Binding to TCP port 37775 on host 127.0.0.1 with IPv4
Setting gid to "1005 1005 1005"
2024/02/21-21:04:41 Server closing!
2024/02/21-21:04:41 Starman::Server (type Net::Server::PreFork) starting! pid(3963011)
Binding to TCP port 46501 on host 127.0.0.1 with IPv4
Setting gid to "1005 1005 1005"
2024/02/21-21:04:41 Server closing!
t/harakiri.t ............. ok
2024/02/21-21:04:42 Starman::Server (type Net::Server::PreFork) starting! pid(3963036)
Binding to TCP port 38963 on host 127.0.0.1 with IPv4
Setting gid to "1005 1005 1005"
2024/02/21-21:04:42 Server closing!
t/lf_only_request.t ...... ok
2024/02/21-21:04:42 Starman::Server (type Net::Server::PreFork) starting! pid(3963043)
Binding to TCP port 37559 on host 127.0.0.1 with IPv4
Setting gid to "1005 1005 1005"
2024/02/21-21:04:42 Server closing!
t/no_chunked_head.t ...... ok
t/release-findbin.t ...... skipped: these tests are for release candidate testing
t/release-rand.t ......... skipped: these tests are for release candidate testing
2024/02/21-21:04:43 Starman::Server (type Net::Server::PreFork) starting! pid(3963052)
Binding to TCP port 42777 on host 127.0.0.1 with IPv4
Setting gid to "1005 1005 1005"
2024/02/21-21:04:43 Server closing!
t/single_zero.t .......... ok
2024/02/21-21:04:43 Starman::Server (type Net::Server::PreFork) starting! pid(3963059)
Resolved [localhost]:38919 to [::1]:38919, IPv6
Resolved [localhost]:38919 to [127.0.0.1]:38919, IPv4
Binding to SSL port 38919 on host ::1 with IPv6
Binding to SSL port 38919 on host 127.0.0.1 with IPv4
Setting gid to "1005 1005 1005"
Passed serialize value of none is incompatible with multiple ports - using default serialize
Could not finalize SSL connection with client handle (SSL accept attempt failed error:0A000126:SSL routines::unexpected eof while reading)
2024/02/21-21:04:44 Server closing!
t/ssl.t .................. ok
2024/02/21-21:04:44 Starman::Server (type Net::Server::PreFork) starting! pid(3963069)
Resolved [localhost]:42391 to [::1]:42391, IPv6
Resolved [localhost]:42391 to [127.0.0.1]:42391, IPv4
Binding to SSL port 42391 on host ::1 with IPv6
Binding to SSL port 42391 on host 127.0.0.1 with IPv4
Setting gid to "1005 1005 1005"
Passed serialize value of none is incompatible with multiple ports - using default serialize
Could not finalize SSL connection with client handle (SSL accept attempt failed error:0A000126:SSL routines::unexpected eof while reading)
2024/02/21-21:04:44 Server closing!
t/ssl_largebody.t ........ ok
2024/02/21-21:04:45 Starman::Server (type Net::Server::PreFork) starting! pid(3963077)
Binding to TCP port 38243 on host 127.0.0.1 with IPv4
Setting gid to "1005 1005 1005"
2024/02/21-21:04:45 Server closing!
t/suite.t ................ ok
All tests successful.
Files=17, Tests=125,  8 wallclock secs ( 0.08 usr  0.06 sys +  3.68 cusr  1.65 csys =  5.47 CPU)
Result: PASS

------------------------------
PREREQUISITES
------------------------------

Prerequisite modules loaded:

requires:

    Module              Need     Have    
    ------------------- -------- --------
    Data::Dump          0        1.25    
    HTTP::Date          0        6.06    
    HTTP::Parser::XS    0        0.17    
    HTTP::Status        0        6.45    
    Net::Server         2.007    2.014   
    parent              0        0.241   
    perl                5.008001 5.039006
    Plack               0.9971   1.0051  
    Test::TCP           2.00     2.22    

build_requires:

    Module              Need     Have    
    ------------------- -------- --------
    LWP::UserAgent      0        6.76    
    Test::More          0        1.302198
    Test::Requires      0        0.11    

configure_requires:

    Module              Need     Have    
    ------------------- -------- --------
    Module::Build::Tiny 0.034    0.047   


------------------------------
ENVIRONMENT AND OTHER CONTEXT
------------------------------

Environment variables:

    AUTOMATED_TESTING = 1
    LANG = en_US.UTF-8
    LANGUAGE = en_US:en
    PATH = /home/sand/bin:/usr/local/bin:/usr/bin:/bin:/usr/games:/usr/local/perl/bin:/usr/X11/bin:/sbin:/usr/sbin
    PERL5LIB = 
    PERL5OPT = 
    PERL5_CPANPLUS_IS_RUNNING = 3944808
    PERL5_CPAN_IS_RUNNING = 3944808
    PERL_CANARY_STABILITY_NOPROMPT = 1
    PERL_MM_USE_DEFAULT = 1
    PERL_USE_UNSAFE_INC = 1
    SHELL = /usr/bin/zsh
    TERM = screen

Perl special variables (and OS-specific diagnostics, for MSWin32):

    $^X = /home/sand/src/perl/repoperls/installed-perls/host/k93msid/v5.39.6/29fb/bin/perl
    $UID/$EUID = 1005 / 1005
    $GID = 1005 1005
    $EGID = 1005 1005

Perl module toolchain versions installed:

    Module              Have    
    ------------------- --------
    CPAN                2.36    
    CPAN::Meta          2.150010
    Cwd                 3.90    
    ExtUtils::CBuilder  0.280240
    ExtUtils::Command   7.70    
    ExtUtils::Install   2.22    
    ExtUtils::MakeMaker 7.70    
    ExtUtils::Manifest  1.75    
    ExtUtils::ParseXS   3.51    
    File::Spec          3.90    
    JSON                4.10    
    JSON::PP            4.16    
    Module::Build       0.4234  
    Module::Signature   0.88    
    Parse::CPAN::Meta   2.150010
    Test2               1.302198
    Test::Harness       3.48    
    Test::More          1.302198
    YAML                1.31    
    YAML::Syck          1.34    
    version             0.9930  


--

Summary of my perl5 (revision 5 version 39 subversion 6) configuration:
  Commit id: 19d146d89647634621ee2291d0baa267addfef3d
  Platform:
    osname=linux
    osvers=6.5.0-5-amd64
    archname=x86_64-linux-thread-multi
    uname='linux k93msid 6.5.0-5-amd64 #1 smp preempt_dynamic debian 6.5.13-1 (2023-11-29) x86_64 gnulinux '
    config_args='-Dprefix=/home/sand/src/perl/repoperls/installed-perls/host/k93msid/v5.39.6/29fb -Dmyhostname=k93msid -Dinstallusrbinperl=n -Uversiononly -Dusedevel -des -Ui_db -Dlibswanted=cl pthread socket inet nsl gdbm dbm malloc dl ld sun m crypt sec util c cposix posix ucb BSD gdbm_compat -Duseithreads -Uuselongdouble -DEBUGGING=both'
    hint=recommended
    useposix=true
    d_sigaction=define
    useithreads=define
    usemultiplicity=define
    use64bitint=define
    use64bitall=define
    uselongdouble=undef
    usemymalloc=n
    default_inc_excludes_dot=define
  Compiler:
    cc='cc'
    ccflags ='-D_REENTRANT -D_GNU_SOURCE -fwrapv -DDEBUGGING -fno-strict-aliasing -pipe -fstack-protector-strong -I/usr/local/include -D_LARGEFILE_SOURCE -D_FILE_OFFSET_BITS=64 -D_FORTIFY_SOURCE=2'
    optimize='-O2 -g'
    cppflags='-D_REENTRANT -D_GNU_SOURCE -fwrapv -DDEBUGGING -fno-strict-aliasing -pipe -fstack-protector-strong -I/usr/local/include'
    ccversion=''
    gccversion='13.2.0'
    gccosandvers=''
    intsize=4
    longsize=8
    ptrsize=8
    doublesize=8
    byteorder=12345678
    doublekind=3
    d_longlong=define
    longlongsize=8
    d_longdbl=define
    longdblsize=16
    longdblkind=3
    ivtype='long'
    ivsize=8
    nvtype='double'
    nvsize=8
    Off_t='off_t'
    lseeksize=8
    alignbytes=8
    prototype=define
  Linker and Libraries:
    ld='cc'
    ldflags =' -fstack-protector-strong -L/usr/local/lib'
    libpth=/usr/local/lib /usr/lib/x86_64-linux-gnu /usr/lib /usr/lib64
    libs=-lpthread -lnsl -ldl -lm -lcrypt -lutil -lc
    perllibs=-lpthread -lnsl -ldl -lm -lcrypt -lutil -lc
    libc=/lib/x86_64-linux-gnu/libc.so.6
    so=so
    useshrplib=false
    libperl=libperl.a
    gnulibc_version='2.37'
  Dynamic Linking:
    dlsrc=dl_dlopen.xs
    dlext=so
    d_dlsymun=undef
    ccdlflags='-Wl,-E'
    cccdlflags='-fPIC'
    lddlflags='-shared -O2 -g -L/usr/local/lib -fstack-protector-strong'


Characteristics of this binary (from libperl): 
  Compile-time options:
    DEBUGGING
    HAS_LONG_DOUBLE
    HAS_STRTOLD
    HAS_TIMES
    MULTIPLICITY
    PERLIO_LAYERS
    PERL_COPY_ON_WRITE
    PERL_DONT_CREATE_GVSV
    PERL_HASH_FUNC_SIPHASH13
    PERL_HASH_USE_SBOX32
    PERL_MALLOC_WRAP
    PERL_OP_PARENT
    PERL_PRESERVE_IVUV
    PERL_TRACK_MEMPOOL
    PERL_USE_DEVEL
    PERL_USE_SAFE_PUTENV
    USE_64_BIT_ALL
    USE_64_BIT_INT
    USE_ITHREADS
    USE_LARGE_FILES
    USE_LOCALE
    USE_LOCALE_COLLATE
    USE_LOCALE_CTYPE
    USE_LOCALE_NUMERIC
    USE_LOCALE_TIME
    USE_PERLIO
    USE_PERL_ATOF
    USE_REENTRANT_API
    USE_THREAD_SAFE_LOCALE
  Built under linux
  Compiled at Dec 31 2023 03:46:54
  %ENV:
    PERL5LIB=""
    PERL5OPT=""
    PERL5_CPANPLUS_IS_RUNNING="3944808"
    PERL5_CPAN_IS_RUNNING="3944808"
    PERL_CANARY_STABILITY_NOPROMPT="1"
    PERL_MM_USE_DEFAULT="1"
    PERL_USE_UNSAFE_INC="1"
  @INC:
    /home/sand/src/perl/repoperls/installed-perls/host/k93msid/v5.39.6/29fb/lib/site_perl/5.39.6/x86_64-linux-thread-multi
    /home/sand/src/perl/repoperls/installed-perls/host/k93msid/v5.39.6/29fb/lib/site_perl/5.39.6
    /home/sand/src/perl/repoperls/installed-perls/host/k93msid/v5.39.6/29fb/lib/5.39.6/x86_64-linux-thread-multi
    /home/sand/src/perl/repoperls/installed-perls/host/k93msid/v5.39.6/29fb/lib/5.39.6
    .