CTKlib v2.09 Perl 5 v5.38.2 aarch64-freebsd
- Status
- Pass
- From
- Slaven Rezić
- Dist
-
CTKlib v2.09
- Platform
- Perl 5 v5.38.2 aarch64-freebsd
- Date
- 2023-12-13 21:07:07
- ID
- 9329e3a2-99fb-11ee-ab3e-e2f86d8775ea
This distribution has been tested as part of the CPAN Testers
project, supporting the Perl programming language. See
http://wiki.cpantesters.org/ for more information or email
questions to cpan-testers-discuss@perl.org
--
Dear Sergey Lepenkov,
This is a computer-generated report for CTKlib-2.09
on perl 5.38.2, created by CPAN-Reporter-1.2019.
Thank you for uploading your work to CPAN. Congratulations!
All tests were successful.
Sections of this report:
* Tester comments
* Program output
* Prerequisites
* Environment and other context
------------------------------
TESTER COMMENTS
------------------------------
Additional comments from tester:
none provided
------------------------------
PROGRAM OUTPUT
------------------------------
Output from '/usr/bin/make test':
"/usr/perl5.38.2/bin/perl" -MExtUtils::Command::MM -e 'cp_nonempty' -- CTK.bs blib/arch/auto/CTK/CTK.bs 644
PERL_DL_NONLAZY=1 "/usr/perl5.38.2/bin/perl" "-MExtUtils::Command::MM" "-MTest::Harness" "-e" "undef *Test::Harness::Switches; test_harness(0, 'blib/lib', 'blib/arch')" t/*.t
t/00-distribution.t .... skipped: Currently a developer-only test
t/00-fixme.t ........... skipped: requires Test::Fixme to run
t/00-pod-coverage.t .... skipped: Currently a developer-only test
t/00-pod.t ............. skipped: Currently a developer-only test
t/00-trailingspace.t ... skipped: Test::TrailingSpace required for trailing space test
t/01-use.t ............. ok
t/02-default.t ......... ok
t/03-xsutil.t .......... ok
t/04-ctkx.t ............ ok
t/05-helper.t .......... ok
t/06-format.t .......... ok
t/07-cgu_void.t ........ ok
t/08-tfvals.t .......... ok
t/09-configuration.t ... ok
t/10-log.t ............. ok
t/11-plugins.t ......... ok
t/12-app.t ............. ok
t/13-void.t ............ ok
t/14-plugin-file.t ..... skipped: Currently a developer-only test
t/15-flags.t ........... ok
t/16-plugin-archive.t .. skipped: Currently a developer-only test
t/17-crypt-tcd04.t ..... ok
t/18-crypt.t ........... skipped: Currently a developer-only test
t/19-crypt-gpg.t ....... skipped: Currently a developer-only test
t/20-plugin-net.t ...... skipped: Currently a developer-only test
t/21-sendmail.t ........ skipped: Currently a developer-only test
t/22-dbi.t ............. skipped: Currently a developer-only test
t/23-attrs.t ........... ok
t/24-digest.t .......... ok
t/25-plugins-ext.t ..... skipped: Currently a developer-only test
t/26-filepid.t ......... ok
t/27-timeout.t ......... ok
t/28-cgu-lvalue.t ...... ok
All tests successful.
Files=33, Tests=160, 5 wallclock secs ( 0.11 usr 0.09 sys + 3.05 cusr 0.70 csys = 3.95 CPU)
Result: PASS
------------------------------
PREREQUISITES
------------------------------
Prerequisite modules loaded:
requires:
Module Need Have
--------------------- -------- --------
Class::Singleton 1.4 1.6
Config::General 2 2.65
DBI 1.63 1.643
ExtUtils::MakeMaker 6.6 7.70
File::Copy 2 2.41
File::Copy::Recursive 0.38 0.45
File::Find 0 1.43
File::Path 2 2.18
File::Spec 0.82 3.88
File::Temp 0 0.2311
IO 0 1.52
IO::String 1.08 1.08
IPC::Open3 1 1.22
JSON 2.9 4.10
List::Util 1.45 1.63
MIME::Base64 3 3.16_01
MIME::Lite 3 3.033
Net::FTP 2.6 3.15
perl 5.016001 5.038002
Perl::OSType 1 1.010
Symbol 1.05 1.09
Sys::Syslog 0 0.36
Term::ANSIColor 4.03 5.01
Text::SimpleTable 2 2.07
Time::HiRes 1.97 1.9775
Time::Local 1.2 1.30
Try::Tiny 0.27 0.31
URI 1.6 5.21
XML::Simple 2.22 2.25
XSLoader 0.01 0.32
YAML 0.73 1.30
YAML::XS 0.4 0.88
build_requires:
Module Need Have
--------------------- -------- --------
Test::Simple 1 1.302194
configure_requires:
Module Need Have
--------------------- -------- --------
ExtUtils::MakeMaker 0 7.70
------------------------------
ENVIRONMENT AND OTHER CONTEXT
------------------------------
Environment variables:
LANG = C.UTF-8
PATH = /usr/local/bin:/usr/bin:/bin:/usr/local/sbin:/usr/sbin:/sbin:/home/cpansand/bin/sh:/home/cpansand/bin:/usr/games:/home/cpansand/devel:/home/eserte/src/srezic-misc/scripts
PERL5LIB = /home/cpansand/.cpan/build/2023121320/Text-SimpleTable-2.07-0/blib/arch:/home/cpansand/.cpan/build/2023121320/Text-SimpleTable-2.07-0/blib/lib
PERL5OPT =
PERL5_CPANPLUS_IS_RUNNING = 27521
PERL5_CPAN_IS_RUNNING = 27521
PERL5_CPAN_IS_RUNNING_IN_RECURSION = 24138,27521
PERL_BATCH = yes
PERL_CANARY_STABILITY_NOPROMPT = 1
PERL_CPAN_REPORTER_CONFIG = /var/tmp/cpansmoker-1023/2023121320/cpanreporter_000_config.ini
PERL_EXTUTILS_AUTOINSTALL = --defaultdeps
PERL_USE_UNSAFE_INC = 1
SHELL = /bin/sh
TMPDIR = /var/tmp/cpansmoker-1023/2023121320
Perl special variables (and OS-specific diagnostics, for MSWin32):
$^X = /usr/perl5.38.2/bin/perl
$UID/$EUID = 1023 / 1023
$GID = 1023 1023
$EGID = 1023 1023
Perl module toolchain versions installed:
Module Have
------------------- --------
CPAN 2.36
CPAN::Meta 2.150010
Cwd 3.89
ExtUtils::CBuilder 0.280238
ExtUtils::Command 7.70
ExtUtils::Install 2.22
ExtUtils::MakeMaker 7.70
ExtUtils::Manifest 1.73
ExtUtils::ParseXS 3.51
File::Spec 3.88
JSON 4.10
JSON::PP 4.16
Module::Build 0.4234
Module::Signature n/a
Parse::CPAN::Meta 2.150010
Test2 1.302194
Test::Harness 3.44
Test::More 1.302194
YAML 1.30
YAML::Syck 1.34
version 0.9929
--
Summary of my perl5 (revision 5 version 38 subversion 2) configuration:
Platform:
osname=freebsd
osvers=14.0-stable
archname=aarch64-freebsd
uname='freebsd cloud9.bbbike.org 14.0-stable freebsd 14.0-stable #0 stable14-8e41bbf24: mon dec 11 17:05:58 utc 2023 root@cloud9.bbbike.org:usrobjhomeprojectsfreebsd-srcarm64.aarch64sysgeneric arm64 '
config_args='-ds -e -Dprefix=/usr/perl5.38.2 -Dcf_email=srezic@cpan.org -Doptimize=-O2 -pipe'
hint=recommended
useposix=true
d_sigaction=define
useithreads=undef
usemultiplicity=undef
use64bitint=define
use64bitall=define
uselongdouble=undef
usemymalloc=n
default_inc_excludes_dot=define
Compiler:
cc='cc'
ccflags ='-DHAS_FPSETMASK -DHAS_FLOATINGPOINT_H -fno-strict-aliasing -pipe -fstack-protector-strong -I/usr/local/include'
optimize='-O2 -pipe'
cppflags='-DHAS_FPSETMASK -DHAS_FLOATINGPOINT_H -fno-strict-aliasing -pipe -fstack-protector-strong -I/usr/local/include'
ccversion=''
gccversion='FreeBSD Clang 16.0.6 (https://github.com/llvm/llvm-project.git llvmorg-16.0.6-0-g7cbf1a259152)'
gccosandvers=''
intsize=4
longsize=8
ptrsize=8
doublesize=8
byteorder=12345678
doublekind=3
d_longlong=define
longlongsize=8
d_longdbl=define
longdblsize=16
longdblkind=1
ivtype='long'
ivsize=8
nvtype='double'
nvsize=8
Off_t='off_t'
lseeksize=8
alignbytes=8
prototype=define
Linker and Libraries:
ld='cc'
ldflags ='-Wl,-E -fstack-protector-strong -L/usr/local/lib'
libpth=/usr/lib /usr/local/lib /usr/lib/clang/16/lib
libs=-lpthread -lgdbm -ldl -lm -lcrypt -lutil -lc
perllibs=-lpthread -ldl -lm -lcrypt -lutil -lc
libc=
so=so
useshrplib=false
libperl=libperl.a
gnulibc_version=''
Dynamic Linking:
dlsrc=dl_dlopen.xs
dlext=so
d_dlsymun=undef
ccdlflags=' '
cccdlflags='-DPIC -fPIC'
lddlflags='-shared -L/usr/local/lib -fstack-protector-strong'
Characteristics of this binary (from libperl):
Compile-time options:
HAS_LONG_DOUBLE
HAS_STRTOLD
HAS_TIMES
PERLIO_LAYERS
PERL_COPY_ON_WRITE
PERL_DONT_CREATE_GVSV
PERL_HASH_FUNC_SIPHASH13
PERL_HASH_USE_SBOX32
PERL_MALLOC_WRAP
PERL_OP_PARENT
PERL_PRESERVE_IVUV
PERL_USE_SAFE_PUTENV
USE_64_BIT_ALL
USE_64_BIT_INT
USE_LARGE_FILES
USE_LOCALE
USE_LOCALE_COLLATE
USE_LOCALE_CTYPE
USE_LOCALE_NUMERIC
USE_LOCALE_TIME
USE_PERLIO
USE_PERL_ATOF
Built under freebsd
Compiled at Dec 11 2023 18:41:09
%ENV:
PERL5LIB="/home/cpansand/.cpan/build/2023121320/Text-SimpleTable-2.07-0/blib/arch:/home/cpansand/.cpan/build/2023121320/Text-SimpleTable-2.07-0/blib/lib"
PERL5OPT=""
PERL5_CPANPLUS_IS_RUNNING="27521"
PERL5_CPAN_IS_RUNNING="27521"
PERL5_CPAN_IS_RUNNING_IN_RECURSION="24138,27521"
PERL_BATCH="yes"
PERL_CANARY_STABILITY_NOPROMPT="1"
PERL_CPAN_REPORTER_CONFIG="/var/tmp/cpansmoker-1023/2023121320/cpanreporter_000_config.ini"
PERL_EXTUTILS_AUTOINSTALL="--defaultdeps"
PERL_USE_UNSAFE_INC="1"
@INC:
/home/cpansand/.cpan/build/2023121320/Text-SimpleTable-2.07-0/blib/arch
/home/cpansand/.cpan/build/2023121320/Text-SimpleTable-2.07-0/blib/lib
/usr/perl5.38.2/lib/site_perl/5.38.2/aarch64-freebsd
/usr/perl5.38.2/lib/site_perl/5.38.2
/usr/perl5.38.2/lib/5.38.2/aarch64-freebsd
/usr/perl5.38.2/lib/5.38.2
.