Back
From: metabase:user:e3434da8-b236-11df-85ca-0247c6d74bde
Subject: PASS Nagios-Scrape-0.03 v5.8.9 GNU/Linux
Date: 2010-10-14T11:24:14Z
This distribution has been tested as part of the CPAN Testers
project, supporting the Perl programming language. See
http://wiki.cpantesters.org/ for more information or email
questions to cpan-testers-discuss@perl.org
--
Dear Joe Topjian,
This is a computer-generated report for Nagios-Scrape-0.03
on perl 5.8.9, created by CPAN-Reporter-1.1803.
Thank you for uploading your work to CPAN. Congratulations!
All tests were successful.
Sections of this report:
* Tester comments
* Program output
* Prerequisites
* Environment and other context
------------------------------
TESTER COMMENTS
------------------------------
Additional comments from tester:
this report is from an automated smoke testing program
and was not reviewed by a human for accuracy
------------------------------
PROGRAM OUTPUT
------------------------------
Output from './Build test':
t/00-load.........# Testing Nagios::Scrape 0.03, Perl 5.008009, /home/cpt3/testing/perl-5.8.9/bin/perl
ok
t/manifest........skipped
all skipped: Author tests not required for installation
t/pod-coverage....skipped
all skipped: Test::Pod::Coverage 1.08 required for testing POD coverage
t/pod.............skipped
all skipped: Test::Pod 1.22 required for testing POD
t/scrape..........ok
1/17 skipped: various reasons
All tests successful, 3 tests and 1 subtest skipped.
Files=5, Tests=18, 0 wallclock secs ( 0.15 cusr + 0.02 csys = 0.17 CPU)
------------------------------
PREREQUISITES
------------------------------
Prerequisite modules loaded:
requires:
Module Need Have
--------------- ---- -------
CGI 0 3.42
Error 0 0.17016
LWP::UserAgent 0 5.835
build_requires:
Module Need Have
--------------- ---- -------
Test::Exception 0 0.31
Test::More 0 0.80
------------------------------
ENVIRONMENT AND OTHER CONTEXT
------------------------------
Environment variables:
AUTOMATED_TESTING = 1
LANG = en_US.utf8
PATH = /usr/local/bin:/usr/bin:/bin:/usr/local/games:/usr/games
PERL5LIB = /home/cpt3/.cpan/build/Error-0.17016-AyhISg/blib/arch:/home/cpt3/.cpan/build/Error-0.17016-AyhISg/blib/lib
PERL5OPT =
PERL5_CPANPLUS_IS_RUNNING = 20280
PERL5_CPAN_IS_RUNNING = 20280
PERL5_CPAN_IS_RUNNING_IN_RECURSION = 2641,20280
PERL_CR_SMOKER_CURRENT = Nagios-Scrape-0.03
PERL_EXTUTILS_AUTOINSTALL = --defaultdeps
PERL_MM_USE_DEFAULT = 1
SHELL = /bin/bash
TERM = screen
Perl special variables (and OS-specific diagnostics, for MSWin32):
$^X = /home/cpt3/testing/perl-5.8.9/bin/perl
$UID/$EUID = 1004 / 1004
$GID = 1004 20 24 25 27 29 30 44 46 100 103 111 113 114 1004
$EGID = 1004 20 24 25 27 29 30 44 46 100 103 111 113 114 1004
Perl module toolchain versions installed:
Module Have
------------------- -------
CPAN 1.9301
Cwd 3.29
ExtUtils::CBuilder 0.2703
ExtUtils::Command 1.15
ExtUtils::Install 1.50_01
ExtUtils::MakeMaker 6.48
ExtUtils::Manifest 1.55
ExtUtils::ParseXS 2.19
File::Spec 3.29
Module::Build 0.3607
Module::Signature n/a
Test::Harness 2.64
Test::More 0.80
YAML 0.72
YAML::Syck n/a
version n/a
--
Summary of my perl5 (revision 5 version 8 subversion 9) configuration:
Platform:
osname=linux, osvers=2.6.35-4.slh.9-aptosid-686, archname=i686-linux
uname='linux firenze 2.6.35-4.slh.9-aptosid-686 #1 smp preempt mon sep 13 16:40:35 utc 2010 i686 gnulinux '
config_args='-Dprefix=/home/cpt3/testing/perl-5.8.9'
hint=recommended, useposix=true, d_sigaction=define
usethreads=undef use5005threads=undef useithreads=undef usemultiplicity=undef
useperlio=define d_sfio=undef uselargefiles=define usesocks=undef
use64bitint=undef use64bitall=undef uselongdouble=undef
usemymalloc=n, bincompat5005=undef
Compiler:
cc='cc', ccflags ='-fno-strict-aliasing -pipe -I/usr/local/include -D_LARGEFILE_SOURCE -D_FILE_OFFSET_BITS=64',
optimize='-O2',
cppflags='-fno-strict-aliasing -pipe -I/usr/local/include'
ccversion='', gccversion='4.4.5', gccosandvers=''
intsize=4, longsize=4, ptrsize=4, doublesize=8, byteorder=1234
d_longlong=define, longlongsize=8, d_longdbl=define, longdblsize=12
ivtype='long', ivsize=4, nvtype='double', nvsize=8, Off_t='off_t', lseeksize=8
alignbytes=4, prototype=define
Linker and Libraries:
ld='cc', ldflags =' -L/usr/local/lib'
libpth=/usr/local/lib /lib /usr/lib
libs=-lnsl -lgdbm -ldb -ldl -lm -lcrypt -lutil -lc
perllibs=-lnsl -ldl -lm -lcrypt -lutil -lc
libc=/lib/libc-2.11.2.so, so=so, useshrplib=false, libperl=libperl.a
gnulibc_version='2.11.2'
Dynamic Linking:
dlsrc=dl_dlopen.xs, dlext=so, d_dlsymun=undef, ccdlflags='-Wl,-E'
cccdlflags='-fPIC', lddlflags='-shared -O2 -L/usr/local/lib'
Characteristics of this binary (from libperl):
Compile-time options: PERL_MALLOC_WRAP USE_FAST_STDIO USE_LARGE_FILES
USE_PERLIO
Built under linux
Compiled at Oct 11 2010 12:18:13
%ENV:
PERL5LIB="/home/cpt3/.cpan/build/Error-0.17016-AyhISg/blib/arch:/home/cpt3/.cpan/build/Error-0.17016-AyhISg/blib/lib"
PERL5OPT=""
PERL5_CPANPLUS_IS_RUNNING="20280"
PERL5_CPAN_IS_RUNNING="20280"
PERL5_CPAN_IS_RUNNING_IN_RECURSION="2641,20280"
PERL_CR_SMOKER_CURRENT="Nagios-Scrape-0.03"
PERL_EXTUTILS_AUTOINSTALL="--defaultdeps"
PERL_MM_USE_DEFAULT="1"
@INC:
/home/cpt3/.cpan/build/Error-0.17016-AyhISg/blib/arch
/home/cpt3/.cpan/build/Error-0.17016-AyhISg/blib/lib
/home/cpt3/testing/perl-5.8.9/lib/5.8.9/i686-linux
/home/cpt3/testing/perl-5.8.9/lib/5.8.9
/home/cpt3/testing/perl-5.8.9/lib/site_perl/5.8.9/i686-linux
/home/cpt3/testing/perl-5.8.9/lib/site_perl/5.8.9
.