Dancer-Session-Cookie v0.29 Perl 5 v5.27.9 amd64-freebsd

Status
Pass
From
Slaven Rezić (SREZIC)
Dist
Dancer-Session-Cookie v0.29
Platform
Perl 5 v5.27.9 amd64-freebsd
Date
2018-02-22 23:31:58
ID
934ea620-1828-11e8-a5bb-b0d86b8adac6
This distribution has been tested as part of the CPAN Testers
project, supporting the Perl programming language.  See
http://wiki.cpantesters.org/ for more information or email
questions to cpan-testers-discuss@perl.org


--
Dear Yanick Champoux,

This is a computer-generated report for Dancer-Session-Cookie-0.29
on perl 5.27.9, created by CPAN-Reporter-1.2018.

Thank you for uploading your work to CPAN.  Congratulations!
All tests were successful.

Sections of this report:

    * Tester comments
    * Program output
    * Prerequisites
    * Environment and other context

------------------------------
TESTER COMMENTS
------------------------------

Additional comments from tester:

none provided

------------------------------
PROGRAM OUTPUT
------------------------------

Output from '/usr/bin/make test':

PERL_DL_NONLAZY=1 "/usr/perl5.27.9p/bin/perl5.27.9" "-MExtUtils::Command::MM" "-MTest::Harness" "-e" "undef *Test::Harness::Switches; test_harness(0, 'blib/lib', 'blib/arch')" t/*.t
t/00-compile.t ............... ok
# 
# Versions for all modules listed in MYMETA.json (including optional ones):
# 
# === Configure Requires ===
# 
#     Module              Want Have
#     ------------------- ---- ----
#     ExtUtils::MakeMaker  any 7.32
# 
# === Build Requires ===
# 
#     Module              Want Have
#     ------------------- ---- ----
#     ExtUtils::MakeMaker  any 7.32
# 
# === Test Requires ===
# 
#     Module                  Want     Have
#     --------------------- ------ --------
#     Dancer::ModuleLoader     any   1.3202
#     Dancer::Test             any   1.3202
#     ExtUtils::MakeMaker      any     7.32
#     File::Spec               any     3.74
#     File::Temp               any   0.2304
#     FindBin                  any     1.51
#     HTTP::Cookies            any     6.04
#     HTTP::Date               any     6.02
#     HTTP::Request::Common    any     6.14
#     IO::Handle               any     1.37
#     IPC::Open3               any     1.20
#     Plack                 1.0029   1.0047
#     Plack::Test              any    undef
#     Test::Exception          any     0.43
#     Test::More              0.96 1.302122
#     Test::NoWarnings         any     1.04
#     Test::Requires           any     0.10
# 
# === Test Recommends ===
# 
#     Module         Want     Have
#     ---------- -------- --------
#     CPAN::Meta 2.120900 2.150010
# 
# === Runtime Requires ===
# 
#     Module                      Want   Have
#     ------------------------- ------ ------
#     Crypt::CBC                   any   2.33
#     Crypt::Rijndael              any   1.13
#     Dancer                    1.3113 1.3202
#     Dancer::Cookie               any 1.3202
#     Dancer::Cookies              any 1.3202
#     Dancer::Session::Abstract    any 1.3202
#     MIME::Base64                 any   3.15
#     Session::Storage::Secure   0.010  0.010
#     Storable                     any   3.06
#     String::CRC32                any    1.6
#     Time::Duration::Parse        any   0.13
#     base                         any   2.27
#     strict                       any   1.11
#     warnings                     any   1.41
# 
t/00-report-prereqs.t ........ ok
t/01-session.t ............... ok
t/02-configfile.t ............ ok
t/03-path.t .................. ok
t/04-session_name.t .......... ok
t/05-session_secure.t ........ ok
t/06-redirect.t .............. ok
t/redirect-session-dancer.t .. ok
t/server.t ................... ok
t/session-stealing.t ......... ok
t/store-objects.t ............ ok
All tests successful.
Files=12, Tests=47,  4 wallclock secs ( 0.05 usr  0.05 sys +  2.81 cusr  0.59 csys =  3.50 CPU)
Result: PASS

------------------------------
PREREQUISITES
------------------------------

Prerequisite modules loaded:

requires:

    Module                    Need   Have    
    ------------------------- ------ --------
    base                      0      2.27    
    Crypt::CBC                0      2.33    
    Crypt::Rijndael           0      1.13    
    Dancer                    1.3113 1.3202  
    Dancer::Cookie            0      1.3202  
    Dancer::Cookies           0      1.3202  
    Dancer::Session::Abstract 0      1.3202  
    MIME::Base64              0      3.15    
    perl                      5.008  5.027009
    Session::Storage::Secure  0.010  0.010   
    Storable                  0      3.06    
    strict                    0      1.11    
    String::CRC32             0      1.6     
    Time::Duration::Parse     0      0.13    
    warnings                  0      1.41    

build_requires:

    Module                    Need   Have    
    ------------------------- ------ --------
    Dancer::ModuleLoader      0      1.3202  
    Dancer::Test              0      1.3202  
    ExtUtils::MakeMaker       0      7.32    
    File::Spec                0      3.74    
    File::Temp                0      0.2304  
    FindBin                   0      1.51    
    HTTP::Cookies             0      6.04    
    HTTP::Date                0      6.02    
    HTTP::Request::Common     0      6.14    
    IO::Handle                0      1.37    
    IPC::Open3                0      1.20    
    Plack                     1.0029 1.0047  
    Plack::Test               0      0       
    Test::Exception           0      0.43    
    Test::More                0.96   1.302122
    Test::NoWarnings          0      1.04    
    Test::Requires            0      0.10    

configure_requires:

    Module                    Need   Have    
    ------------------------- ------ --------
    ExtUtils::MakeMaker       0      7.32    


------------------------------
ENVIRONMENT AND OTHER CONTEXT
------------------------------

Environment variables:

    PATH = /usr/local/bin:/usr/bin:/bin:/usr/local/sbin:/usr/sbin:/sbin:/home/cpansand/bin/sh:/home/cpansand/bin:/usr/games:/home/cpansand/devel:/home/eserte/src/srezic-misc/scripts
    PERL = /usr/perl5.27.9p/bin/perl5.27.9
    PERL5LIB = 
    PERL5OPT = 
    PERL5_CPANPLUS_IS_RUNNING = 35897
    PERL5_CPAN_IS_RUNNING = 35897
    PERL5_CPAN_IS_RUNNING_IN_RECURSION = 48147,35897
    PERL_BATCH = yes
    PERL_CANARY_STABILITY_NOPROMPT = 1
    PERL_CPAN_REPORTER_CONFIG = /var/tmp/cpansmoker-1023/2018022303/cpanreporter_000_config.ini
    PERL_EXTUTILS_AUTOINSTALL = --defaultdeps
    PERL_USE_UNSAFE_INC = 1
    SHELL = /bin/sh
    TMPDIR = /var/tmp/cpansmoker-1023/2018022303

Perl special variables (and OS-specific diagnostics, for MSWin32):

    $^X = /usr/perl5.27.9p/bin/perl5.27.9
    $UID/$EUID = 1023 / 1023
    $GID = 1023 1023
    $EGID = 1023 1023

Perl module toolchain versions installed:

    Module              Have    
    ------------------- --------
    CPAN                2.20    
    CPAN::Meta          2.150010
    Cwd                 3.74    
    ExtUtils::CBuilder  0.280230
    ExtUtils::Command   7.32    
    ExtUtils::Install   2.14    
    ExtUtils::MakeMaker 7.32    
    ExtUtils::Manifest  1.70    
    ExtUtils::ParseXS   3.38    
    File::Spec          3.74    
    JSON                2.97001 
    JSON::PP            2.97001 
    Module::Build       0.4224  
    Module::Signature   0.81    
    Parse::CPAN::Meta   2.150010
    Test::Harness       3.39    
    Test::More          1.302122
    YAML                1.24    
    YAML::Syck          1.30    
    version             0.9918  


--

Summary of my perl5 (revision 5 version 27 subversion 9) configuration:
   
  Platform:
    osname=freebsd
    osvers=11.1-stable
    archname=amd64-freebsd
    uname='freebsd ali3.bbbike.org 11.1-stable freebsd 11.1-stable #7 8f83a69d4c9(stable11): sun feb 11 01:25:31 pst 2018 root@ali3.bbbike.org:usrobjhomeprojectsfreebsdsysgeneric amd64 '
    config_args='-ds -e -Dprefix=/usr/perl5.27.9p -Dusedevel -Dusemallocwrap=no -Dcf_email=srezic@cpan.org -Doptimize=-O2 -pipe'
    hint=recommended
    useposix=true
    d_sigaction=define
    useithreads=undef
    usemultiplicity=undef
    use64bitint=define
    use64bitall=define
    uselongdouble=undef
    usemymalloc=n
    default_inc_excludes_dot=define
    bincompat5005=undef
  Compiler:
    cc='cc'
    ccflags ='-DHAS_FPSETMASK -DHAS_FLOATINGPOINT_H -fno-strict-aliasing -pipe -fstack-protector-strong -I/usr/local/include -D_FORTIFY_SOURCE=2'
    optimize='-O2 -pipe'
    cppflags='-DHAS_FPSETMASK -DHAS_FLOATINGPOINT_H -fno-strict-aliasing -pipe -fstack-protector-strong -I/usr/local/include'
    ccversion=''
    gccversion='4.2.1 Compatible FreeBSD Clang 5.0.1 (tags/RELEASE_501/final 320880)'
    gccosandvers=''
    intsize=4
    longsize=8
    ptrsize=8
    doublesize=8
    byteorder=12345678
    doublekind=3
    d_longlong=define
    longlongsize=8
    d_longdbl=define
    longdblsize=16
    longdblkind=3
    ivtype='long'
    ivsize=8
    nvtype='double'
    nvsize=8
    Off_t='off_t'
    lseeksize=8
    alignbytes=8
    prototype=define
  Linker and Libraries:
    ld='cc'
    ldflags ='-pthread -Wl,-E  -fstack-protector-strong -L/usr/local/lib'
    libpth=/usr/lib /usr/local/lib /usr/lib/clang/5.0.1/lib /usr/lib
    libs=-lpthread -lgdbm -lm -lcrypt -lutil -lc
    perllibs=-lpthread -lm -lcrypt -lutil -lc
    libc=
    so=so
    useshrplib=false
    libperl=libperl.a
    gnulibc_version=''
  Dynamic Linking:
    dlsrc=dl_dlopen.xs
    dlext=so
    d_dlsymun=undef
    ccdlflags=' '
    cccdlflags='-DPIC -fPIC'
    lddlflags='-shared  -L/usr/local/lib -fstack-protector-strong'


Characteristics of this binary (from libperl): 
  Compile-time options:
    HAS_TIMES
    PERLIO_LAYERS
    PERL_COPY_ON_WRITE
    PERL_DONT_CREATE_GVSV
    PERL_OP_PARENT
    PERL_PRESERVE_IVUV
    PERL_USE_DEVEL
    USE_64_BIT_ALL
    USE_64_BIT_INT
    USE_LARGE_FILES
    USE_LOCALE
    USE_LOCALE_COLLATE
    USE_LOCALE_CTYPE
    USE_LOCALE_NUMERIC
    USE_LOCALE_TIME
    USE_PERLIO
    USE_PERL_ATOF
  Built under freebsd
  Compiled at Feb 21 2018 05:05:36
  %ENV:
    PERL="/usr/perl5.27.9p/bin/perl5.27.9"
    PERL5LIB=""
    PERL5OPT=""
    PERL5_CPANPLUS_IS_RUNNING="35897"
    PERL5_CPAN_IS_RUNNING="35897"
    PERL5_CPAN_IS_RUNNING_IN_RECURSION="48147,35897"
    PERL_BATCH="yes"
    PERL_CANARY_STABILITY_NOPROMPT="1"
    PERL_CPAN_REPORTER_CONFIG="/var/tmp/cpansmoker-1023/2018022303/cpanreporter_000_config.ini"
    PERL_EXTUTILS_AUTOINSTALL="--defaultdeps"
    PERL_USE_UNSAFE_INC="1"
  @INC:
    /usr/perl5.27.9p/lib/site_perl/5.27.9/amd64-freebsd
    /usr/perl5.27.9p/lib/site_perl/5.27.9
    /usr/perl5.27.9p/lib/5.27.9/amd64-freebsd
    /usr/perl5.27.9p/lib/5.27.9
    .