Back
From: metabase:user:30977d10-2aae-11df-837a-5e0a49663a4f
Subject: PASS MooseX-RemoteHelper-0.001015 v5.18.0 GNU/Linux
Date: 2013-07-27T12:32:18Z
This distribution has been tested as part of the CPAN Testers
project, supporting the Perl programming language. See
http://wiki.cpantesters.org/ for more information or email
questions to cpan-testers-discuss@perl.org
--
Dear Caleb Cushing,
This is a computer-generated report for MooseX-RemoteHelper-0.001015
on perl 5.18.0, created by CPAN-Reporter-1.2010.
Thank you for uploading your work to CPAN. Congratulations!
All tests were successful.
Sections of this report:
* Tester comments
* Program output
* Prerequisites
* Environment and other context
------------------------------
TESTER COMMENTS
------------------------------
Additional comments from tester:
this report is from an automated smoke testing program
and was not reviewed by a human for accuracy
------------------------------
PROGRAM OUTPUT
------------------------------
Output from '/usr/bin/make test':
PERL_DL_NONLAZY=1 /home/stro/perl/5.18.0/bin/perl "-MExtUtils::Command::MM" "-e" "test_harness(0, 'blib/lib', 'blib/arch')" t/*.t
t/00-compile.t ................ ok
#
#
# Generated by Dist::Zilla::Plugin::ReportVersions::Tiny v1.08
# perl: 5.018000 (wanted 5.008) on linux from /home/stro/perl/5.18.0/bin/perl
#
# Class::Load => 0.20 (want 0.20)
# ExtUtils::MakeMaker => 6.68 (want 6.30)
# File::Find => 1.23 (want any version)
# File::Temp => 0.23 (want any version)
# Moose => 2.0802 (want 2)
# Moose::Exporter => 2.0802 (want any version)
# Moose::Role => 2.0802 (want any version)
# MooseX::Types => 0.35 (want any version)
# MooseX::Types::Moose => 0.35 (want any version)
# MooseX::UndefTolerant => 0.19 (want any version)
# Pod::Coverage::TrustPod => 0.100002 (want any version)
# Test::CPAN::Changes => 0.20 (want 0.19)
# Test::CPAN::Meta => 0.23 (want any version)
# Test::Method => 0.001001 (want any version)
# Test::Moose => 2.0802 (want any version)
# Test::More => 0.98 (want 0.88)
# Test::Pod => 1.48 (want 1.41)
# Test::Pod::Coverage => 1.08 (want 1.08)
# namespace::autoclean => 0.13 (want any version)
# strict => 1.07 (want any version)
# version => 0.9902 (want 0.9901)
# warnings => 1.18 (want any version)
#
# Thanks for using my code. I hope it works for you.
# If not, please try and include this output in the bug report.
# That will help me reproduce the issue and solve your problem.
#
t/000-report-versions-tiny.t .. ok
t/apply-trait.t ............... ok
t/author-critic.t ............. skipped: these tests are for testing by the author
t/author-pod-spell.t .......... skipped: these tests are for testing by the author
t/author-test-eol.t ........... skipped: these tests are for testing by the author
t/composite.t ................. ok
t/false_init_arg.t ............ ok
t/immutable.t ................. ok
t/init_args.t ................. ok
t/release-cpan-changes.t ...... skipped: these tests are for release candidate testing
t/release-dist-manifest.t ..... skipped: these tests are for release candidate testing
t/release-distmeta.t .......... skipped: these tests are for release candidate testing
t/release-kwalitee.t .......... skipped: these tests are for release candidate testing
t/release-meta-json.t ......... skipped: these tests are for release candidate testing
t/release-minimum-version.t ... skipped: these tests are for release candidate testing
t/release-mojibake.t .......... skipped: these tests are for release candidate testing
t/release-pod-coverage.t ...... skipped: these tests are for release candidate testing
t/release-pod-linkcheck.t ..... skipped: these tests are for release candidate testing
t/release-pod-syntax.t ........ skipped: these tests are for release candidate testing
t/release-portability.t ....... skipped: these tests are for release candidate testing
t/release-synopsis.t .......... skipped: these tests are for release candidate testing
t/release-test-version.t ...... skipped: these tests are for release candidate testing
t/release-unused-vars.t ....... skipped: these tests are for release candidate testing
t/role.t ...................... ok
t/serializer.t ................ ok
t/types.t ..................... ok
All tests successful.
Files=27, Tests=66, 11 wallclock secs ( 0.18 usr 0.26 sys + 6.74 cusr 3.23 csys = 10.41 CPU)
Result: PASS
------------------------------
PREREQUISITES
------------------------------
Prerequisite modules loaded:
requires:
Module Need Have
--------------------- ---- --------
Moose 2 2.0802
Moose::Exporter 0 2.0802
Moose::Role 0 2.0802
MooseX::Types 0 0.35
MooseX::Types::Moose 0 0.35
MooseX::UndefTolerant 0 0.19
namespace::autoclean 0 0.13
strict 0 1.07
warnings 0 1.18
build_requires:
Module Need Have
--------------------- ---- --------
Class::Load 0.20 0.20
File::Find 0 1.23
File::Temp 0 0.23
Test::Method 0 0.001001
Test::Moose 0 2.0802
Test::More 0.88 0.98
configure_requires:
Module Need Have
--------------------- ---- --------
ExtUtils::MakeMaker 6.30 6.68
------------------------------
ENVIRONMENT AND OTHER CONTEXT
------------------------------
Environment variables:
AUTOMATED_TESTING = 1
LANG = en_US.UTF-8
PATH = /usr/local/bin:/usr/bin:/bin:/usr/local/games:/usr/games
PERL5LIB =
PERL5OPT =
PERL5_CPANPLUS_IS_RUNNING = 14382
PERL5_CPAN_IS_RUNNING = 14382
PERL5_CPAN_IS_RUNNING_IN_RECURSION = 6596,14382
PERL_CR_SMOKER_CURRENT = Business-PaperlessTrans-0.002000
PERL_EXTUTILS_AUTOINSTALL = --defaultdeps
PERL_MM_USE_DEFAULT = 1
SHELL = /bin/bash
TERM = xterm
Perl special variables (and OS-specific diagnostics, for MSWin32):
$^X = /home/stro/perl/5.18.0/bin/perl
$UID/$EUID = 1000 / 1000
$GID = 1000 24 25 29 30 44 46 104 109 111 1000
$EGID = 1000 24 25 29 30 44 46 104 109 111 1000
Perl module toolchain versions installed:
Module Have
------------------- --------
CPAN 2.00
CPAN::Meta 2.120921
Cwd 3.40
ExtUtils::CBuilder 0.280210
ExtUtils::Command 1.17
ExtUtils::Install 1.59
ExtUtils::MakeMaker 6.68
ExtUtils::Manifest 1.63
ExtUtils::ParseXS 3.18
File::Spec 3.40
JSON 2.59
JSON::PP 2.27202
Module::Build 0.4005
Module::Signature n/a
Parse::CPAN::Meta 1.4405
Test::Harness 3.26
Test::More 0.98
YAML 0.84
YAML::Syck 1.27
version 0.9902
--
Summary of my perl5 (revision 5 version 18 subversion 0) configuration:
Platform:
osname=linux, osvers=3.2.0-4-686-pae, archname=i686-linux
uname='linux vm001-debian7 3.2.0-4-686-pae #1 smp debian 3.2.41-2+deb7u2 i686 gnulinux '
config_args=''
hint=recommended, useposix=true, d_sigaction=define
useithreads=undef, usemultiplicity=undef
useperlio=define, d_sfio=undef, uselargefiles=define, usesocks=undef
use64bitint=undef, use64bitall=undef, uselongdouble=undef
usemymalloc=n, bincompat5005=undef
Compiler:
cc='cc', ccflags ='-fno-strict-aliasing -pipe -fstack-protector -I/usr/local/include -D_LARGEFILE_SOURCE -D_FILE_OFFSET_BITS=64',
optimize='-O2',
cppflags='-fno-strict-aliasing -pipe -fstack-protector -I/usr/local/include'
ccversion='', gccversion='4.7.2', gccosandvers=''
intsize=4, longsize=4, ptrsize=4, doublesize=8, byteorder=1234
d_longlong=define, longlongsize=8, d_longdbl=define, longdblsize=12
ivtype='long', ivsize=4, nvtype='double', nvsize=8, Off_t='off_t', lseeksize=8
alignbytes=4, prototype=define
Linker and Libraries:
ld='cc', ldflags =' -fstack-protector -L/usr/local/lib'
libpth=/usr/local/lib /lib/i386-linux-gnu /lib/../lib /usr/lib/i386-linux-gnu /usr/lib/../lib /lib /usr/lib
libs=-lnsl -ldl -lm -lcrypt -lutil -lc
perllibs=-lnsl -ldl -lm -lcrypt -lutil -lc
libc=, so=so, useshrplib=false, libperl=libperl.a
gnulibc_version='2.13'
Dynamic Linking:
dlsrc=dl_dlopen.xs, dlext=so, d_dlsymun=undef, ccdlflags='-Wl,-E'
cccdlflags='-fPIC', lddlflags='-shared -O2 -L/usr/local/lib -fstack-protector'
Characteristics of this binary (from libperl):
Compile-time options: HAS_TIMES PERLIO_LAYERS PERL_DONT_CREATE_GVSV
PERL_HASH_FUNC_ONE_AT_A_TIME_HARD PERL_MALLOC_WRAP
PERL_PRESERVE_IVUV PERL_SAWAMPERSAND USE_LARGE_FILES
USE_LOCALE USE_LOCALE_COLLATE USE_LOCALE_CTYPE
USE_LOCALE_NUMERIC USE_PERLIO USE_PERL_ATOF
Built under linux
Compiled at Jun 9 2013 16:08:19
%ENV:
PERL5LIB=""
PERL5OPT=""
PERL5_CPANPLUS_IS_RUNNING="14382"
PERL5_CPAN_IS_RUNNING="14382"
PERL5_CPAN_IS_RUNNING_IN_RECURSION="6596,14382"
PERL_CR_SMOKER_CURRENT="Business-PaperlessTrans-0.002000"
PERL_EXTUTILS_AUTOINSTALL="--defaultdeps"
PERL_MM_USE_DEFAULT="1"
@INC:
/home/stro/perl/5.18.0/lib/site_perl/5.18.0/i686-linux
/home/stro/perl/5.18.0/lib/site_perl/5.18.0
/home/stro/perl/5.18.0/lib/5.18.0/i686-linux
/home/stro/perl/5.18.0/lib/5.18.0
.