Promise-XS v0.20 Perl 5 v5.39.3 amd64-netbsd-thread-multi
- Status
- Pass
- From
- Carlos Guevara
- Dist
-
Promise-XS v0.20
- Platform
- Perl 5 v5.39.3 amd64-netbsd-thread-multi
- Date
- 2023-09-18 03:50:58
- ID
- 937081cc-55d6-11ee-be4a-8775a1123a39
This distribution has been tested as part of the CPAN Testers
project, supporting the Perl programming language. See
http://wiki.cpantesters.org/ for more information or email
questions to cpan-testers-discuss@perl.org
--
Dear Felipe Gasper,
This is a computer-generated report for Promise-XS-0.20
on perl 5.39.3, created by CPAN-Reporter-1.2019.
Thank you for uploading your work to CPAN. Congratulations!
All tests were successful.
Sections of this report:
* Tester comments
* Program output
* Prerequisites
* Environment and other context
------------------------------
TESTER COMMENTS
------------------------------
Additional comments from tester:
this report is from an automated smoke testing program
and was not reviewed by a human for accuracy
------------------------------
PROGRAM OUTPUT
------------------------------
Output from '/usr/bin/make test':
"/home/cpan/bin/perl/bin/perl5.39.3" -MExtUtils::Command::MM -e 'cp_nonempty' -- XS.bs blib/arch/auto/Promise/XS/XS.bs 644
PERL_DL_NONLAZY=1 "/home/cpan/bin/perl/bin/perl5.39.3" "-MExtUtils::Command::MM" "-MTest::Harness" "-e" "undef *Test::Harness::Switches; test_harness(0, 'blib/lib', 'blib/arch')" t/*.t
t/alias.t ........................ ok
t/anyevent.t ..................... skipped: Can't locate AnyEvent.pm in @INC (you may need to install the AnyEvent module) (@INC entries checked: /home/cpan/.cpan/build/Promise-XS-0.20-0/blib/lib /home/cpan/.cpan/build/Promise-XS-0.20-0/blib/arch /home/cpan/bin/perl/lib/site_perl/5.39.3/amd64-netbsd-thread-multi /home/cpan/bin/perl/lib/site_perl/5.39.3 /home/cpan/bin/perl/lib/5.39.3/amd64-netbsd-thread-multi /home/cpan/bin/perl/lib/5.39.3 .) at t/anyevent.t line 7.
t/aplus.t ........................ skipped: Can't locate AnyEvent.pm in @INC (you may need to install the AnyEvent module) (@INC entries checked: /home/cpan/.cpan/build/Promise-XS-0.20-0/blib/lib /home/cpan/.cpan/build/Promise-XS-0.20-0/blib/arch /home/cpan/bin/perl/lib/site_perl/5.39.3/amd64-netbsd-thread-multi /home/cpan/bin/perl/lib/site_perl/5.39.3 /home/cpan/bin/perl/lib/5.39.3/amd64-netbsd-thread-multi /home/cpan/bin/perl/lib/5.39.3 .) at t/aplus.t line 6.
# Future::AsyncAwait 0.66
Promise::XS::Promise: Unhandled rejection: Late oopsie
Promise::XS::Promise: Unhandled rejection: Oopsie
t/async_await.t .................. ok
t/async_await__several_awaits.t .. ok
t/async_await__simple.t .......... ok
t/async_await_hold_ref.t ......... skipped: No Future::AsyncAwait
# Future::AsyncAwait 0.66
t/async_await_version.t .......... ok
t/await_wait__anyevent.t ......... skipped: CanâÂÂt run test: Can't locate AnyEvent.pm in @INC (you may need to install the AnyEvent module) (@INC entries checked: /home/cpan/.cpan/build/Promise-XS-0.20-0/t/lib /home/cpan/.cpan/build/Promise-XS-0.20-0/blib/lib /home/cpan/.cpan/build/Promise-XS-0.20-0/blib/arch /home/cpan/bin/perl/lib/site_perl/5.39.3/amd64-netbsd-thread-multi /home/cpan/bin/perl/lib/site_perl/5.39.3 /home/cpan/bin/perl/lib/5.39.3/amd64-netbsd-thread-multi /home/cpan/bin/perl/lib/5.39.3 .) at (eval 8) line 1.
t/await_wait__ioasync.t .......... ok
t/await_wait__mojo.t ............. ok
t/detect_memory_leaks.t .......... ok
t/finally.t ...................... ok
t/infinite_recursion.t ........... ok
# IO::Async::Loop 0.802
t/ioasync.t ...................... ok
# Mojolicious 9.34
t/mojo.t ......................... ok
t/multi_return.t ................. ok
t/no_leak_stashed_ref.t .......... ok
t/oserror.t ...................... ok
t/promise_all_race.t ............. ok
t/reject_undef.t ................. ok
t/subclass.t ..................... ok
t/sync.t ......................... ok
t/unhandled_rejection.t .......... ok
t/XSPromises.t ................... skipped: Can't locate AnyEvent.pm in @INC (you may need to install the AnyEvent module) (@INC entries checked: /home/cpan/.cpan/build/Promise-XS-0.20-0/blib/lib /home/cpan/.cpan/build/Promise-XS-0.20-0/blib/arch /home/cpan/bin/perl/lib/site_perl/5.39.3/amd64-netbsd-thread-multi /home/cpan/bin/perl/lib/site_perl/5.39.3 /home/cpan/bin/perl/lib/5.39.3/amd64-netbsd-thread-multi /home/cpan/bin/perl/lib/5.39.3 .) at t/XSPromises.t line 6.
All tests successful.
Files=25, Tests=81, 3 wallclock secs ( 0.03 usr 0.07 sys + 1.90 cusr 0.60 csys = 2.60 CPU)
Result: PASS
------------------------------
PREREQUISITES
------------------------------
Prerequisite modules loaded:
build_requires:
Module Need Have
----------------------------- ---- --------
ExtUtils::MakeMaker 0 7.70
File::Temp 0 0.2311
Test::Deep 0 1.204
Test::FailWarnings 0 0.008
Test::More 0 1.302195
configure_requires:
Module Need Have
----------------------------- ---- --------
ExtUtils::MakeMaker::CPANfile 0.09 0.09
------------------------------
ENVIRONMENT AND OTHER CONTEXT
------------------------------
Environment variables:
AUTOMATED_TESTING = 1
DATE_MANIP_TEST_DM5 = 1
LC_ALL = C
NONINTERACTIVE_TESTING = 1
NO_NETWORK_TESTING = 1
PATH = /home/cpan/bin/perl/bin:/home/cpan/bin:/home/cpan/bin:/bin:/sbin:/usr/bin:/usr/sbin:/usr/X11R7/bin:/usr/pkg/bin:/usr/pkg/sbin:/usr/games:/usr/local/bin:/usr/local/sbin
PERL5LIB =
PERL5OPT =
PERL5_CPANPLUS_IS_RUNNING = 515
PERL5_CPAN_IS_RUNNING = 515
PERL_MM_USE_DEFAULT = 1
PERL_USE_UNSAFE_INC = 1
SHELL = /usr/pkg/bin/bash
TERM = screen
TMPDIR = /home/cpan/tmp
Perl special variables (and OS-specific diagnostics, for MSWin32):
$^X = /home/cpan/bin/perl/bin/perl5.39.3
$UID/$EUID = 1001 / 1001
$GID = 100 100
$EGID = 100 100
Perl module toolchain versions installed:
Module Have
------------------- --------
CPAN 2.36
CPAN::Meta 2.150010
Cwd 3.90
ExtUtils::CBuilder 0.280240
ExtUtils::Command 7.70
ExtUtils::Install 2.22
ExtUtils::MakeMaker 7.70
ExtUtils::Manifest 1.75
ExtUtils::ParseXS 3.51
File::Spec 3.90
JSON 4.10
JSON::PP 4.16
Module::Build 0.4234
Module::Signature n/a
Parse::CPAN::Meta 2.150010
Test2 1.302195
Test::Harness 3.47
Test::More 1.302195
YAML 1.30
YAML::Syck 1.34
version 0.9930
--
Summary of my perl5 (revision 5 version 39 subversion 3) configuration:
Commit id: 4c5edaea3c3c35944ba9d459d1e7ecf01e5dd62f
Platform:
osname=netbsd
osvers=9.3
archname=amd64-netbsd-thread-multi
uname='netbsd cjg-netbsd9 9.3 netbsd 9.3 (generic) #0: thu aug 4 15:30:37 utc 2022 mkrepro@mkrepro.netbsd.org:usrsrcsysarchamd64compilegeneric amd64 '
config_args='-des -Dprefix=/home/cpan/bin/perl -Dscriptdir=/home/cpan/bin/perl/bin -Dusedevel -Duse64bitall -Duseithreads'
hint=recommended
useposix=true
d_sigaction=define
useithreads=define
usemultiplicity=define
use64bitint=define
use64bitall=define
uselongdouble=undef
usemymalloc=n
default_inc_excludes_dot=define
Compiler:
cc='cc'
ccflags ='-fwrapv -fno-strict-aliasing -pipe -fstack-protector-strong -I/usr/pkg/include -D_FORTIFY_SOURCE=2'
optimize='-O'
cppflags='-fwrapv -fno-strict-aliasing -pipe -fstack-protector-strong -I/usr/pkg/include'
ccversion=''
gccversion='7.5.0'
gccosandvers=''
intsize=4
longsize=8
ptrsize=8
doublesize=8
byteorder=12345678
doublekind=3
d_longlong=define
longlongsize=8
d_longdbl=define
longdblsize=16
longdblkind=3
ivtype='long'
ivsize=8
nvtype='double'
nvsize=8
Off_t='off_t'
lseeksize=8
alignbytes=8
prototype=define
Linker and Libraries:
ld='cc'
ldflags =' -Wl,-rpath,/usr/pkg/lib -Wl,-rpath,/usr/local/lib -fstack-protector-strong -L/usr/pkg/lib'
libpth=/usr/lib /usr/pkg/lib /lib
libs=-lpthread -lm -lcrypt -lutil -lc -lposix
perllibs=-lpthread -lm -lcrypt -lutil -lc -lposix
libc=/lib/libc.so
so=so
useshrplib=false
libperl=libperl.a
gnulibc_version=''
Dynamic Linking:
dlsrc=dl_dlopen.xs
dlext=so
d_dlsymun=undef
ccdlflags='-Wl,-E '
cccdlflags='-DPIC -fPIC '
lddlflags='-shared -L/usr/pkg/lib -fstack-protector-strong'
Characteristics of this binary (from libperl):
Compile-time options:
HAS_LONG_DOUBLE
HAS_STRTOLD
HAS_TIMES
MULTIPLICITY
PERLIO_LAYERS
PERL_COPY_ON_WRITE
PERL_DONT_CREATE_GVSV
PERL_HASH_FUNC_SIPHASH13
PERL_HASH_USE_SBOX32
PERL_MALLOC_WRAP
PERL_OP_PARENT
PERL_PRESERVE_IVUV
PERL_USE_DEVEL
PERL_USE_SAFE_PUTENV
USE_64_BIT_ALL
USE_64_BIT_INT
USE_ITHREADS
USE_LARGE_FILES
USE_LOCALE
USE_LOCALE_COLLATE
USE_LOCALE_CTYPE
USE_LOCALE_NUMERIC
USE_LOCALE_TIME
USE_PERLIO
USE_PERL_ATOF
USE_REENTRANT_API
Built under netbsd
Compiled at Sep 17 2023 16:32:12
%ENV:
PERL5LIB=""
PERL5OPT=""
PERL5_CPANPLUS_IS_RUNNING="515"
PERL5_CPAN_IS_RUNNING="515"
PERL_MM_USE_DEFAULT="1"
PERL_USE_UNSAFE_INC="1"
@INC:
/home/cpan/bin/perl/lib/site_perl/5.39.3/amd64-netbsd-thread-multi
/home/cpan/bin/perl/lib/site_perl/5.39.3
/home/cpan/bin/perl/lib/5.39.3/amd64-netbsd-thread-multi
/home/cpan/bin/perl/lib/5.39.3
.