HTML-Scrubber v0.19 Perl 5 v5.30.3 sparc64-openbsd
- Status
- Pass
- From
- Dist
-
HTML-Scrubber v0.19
- Platform
- Perl 5 v5.30.3 sparc64-openbsd
- Date
- 2021-01-05 16:32:17
- ID
- 93859308-4f73-11eb-8e0d-c0e2d69de05f
This distribution has been tested as part of the CPAN Testers
project, supporting the Perl programming language. See
http://wiki.cpantesters.org/ for more information or email
questions to cpan-testers-discuss@perl.org
--
Dear Nigel Metheringham,
This is a computer-generated report for HTML-Scrubber-0.19
on perl 5.30.3, created by CPAN-Reporter-1.2018.
Thank you for uploading your work to CPAN. Congratulations!
All tests were successful.
Sections of this report:
* Tester comments
* Program output
* Prerequisites
* Environment and other context
------------------------------
TESTER COMMENTS
------------------------------
Additional comments from tester:
this report is from an automated smoke testing program
and was not reviewed by a human for accuracy
------------------------------
PROGRAM OUTPUT
------------------------------
Output from '/usr/bin/make test':
PERL_DL_NONLAZY=1 "/usr/bin/perl" "-MExtUtils::Command::MM" "-MTest::Harness" "-e" "undef *Test::Harness::Switches; test_harness(0, 'blib/lib', 'blib/arch')" t/*.t
#
# Versions for all modules listed in MYMETA.json (including optional ones):
#
# === Configure Requires ===
#
# Module Want Have
# ------------------- ---- ----
# ExtUtils::MakeMaker any 7.58
#
# === Build Requires ===
#
# Module Want Have
# ------------------- ---- ----
# ExtUtils::MakeMaker any 7.58
#
# === Test Requires ===
#
# Module Want Have
# ------------------- ---- --------
# ExtUtils::MakeMaker any 7.58
# File::Spec any 3.78
# File::Temp any 0.2311
# Test any 1.31
# Test::Differences any 0.67
# Test::Memory::Cycle any 1.06
# Test::More 0.88 1.302183
# utf8 any 1.22
#
# === Test Recommends ===
#
# Module Want Have
# ---------- -------- --------
# CPAN::Meta 2.120900 2.150010
#
# === Runtime Requires ===
#
# Module Want Have
# -------------- ---- ----
# HTML::Entities any 3.69
# HTML::Parser 3.47 3.72
# List::Util 1.33 1.55
# Scalar::Util any 1.55
# strict any 1.11
# warnings any 1.44
#
t/00-report-prereqs.t ........... ok
# Testing HTML::Scrubber 0.19, Perl 5.030003, /usr/bin/perl
t/01_use.t ...................... ok
t/02_basic.t .................... ok
t/03_more.t ..................... ok
t/04_style_script.t ............. ok
t/05_pi_comment.t ............... ok
t/06_scrub_file.t ............... ok
t/07_booleans.t ................. ok
t/08_cb_attrs.t ................. ok
t/09_memory_cycle.t ............. ok
t/09_no_scrub_warnings.t ........ ok
t/jvn53973084.t ................. ok
t/rt120384_remove_false_tags.t .. ok
t/rt19063_xhtml.t ............... ok
t/rt25477_self_closing.t ........ ok
t/rt72659_utf8.t ................ ok
t/rt79044_multiple.t ............ ok
All tests successful.
Files=17, Tests=172, 8 wallclock secs ( 0.24 usr 0.36 sys + 6.01 cusr 1.57 csys = 8.18 CPU)
Result: PASS
------------------------------
PREREQUISITES
------------------------------
Prerequisite modules loaded:
requires:
Module Need Have
------------------- -------- --------
HTML::Entities 0 3.69
HTML::Parser 3.47 3.72
List::Util 1.33 1.55
perl 5.008 5.030003
Scalar::Util 0 1.55
strict 0 1.11
warnings 0 1.44
build_requires:
Module Need Have
------------------- -------- --------
ExtUtils::MakeMaker 0 7.58
File::Spec 0 3.78
File::Temp 0 0.2311
Test 0 1.31
Test::Differences 0 0.67
Test::Memory::Cycle 0 1.06
Test::More 0.88 1.302183
utf8 0 1.22
configure_requires:
Module Need Have
------------------- -------- --------
ExtUtils::MakeMaker 0 7.58
opt_build_requires:
Module Need Have
------------------- -------- --------
CPAN::Meta 2.120900 2.150010
------------------------------
ENVIRONMENT AND OTHER CONTEXT
------------------------------
Environment variables:
AUTOMATED_TESTING = 1
NONINTERACTIVE_TESTING = 1
PATH = /home/smoker/perl/system/bin:/home/smoker/.plenv/libexec:/home/smoker/.plenv/plugins/perl-build/bin:/home/smoker/.plenv/plugins/plenv-contrib/bin:/home/smoker/.plenv/shims:/home/smoker/.plenv/bin:/home/smoker/bin:/bin:/sbin:/usr/bin:/usr/sbin:/usr/X11R6/bin:/usr/local/bin:/usr/local/sbin:/usr/games
PERL5LIB = /home/smoker/perl/system/lib/perl5
PERL5OPT =
PERL5_CPANPLUS_IS_RUNNING = 6824
PERL5_CPAN_IS_RUNNING = 6824
PERL5_CPAN_IS_RUNNING_IN_RECURSION = 5279,6824
PERL_CARTON_PATH = /home/afresh1/cpan-smoker-setup/local/system
PERL_CR_SMOKER_CURRENT = Rapi-Blog-1.1400
PERL_EXTUTILS_AUTOINSTALL = --defaultdeps
PERL_LOCAL_LIB_ROOT = /home/smoker/perl/system
PERL_MB_OPT = --install_base '/home/smoker/perl/system'
PERL_MM_OPT = INSTALL_BASE=/home/smoker/perl/system
PERL_MM_USE_DEFAULT = 1
PERL_USE_UNSAFE_INC = 1
SHELL = /bin/ksh
TERM = screen
Perl special variables (and OS-specific diagnostics, for MSWin32):
$^X = /usr/bin/perl
$UID/$EUID = 900 / 900
$GID = 900 900
$EGID = 900 900
Perl module toolchain versions installed:
Module Have
------------------- --------
CPAN 2.22
CPAN::Meta 2.150010
Cwd 3.78
ExtUtils::CBuilder 0.280235
ExtUtils::Command 7.58
ExtUtils::Install 2.20
ExtUtils::MakeMaker 7.58
ExtUtils::Manifest 1.72
ExtUtils::ParseXS 3.40
File::Spec 3.78
JSON 4.02
JSON::PP 4.05
Module::Build 0.4231
Module::Signature 0.87
Parse::CPAN::Meta 2.150010
Test::Harness 3.42
Test::More 1.302183
YAML 1.30
YAML::Syck 1.34
version 0.9924
--
Summary of my perl5 (revision 5 version 30 subversion 3) configuration:
Platform:
osname=openbsd
osvers=6.8
archname=sparc64-openbsd
uname='openbsd'
config_args='-dse -Dopenbsd_distribution=defined -Dmksymlinks'
hint=recommended
useposix=true
d_sigaction=define
useithreads=undef
usemultiplicity=undef
use64bitint=define
use64bitall=define
uselongdouble=undef
usemymalloc=n
default_inc_excludes_dot=define
bincompat5005=undef
Compiler:
cc='cc'
ccflags ='-DNO_LOCALE_NUMERIC -DNO_LOCALE_COLLATE -fno-strict-aliasing -fno-delete-null-pointer-checks -pipe -fstack-protector-strong -D_FORTIFY_SOURCE=2 -I/usr/local/include'
optimize='-O2'
cppflags='-DBIG_TIME -DNO_LOCALE_NUMERIC -DNO_LOCALE_COLLATE -fno-strict-aliasing -fno-delete-null-pointer-checks -pipe -fstack-protector-strong -I/usr/local/include'
ccversion=''
gccversion='4.2.1 20070719 '
gccosandvers='openbsd6.8'
intsize=4
longsize=8
ptrsize=8
doublesize=8
byteorder=87654321
doublekind=4
d_longlong=define
longlongsize=8
d_longdbl=define
longdblsize=16
longdblkind=2
ivtype='long'
ivsize=8
nvtype='double'
nvsize=8
Off_t='off_t'
lseeksize=8
alignbytes=8
prototype=define
Linker and Libraries:
ld='cc'
ldflags ='-Wl,-E -fstack-protector-strong -L/usr/local/lib'
libpth=/usr/lib /usr/lib
libs=-lm -lc
perllibs=-lm -lc
libc=/usr/lib/libc.so.96.0
so=so
useshrplib=true
libperl=libperl.so.20.0
gnulibc_version=''
Dynamic Linking:
dlsrc=dl_dlopen.xs
dlext=so
d_dlsymun=undef
ccdlflags='-Wl,-R/usr/libdata/perl5/sparc64-openbsd/CORE'
cccdlflags='-DPIC -fPIC '
lddlflags='-shared -fPIC -fstack-protector-strong -L/usr/local/lib'
Characteristics of this binary (from libperl):
Compile-time options:
HAS_TIMES
PERLIO_LAYERS
PERL_COPY_ON_WRITE
PERL_DONT_CREATE_GVSV
PERL_MALLOC_WRAP
PERL_OP_PARENT
PERL_PRESERVE_IVUV
USE_64_BIT_ALL
USE_64_BIT_INT
USE_LARGE_FILES
USE_LOCALE
USE_LOCALE_CTYPE
USE_LOCALE_TIME
USE_PERLIO
USE_PERL_ATOF
Built under openbsd
%ENV:
PERL5LIB="/home/smoker/perl/system/lib/perl5"
PERL5OPT=""
PERL5_CPANPLUS_IS_RUNNING="6824"
PERL5_CPAN_IS_RUNNING="6824"
PERL5_CPAN_IS_RUNNING_IN_RECURSION="5279,6824"
PERL_CARTON_PATH="/home/afresh1/cpan-smoker-setup/local/system"
PERL_CR_SMOKER_CURRENT="Rapi-Blog-1.1400"
PERL_EXTUTILS_AUTOINSTALL="--defaultdeps"
PERL_LOCAL_LIB_ROOT="/home/smoker/perl/system"
PERL_MB_OPT="--install_base '/home/smoker/perl/system'"
PERL_MM_OPT="INSTALL_BASE=/home/smoker/perl/system"
PERL_MM_USE_DEFAULT="1"
PERL_USE_UNSAFE_INC="1"
@INC:
/home/smoker/perl/system/lib/perl5/sparc64-openbsd
/home/smoker/perl/system/lib/perl5
/usr/local/libdata/perl5/site_perl/sparc64-openbsd
/usr/local/libdata/perl5/site_perl
/usr/libdata/perl5/sparc64-openbsd
/usr/libdata/perl5
.