Back
From: metabase:user:322078bc-2aae-11df-837a-5e0a49663a4f
Subject: FAIL Safe-World-0.14 v5.10.1 Dragonfly BSD
Date: 2010-10-04T03:07:52Z
This distribution has been tested as part of the CPAN Testers
project, supporting the Perl programming language. See
http://wiki.cpantesters.org/ for more information or email
questions to cpan-testers-discuss@perl.org
--
Dear Graciliano Monteiro Passos,
This is a computer-generated error report created automatically by
CPANPLUS, version 0.9007. Testers personal comments may appear
at the end of this report.
Thank you for uploading your work to CPAN. However, it appears that
there were some problems testing your distribution.
TEST RESULTS:
Below is the error stack from stage 'make test':
[MSG] [Mon Oct 4 04:07:50 2010] Building Safe-Hole
cc -I/usr/home/cpan/pit/bare/perl-5.10.1/lib/5.10.1/x86_64-dragonfly/CORE -DXS_VERSION="0.13" -DVERSION="0.13" -DPIC -fPIC -c -DHAS_FPSETMASK -DHAS_FLOATINGPOINT_H -fno-strict-aliasing -pipe -fstack-protector -I/usr/local/include -O -o lib/Safe/Hole.o lib/Safe/Hole.c
ExtUtils::Mkbootstrap::Mkbootstrap('blib/arch/auto/Safe/Hole/Hole.bs')
cc -shared -L/usr/local/lib -fstack-protector -o blib/arch/auto/Safe/Hole/Hole.so lib/Safe/Hole.o
[MSG] [Mon Oct 4 04:07:50 2010] MAKE TEST passed:
# Testing Safe::Hole 0.13, Perl 5.010001, /usr/home/cpan/pit/bare/perl-5.10.1/bin/perl
t/00-load.t .......... ok
Use of uninitialized value $_ in length at (eval 40) line 3.
t/01-hole.t .......... ok
t/98-pod-coverage.t .. skipped: Test::Pod::Coverage 1.08 required for testing POD coverage
t/99-pod.t ........... skipped: Test::Pod 1.22 required for testing POD
All tests successful.
Files=4, Tests=34, 0 wallclock secs ( 0.02 usr 0.02 sys + 0.14 cusr 0.03 csys = 0.20 CPU)
Result: PASS
[MSG] [Mon Oct 4 04:07:50 2010] Sending test report for 'Safe-Hole-0.13'
[MSG] [Mon Oct 4 04:07:50 2010] Successfully sent 'pass' report for 'Safe-Hole-0.13'
[MSG] [Mon Oct 4 04:07:52 2010] cp lib/Safe/World/stderr.pm blib/lib/Safe/World/stderr.pm
cp lib/Safe/World/stdout.pm blib/lib/Safe/World/stdout.pm
cp lib/Safe/World/Compartment.pm blib/lib/Safe/World/Compartment.pm
cp lib/Safe/World/ScanPack.pm blib/lib/Safe/World/ScanPack.pm
cp lib/Safe/World/select.pm blib/lib/Safe/World/select.pm
cp lib/Safe/World/Scope.pm blib/lib/Safe/World/Scope.pm
cp lib/Safe/World.pm blib/lib/Safe/World.pm
cp lib/Safe/World/Hole.pm blib/lib/Safe/World/Hole.pm
cp lib/Safe/World/stdoutsimple.pm blib/lib/Safe/World/stdoutsimple.pm
Manifying blib/man3/Safe::World::Scope.3
Manifying blib/man3/Safe::World.3
Manifying blib/man3/Safe::World::Hole.3
[ERROR] [Mon Oct 4 04:07:52 2010] MAKE TEST failed: No such file or directory PERL_DL_NONLAZY=1 /usr/home/cpan/pit/bare/perl-5.10.1/bin/perl "-Iblib/lib" "-Iblib/arch" test.pl
1..89
# Running under perl version 5.010001 for dragonfly
# Current time local: Mon Oct 4 04:07:52 2010
# Current time GMT: Mon Oct 4 03:07:52 2010
# Using Test.pm version 1.25_02
Unknown operator name "threadsv" at blib/lib/Safe/World/Compartment.pm line 95.
*** Error code 2
Stop in /usr/home/cpan/pit/bare/conf/perl-5.10.1/.cpanplus/5.10.1/build/Safe-World-0.14.
[MSG] [Mon Oct 4 04:07:52 2010] DEFAULT 'proceed_on_test_failure' HANDLER RETURNING 'sub return value'
PREREQUISITES:
Here is a list of prerequisites you specified and versions we
managed to load:
Module Name Have Want
Hash::NoRef 0.03 0.03
Safe::Hole 0.13 0.08
Perl module toolchain versions installed:
Module Name Have
CPANPLUS 0.9007
CPANPLUS::Dist::Build 0.48
Cwd 3.33
ExtUtils::CBuilder 0.2703
ExtUtils::Command 1.16
ExtUtils::Install 1.54
ExtUtils::MakeMaker 6.56
ExtUtils::Manifest 1.58
ExtUtils::ParseXS 2.2206
File::Spec 3.33
Module::Build 0.3607
Test::Harness 3.22
Test::More 0.96
version 0.82
******************************** NOTE ********************************
The comments above are created mechanically, possibly without manual
checking by the sender. As there are many people performing automatic
tests on each upload to CPAN, it is likely that you will receive
identical messages about the same problem.
If you believe that the message is mistaken, please reply to the first
one with correction and/or additional informations, and do not take
it personally. We appreciate your patience. :)
**********************************************************************
Additional comments:
This report was machine-generated by CPANPLUS::Dist::YACSmoke 0.58.
Powered by minismokebox version 0.32
------------------------------
ENVIRONMENT AND OTHER CONTEXT
------------------------------
Environment variables:
AUTOMATED_TESTING = 1
PATH = /sbin:/bin:/usr/sbin:/usr/bin:/usr/games:/usr/pkg/sbin:/usr/pkg/bin:/usr/pkg/xorg/bin:/usr/local/sbin:/usr/local/bin:/home/cpan/bin
PERL5LIB = :/usr/home/cpan/pit/bare/conf/perl-5.10.1/.cpanplus/5.10.1/build/HTML-Tagset-3.20/blib/lib:/usr/home/cpan/pit/bare/conf/perl-5.10.1/.cpanplus/5.10.1/build/HTML-Tagset-3.20/blib/arch:/usr/home/cpan/pit/bare/conf/perl-5.10.1/.cpanplus/5.10.1/build/HTML-Parser-3.68/blib/lib:/usr/home/cpan/pit/bare/conf/perl-5.10.1/.cpanplus/5.10.1/build/HTML-Parser-3.68/blib/arch:/usr/home/cpan/pit/bare/conf/perl-5.10.1/.cpanplus/5.10.1/build/Hash-NoRef-0.03/blib/lib:/usr/home/cpan/pit/bare/conf/perl-5.10.1/.cpanplus/5.10.1/build/Hash-NoRef-0.03/blib/arch:/usr/home/cpan/pit/bare/conf/perl-5.10.1/.cpanplus/5.10.1/build/Safe-Hole-0.13/blib/lib:/usr/home/cpan/pit/bare/conf/perl-5.10.1/.cpanplus/5.10.1/build/Safe-Hole-0.13/blib/arch:/usr/home/cpan/pit/bare/conf/perl-5.10.1/.cpanplus/5.10.1/build/Safe-World-0.14/blib/lib:/usr/home/cpan/pit/bare/conf/perl-5.10.1/.cpanplus/5.10.1/build/Safe-World-0.14/blib/arch
PERL5_CPANPLUS_IS_RUNNING = 16741
PERL5_CPANPLUS_IS_VERSION = 0.9007
PERL5_MINISMOKEBOX = 0.32
PERL5_YACSMOKE_BASE = /usr/home/cpan/pit/bare/conf/perl-5.10.1
PERL_EXTUTILS_AUTOINSTALL = --defaultdeps
PERL_MM_USE_DEFAULT = 1
SHELL = /usr/pkg/bin/bash
TERM = screen
Perl special variables (and OS-specific diagnostics, for MSWin32):
Perl: $^X = /usr/home/cpan/pit/bare/perl-5.10.1/bin/perl
UID: $< = 1002
EUID: $> = 1002
GID: $( = 1002 1002
EGID: $) = 1002 1002
-------------------------------
--
Summary of my perl5 (revision 5 version 10 subversion 1) configuration:
Platform:
osname=dragonfly, osvers=2.6-release, archname=x86_64-dragonfly
uname='dragonfly ddraig64.bingosnet.co.uk 2.6-release dragonfly v2.6.3-release #10: mon may 3 09:57:53 pdt 2010 root@pkgbox64.dragonflybsd.org:usrobjusrsrc-miscsysx86_64_generic x86_64 '
config_args='-des -Dprefix=/usr/home/cpan/pit/bare/perl-5.10.1'
hint=recommended, useposix=true, d_sigaction=define
useithreads=undef, usemultiplicity=undef
useperlio=define, d_sfio=undef, uselargefiles=define, usesocks=undef
use64bitint=define, use64bitall=define, uselongdouble=undef
usemymalloc=n, bincompat5005=undef
Compiler:
cc='cc', ccflags ='-DHAS_FPSETMASK -DHAS_FLOATINGPOINT_H -fno-strict-aliasing -pipe -fstack-protector -I/usr/local/include',
optimize='-O',
cppflags='-DHAS_FPSETMASK -DHAS_FLOATINGPOINT_H -fno-strict-aliasing -pipe -fstack-protector -I/usr/local/include'
ccversion='', gccversion='4.1.2 (DragonFly)', gccosandvers=''
intsize=4, longsize=8, ptrsize=8, doublesize=8, byteorder=12345678
d_longlong=define, longlongsize=8, d_longdbl=define, longdblsize=16
ivtype='long', ivsize=8, nvtype='double', nvsize=8, Off_t='off_t', lseeksize=8
alignbytes=8, prototype=define
Linker and Libraries:
ld='cc', ldflags ='-Wl,-E -fstack-protector -L/usr/local/lib'
libpth=/usr/lib /usr/local/lib
libs=-lm -lcrypt -lutil -lc
perllibs=-lm -lcrypt -lutil -lc
libc=, so=so, useshrplib=false, libperl=libperl.a
gnulibc_version=''
Dynamic Linking:
dlsrc=dl_dlopen.xs, dlext=so, d_dlsymun=undef, ccdlflags=' '
cccdlflags='-DPIC -fPIC', lddlflags='-shared -L/usr/local/lib -fstack-protector'
Characteristics of this binary (from libperl):
Compile-time options: PERL_DONT_CREATE_GVSV PERL_MALLOC_WRAP USE_64_BIT_ALL
USE_64_BIT_INT USE_LARGE_FILES USE_PERLIO
Built under dragonfly
Compiled at Sep 24 2010 01:55:15
%ENV:
PERL5LIB=":/usr/home/cpan/pit/bare/conf/perl-5.10.1/.cpanplus/5.10.1/build/HTML-Tagset-3.20/blib/lib:/usr/home/cpan/pit/bare/conf/perl-5.10.1/.cpanplus/5.10.1/build/HTML-Tagset-3.20/blib/arch:/usr/home/cpan/pit/bare/conf/perl-5.10.1/.cpanplus/5.10.1/build/HTML-Parser-3.68/blib/lib:/usr/home/cpan/pit/bare/conf/perl-5.10.1/.cpanplus/5.10.1/build/HTML-Parser-3.68/blib/arch:/usr/home/cpan/pit/bare/conf/perl-5.10.1/.cpanplus/5.10.1/build/Hash-NoRef-0.03/blib/lib:/usr/home/cpan/pit/bare/conf/perl-5.10.1/.cpanplus/5.10.1/build/Hash-NoRef-0.03/blib/arch:/usr/home/cpan/pit/bare/conf/perl-5.10.1/.cpanplus/5.10.1/build/Safe-Hole-0.13/blib/lib:/usr/home/cpan/pit/bare/conf/perl-5.10.1/.cpanplus/5.10.1/build/Safe-Hole-0.13/blib/arch:/usr/home/cpan/pit/bare/conf/perl-5.10.1/.cpanplus/5.10.1/build/Safe-World-0.14/blib/lib:/usr/home/cpan/pit/bare/conf/perl-5.10.1/.cpanplus/5.10.1/build/Safe-World-0.14/blib/arch"
PERL5_CPANPLUS_IS_RUNNING="16741"
PERL5_CPANPLUS_IS_VERSION="0.9007"
PERL5_MINISMOKEBOX="0.32"
PERL5_YACSMOKE_BASE="/usr/home/cpan/pit/bare/conf/perl-5.10.1"
PERL_EXTUTILS_AUTOINSTALL="--defaultdeps"
PERL_MM_USE_DEFAULT="1"
@INC:
/usr/home/cpan/pit/bare/conf/perl-5.10.1/.cpanplus/5.10.1/build/HTML-Tagset-3.20/blib/lib
/usr/home/cpan/pit/bare/conf/perl-5.10.1/.cpanplus/5.10.1/build/HTML-Tagset-3.20/blib/arch
/usr/home/cpan/pit/bare/conf/perl-5.10.1/.cpanplus/5.10.1/build/HTML-Parser-3.68/blib/lib
/usr/home/cpan/pit/bare/conf/perl-5.10.1/.cpanplus/5.10.1/build/HTML-Parser-3.68/blib/arch
/usr/home/cpan/pit/bare/conf/perl-5.10.1/.cpanplus/5.10.1/build/Hash-NoRef-0.03/blib/lib
/usr/home/cpan/pit/bare/conf/perl-5.10.1/.cpanplus/5.10.1/build/Hash-NoRef-0.03/blib/arch
/usr/home/cpan/pit/bare/conf/perl-5.10.1/.cpanplus/5.10.1/build/Safe-Hole-0.13/blib/lib
/usr/home/cpan/pit/bare/conf/perl-5.10.1/.cpanplus/5.10.1/build/Safe-Hole-0.13/blib/arch
/usr/home/cpan/pit/bare/conf/perl-5.10.1/.cpanplus/5.10.1/build/Safe-World-0.14/blib/lib
/usr/home/cpan/pit/bare/conf/perl-5.10.1/.cpanplus/5.10.1/build/Safe-World-0.14/blib/arch
/usr/home/cpan/pit/bare/perl-5.10.1/lib/5.10.1/x86_64-dragonfly
/usr/home/cpan/pit/bare/perl-5.10.1/lib/5.10.1
/usr/home/cpan/pit/bare/perl-5.10.1/lib/site_perl/5.10.1/x86_64-dragonfly
/usr/home/cpan/pit/bare/perl-5.10.1/lib/site_perl/5.10.1
.