Net-Statsd-Server v0.20 Perl 5 v5.35.6 x86_64-linux
- Status
- Pass
- From
- Andreas J. König (ANDK)
- Dist
-
Net-Statsd-Server v0.20
- Platform
- Perl 5 v5.35.6 x86_64-linux
- Date
- 2021-12-18 03:42:52
- ID
- 93f5a9e8-5fb4-11ec-a0e1-d5bd44ea5ece
This distribution has been tested as part of the CPAN Testers
project, supporting the Perl programming language. See
http://wiki.cpantesters.org/ for more information or email
questions to cpan-testers-discuss@perl.org
--
Dear Cosimo Streppone,
This is a computer-generated report for Net-Statsd-Server-0.20
on perl 5.35.6, created by CPAN-Reporter-1.2018.
Thank you for uploading your work to CPAN. Congratulations!
All tests were successful.
Sections of this report:
* Tester comments
* Program output
* Prerequisites
* Environment and other context
------------------------------
TESTER COMMENTS
------------------------------
Additional comments from tester:
this report is from an automated smoke testing program
and was not reviewed by a human for accuracy
------------------------------
PROGRAM OUTPUT
------------------------------
Output from '/usr/bin/make test':
PERL_DL_NONLAZY=1 "/tmp/basesmoker-reloperl-4CvM/bin/perl" "-MExtUtils::Command::MM" "-MTest::Harness" "-e" "undef *Test::Harness::Switches; test_harness(0, 'blib/lib', 'blib/arch')" t/*.t t/integration-tests/*.t
t/000-sanity.t ............................. ok
t/config.t ................................. ok
t/graphite.t ............................... ok
2021-12-18 03:39:19.000000 +0000 note Net::Statsd::Server: Initializing Net::Statsd::Server::Backend::Console backend
2021-12-18 03:39:19.000000 +0000 note Net::Statsd::Server: Initializing Net::Statsd::Server::Backend::Graphite backend
2021-12-18 03:39:19.000000 +0000 info AnyEvent: Autoloaded model 'AnyEvent::Impl::EV', using it.
2021-12-18 03:39:19.019396 +0000 note Net::Statsd::Server: statsd server started on 0.0.0.0:40001 (v0.17)
2021-12-18 03:39:19.019424 +0000 note Net::Statsd::Server: manager interface started on 0.0.0.0:40002
2021-12-18 03:39:19.019449 +0000 note Net::Statsd::Server: metrics flush will happen every 1s
2021-12-18 03:39:19.462795 +0000 warn Net::Statsd::Server: Bad line: 1 in msg "a_bad_test_value|z"
2021-12-18 03:39:20.021744 +0000 note Net::Statsd::Server: flushing metrics
Flushing stats at Sat Dec 18 03:39:20 2021
{"counter_rates":{"statsd.packets_received":1,"statsd.bad_lines_seen":1},"timers":{},"sets":null,"pctThreshold":[90],"timer_data":{},"gauges":{},"counters":{"statsd.packets_received":1,"statsd.bad_lines_seen":1}}
t/integration-tests/bad-message.t .......... ok
2021-12-18 03:39:20.000000 +0000 note Net::Statsd::Server: Initializing Net::Statsd::Server::Backend::Console backend
2021-12-18 03:39:20.000000 +0000 note Net::Statsd::Server: Initializing Net::Statsd::Server::Backend::Graphite backend
2021-12-18 03:39:20.000000 +0000 info AnyEvent: Autoloaded model 'AnyEvent::Impl::EV', using it.
2021-12-18 03:39:20.171401 +0000 note Net::Statsd::Server: statsd server started on 0.0.0.0:40001 (v0.17)
2021-12-18 03:39:20.171448 +0000 note Net::Statsd::Server: manager interface started on 0.0.0.0:40002
2021-12-18 03:39:20.171469 +0000 note Net::Statsd::Server: metrics flush will happen every 1s
2021-12-18 03:39:21.173578 +0000 note Net::Statsd::Server: flushing metrics
Flushing stats at Sat Dec 18 03:39:21 2021
{"gauges":{},"timers":{},"timer_data":{},"counters":{"statsd.bad_lines_seen":0,"a_test_value":100,"statsd.packets_received":1},"sets":null,"pctThreshold":[90],"counter_rates":{"statsd.packets_received":1,"a_test_value":100,"statsd.bad_lines_seen":0}}
# stats.counters.statsd.bad_lines_seen.rate 0.000000 1639798761
# stats.counters.statsd.bad_lines_seen.count 0 1639798761
# stats.counters.a_test_value.rate 100.000000 1639798761
# stats.counters.a_test_value.count 100 1639798761
# stats.counters.statsd.packets_received.rate 1.000000 1639798761
# stats.counters.statsd.packets_received.count 1 1639798761
# stats.statsd.numStats 3 1639798761
# stats.statsd.graphiteStats.calculationtime 0.029000 1639798761
# stats.statsd.processing_time 0.014 1639798761
# stats.statsd.graphiteStats.last_exception 94417620355552 1639798761
# stats.statsd.graphiteStats.last_flush 94417620355552 1639798761
t/integration-tests/counts-are-valid.t ..... ok
2021-12-18 03:39:21.000000 +0000 note Net::Statsd::Server: Initializing Net::Statsd::Server::Backend::Graphite backend
2021-12-18 03:39:21.000000 +0000 info AnyEvent: Autoloaded model 'AnyEvent::Impl::EV', using it.
2021-12-18 03:39:21.323225 +0000 note Net::Statsd::Server: statsd server started on 0.0.0.0:40001 (v0.17)
2021-12-18 03:39:21.323251 +0000 note Net::Statsd::Server: manager interface started on 0.0.0.0:40002
2021-12-18 03:39:21.323278 +0000 note Net::Statsd::Server: metrics flush will happen every 1s
2021-12-18 03:39:22.325457 +0000 note Net::Statsd::Server: flushing metrics
# First flush. Test gauge should be there.
2021-12-18 03:39:23.328201 +0000 note Net::Statsd::Server: flushing metrics
# Second flush. deleteGauges=false should keep the test gauge.
t/integration-tests/delete-gauges-false.t .. ok
2021-12-18 03:39:23.000000 +0000 note Net::Statsd::Server: Initializing Net::Statsd::Server::Backend::Graphite backend
2021-12-18 03:39:23.000000 +0000 info AnyEvent: Autoloaded model 'AnyEvent::Impl::EV', using it.
2021-12-18 03:39:23.474246 +0000 note Net::Statsd::Server: statsd server started on 0.0.0.0:40001 (v0.17)
2021-12-18 03:39:23.474272 +0000 note Net::Statsd::Server: manager interface started on 0.0.0.0:40002
2021-12-18 03:39:23.474301 +0000 note Net::Statsd::Server: metrics flush will happen every 1s
2021-12-18 03:39:24.477282 +0000 note Net::Statsd::Server: flushing metrics
# First flush. Test gauge should be there.
2021-12-18 03:39:25.479279 +0000 note Net::Statsd::Server: flushing metrics
# Second flush. deleteIdleStats should have cleared the test gauge.
t/integration-tests/delete-idle-stats.t .... ok
2021-12-18 03:39:25.000000 +0000 note Net::Statsd::Server: Initializing Net::Statsd::Server::Backend::Console backend
2021-12-18 03:39:25.000000 +0000 note Net::Statsd::Server: Initializing Net::Statsd::Server::Backend::Graphite backend
2021-12-18 03:39:25.000000 +0000 info AnyEvent: Autoloaded model 'AnyEvent::Impl::EV', using it.
2021-12-18 03:39:25.621545 +0000 note Net::Statsd::Server: statsd server started on 0.0.0.0:40001 (v0.17)
2021-12-18 03:39:25.621589 +0000 note Net::Statsd::Server: manager interface started on 0.0.0.0:40002
2021-12-18 03:39:25.621612 +0000 note Net::Statsd::Server: metrics flush will happen every 1s
2021-12-18 03:39:26.623784 +0000 note Net::Statsd::Server: flushing metrics
Flushing stats at Sat Dec 18 03:39:26 2021
{"timer_data":{},"counter_rates":{"statsd.packets_received":1,"a_test_value,category=web,severity=high":100,"statsd.bad_lines_seen":0},"timers":{},"pctThreshold":[90],"gauges":{},"sets":null,"counters":{"statsd.packets_received":1,"statsd.bad_lines_seen":0,"a_test_value,category=web,severity=high":100}}
# stats.counters.statsd.packets_received.rate 1.000000 1639798766
# stats.counters.statsd.packets_received.count 1 1639798766
# stats.counters.statsd.bad_lines_seen.rate 0.000000 1639798766
# stats.counters.statsd.bad_lines_seen.count 0 1639798766
# stats.counters.a_test_value,category=web,severity=high.rate 100.000000 1639798766
# stats.counters.a_test_value,category=web,severity=high.count 100 1639798766
# stats.statsd.numStats 3 1639798766
# stats.statsd.graphiteStats.calculationtime 0.025000 1639798766
# stats.statsd.processing_time 0.034 1639798766
# stats.statsd.graphiteStats.last_exception 94223636376032 1639798766
# stats.statsd.graphiteStats.last_flush 94223636376032 1639798766
t/integration-tests/keys-with-tags.t ....... ok
2021-12-18 03:39:26.000000 +0000 note Net::Statsd::Server: Initializing Net::Statsd::Server::Backend::Graphite backend
2021-12-18 03:39:26.000000 +0000 info AnyEvent: Autoloaded model 'AnyEvent::Impl::EV', using it.
2021-12-18 03:39:26.773123 +0000 note Net::Statsd::Server: statsd server started on 0.0.0.0:40001 (v0.17)
2021-12-18 03:39:26.773149 +0000 note Net::Statsd::Server: manager interface started on 0.0.0.0:40002
2021-12-18 03:39:26.773171 +0000 note Net::Statsd::Server: metrics flush will happen every 1s
# Expected mean value is 2049.93
2021-12-18 03:39:27.775460 +0000 note Net::Statsd::Server: flushing metrics
# stats.counters.statsd.packets_received.rate 100.000000 1639798767
# stats.counters.statsd.packets_received.count 100 1639798767
# stats.counters.statsd.bad_lines_seen.rate 0.000000 1639798767
# stats.counters.statsd.bad_lines_seen.count 0 1639798767
# stats.timers.read_latency.upper_95 2915.000000 1639798767
# stats.timers.read_latency.sum_squares 453206825.000000 1639798767
# stats.timers.read_latency.count_98 98.000000 1639798767
# stats.timers.read_latency.mean_95 2002.515789 1639798767
# stats.timers.read_latency.count 100.000000 1639798767
# stats.timers.read_latency.sum_squares_99 444248776.000000 1639798767
# stats.timers.read_latency.mean 2049.930000 1639798767
# stats.timers.read_latency.upper_99 2971.000000 1639798767
# stats.timers.read_latency.sum 204993.000000 1639798767
# stats.timers.read_latency.sum_98 199029.000000 1639798767
# stats.timers.read_latency.sum_99 202000.000000 1639798767
# stats.timers.read_latency.sum_squares_95 409667161.000000 1639798767
# stats.timers.read_latency.sum_95 190239.000000 1639798767
# stats.timers.read_latency.upper 2993.000000 1639798767
# stats.timers.read_latency.median 2060.500000 1639798767
# stats.timers.read_latency.count_ps 100.000000 1639798767
# stats.timers.read_latency.std 574.330258 1639798767
# stats.timers.read_latency.count_95 95.000000 1639798767
# stats.timers.read_latency.upper_98 2934.000000 1639798767
# stats.timers.read_latency.mean_98 2030.908163 1639798767
# stats.timers.read_latency.mean_99 2040.404040 1639798767
# stats.timers.read_latency.lower 1013.000000 1639798767
# stats.timers.read_latency.count_99 99.000000 1639798767
# stats.timers.read_latency.sum_squares_98 435421935.000000 1639798767
# stats.statsd.numStats 3 1639798767
# stats.statsd.graphiteStats.calculationtime 0.059000 1639798767
# stats.statsd.processing_time 0.211 1639798767
# stats.statsd.graphiteStats.last_exception 94879331318240 1639798767
# stats.statsd.graphiteStats.last_flush 94879331318240 1639798767
t/integration-tests/percent-threshold.t .... ok
2021-12-18 03:39:27.000000 +0000 note Net::Statsd::Server: Initializing Net::Statsd::Server::Backend::Console backend
2021-12-18 03:39:27.000000 +0000 note Net::Statsd::Server: Initializing Net::Statsd::Server::Backend::Graphite backend
2021-12-18 03:39:27.000000 +0000 info AnyEvent: Autoloaded model 'AnyEvent::Impl::EV', using it.
2021-12-18 03:39:27.925740 +0000 note Net::Statsd::Server: statsd server started on 0.0.0.0:40001 (v0.17)
2021-12-18 03:39:27.925766 +0000 note Net::Statsd::Server: manager interface started on 0.0.0.0:40002
2021-12-18 03:39:27.925791 +0000 note Net::Statsd::Server: metrics flush will happen every 1s
2021-12-18 03:39:28.927958 +0000 note Net::Statsd::Server: flushing metrics
Flushing stats at Sat Dec 18 03:39:28 2021
{"sets":null,"counter_rates":{"statsd.bad_lines_seen":0,"statsd.packets_received":1},"counters":{"statsd.packets_received":1,"statsd.bad_lines_seen":0},"timers":{"a_test_value":["100"]},"timer_data":{"a_test_value":{"upper":"100","sum_squares":10000,"sum_squares_90":10000,"median":"100","mean":100,"count_90":1,"lower":"100","mean_90":"100","count_ps":1,"sum_90":"100","std":0,"sum":"100","count":1,"upper_90":"100"}},"pctThreshold":["90"],"gauges":{}}
# stats.counters.statsd.packets_received.rate 1.000000 1639798768
# stats.counters.statsd.packets_received.count 1 1639798768
# stats.counters.statsd.bad_lines_seen.rate 0.000000 1639798768
# stats.counters.statsd.bad_lines_seen.count 0 1639798768
# stats.timers.a_test_value.upper 100.000000 1639798768
# stats.timers.a_test_value.sum_squares 10000.000000 1639798768
# stats.timers.a_test_value.sum_squares_90 10000.000000 1639798768
# stats.timers.a_test_value.median 100.000000 1639798768
# stats.timers.a_test_value.mean 100.000000 1639798768
# stats.timers.a_test_value.count_90 1.000000 1639798768
# stats.timers.a_test_value.lower 100.000000 1639798768
# stats.timers.a_test_value.mean_90 100.000000 1639798768
# stats.timers.a_test_value.count_ps 1.000000 1639798768
# stats.timers.a_test_value.sum_90 100.000000 1639798768
# stats.timers.a_test_value.std 0.000000 1639798768
# stats.timers.a_test_value.sum 100.000000 1639798768
# stats.timers.a_test_value.count 1.000000 1639798768
# stats.timers.a_test_value.upper_90 100.000000 1639798768
# stats.statsd.numStats 3 1639798768
# stats.statsd.graphiteStats.calculationtime 0.050000 1639798768
# stats.statsd.processing_time 0.062 1639798768
# stats.statsd.graphiteStats.last_exception 94873895840224 1639798768
# stats.statsd.graphiteStats.last_flush 94873895840224 1639798768
t/integration-tests/timers-are-valid.t ..... ok
t/process-metrics.t ........................ ok
t/trim.t ................................... ok
All tests successful.
Files=12, Tests=92, 11 wallclock secs ( 0.02 usr 0.06 sys + 0.78 cusr 0.24 csys = 1.10 CPU)
Result: PASS
------------------------------
PREREQUISITES
------------------------------
Prerequisite modules loaded:
requires:
Module Need Have
--------------------- ---- --------
AnyEvent::Handle::UDP 0 0.050
IO::Socket::INET 0 1.49
JSON::XS 0 4.03
build_requires:
Module Need Have
--------------------- ---- --------
ExtUtils::MakeMaker 0 7.62
Test::More 0 1.302188
configure_requires:
Module Need Have
--------------------- ---- --------
ExtUtils::MakeMaker 0 7.62
------------------------------
ENVIRONMENT AND OTHER CONTEXT
------------------------------
Environment variables:
AUTOMATED_TESTING = 1
LANG = en_US.utf8
PATH = /home/sand/bin:/usr/local/bin:/usr/local/sbin:/usr/sbin:/usr/bin:/sbin:/bin:/usr/games:/usr/local/games:/snap/bin:/usr/local/perl/bin:/usr/X11/bin
PERL5LIB = /tmp/loop_over_bdir-31349-_1QDNd/dta-tokwrap-0.98-0/blib/arch:/tmp/loop_over_bdir-31349-_1QDNd/dta-tokwrap-0.98-0/blib/lib
PERL5OPT =
PERL5_CPANPLUS_IS_RUNNING = 31357
PERL5_CPAN_IS_RUNNING = 31357
PERL_CANARY_STABILITY_NOPROMPT = 1
PERL_MM_USE_DEFAULT = 1
PERL_USE_UNSAFE_INC = 1
SHELL = /usr/bin/zsh
TERM = screen
Perl special variables (and OS-specific diagnostics, for MSWin32):
$^X = /tmp/basesmoker-reloperl-4CvM/bin/perl
$UID/$EUID = 1005 / 1005
$GID = 1005 1005
$EGID = 1005 1005
Perl module toolchain versions installed:
Module Have
------------------- --------
CPAN 2.29
CPAN::Meta 2.150010
Cwd 3.82
ExtUtils::CBuilder 0.280236
ExtUtils::Command 7.62
ExtUtils::Install 2.20
ExtUtils::MakeMaker 7.62
ExtUtils::Manifest 1.73
ExtUtils::ParseXS 3.44
File::Spec 3.81
JSON 4.03
JSON::PP 4.06
Module::Build 0.4231
Module::Signature 0.87
Parse::CPAN::Meta 2.150010
Test::Harness 3.43
Test::More 1.302188
YAML 1.30
YAML::Syck 1.34
version 0.9929
--
Summary of my perl5 (revision 5 version 35 subversion 6) configuration:
Commit id: 7badc7c896a8f12c680283f7fbf93fb1e22a24da
Platform:
osname=linux
osvers=4.15.0-162-generic
archname=x86_64-linux
uname='linux k93bionic 4.15.0-162-generic #170-ubuntu smp mon oct 18 11:38:05 utc 2021 x86_64 x86_64 x86_64 gnulinux '
config_args='-Dprefix=/home/sand/src/perl/repoperls/installed-perls/host/k93bionic/v5.35.6/2aaf -Dmyhostname=k93bionic -Dinstallusrbinperl=n -Uversiononly -Dusedevel -des -Ui_db -Dlibswanted=cl pthread socket inet nsl gdbm dbm malloc dl ld sun m crypt sec util c cposix posix ucb BSD gdbm_compat -Uuseithreads -Uuselongdouble -DEBUGGING=-g'
hint=recommended
useposix=true
d_sigaction=define
useithreads=undef
usemultiplicity=undef
use64bitint=define
use64bitall=define
uselongdouble=undef
usemymalloc=n
default_inc_excludes_dot=define
Compiler:
cc='cc'
ccflags ='-fwrapv -fno-strict-aliasing -pipe -fstack-protector-strong -I/usr/local/include -D_LARGEFILE_SOURCE -D_FILE_OFFSET_BITS=64'
optimize='-O2 -g'
cppflags='-fwrapv -fno-strict-aliasing -pipe -fstack-protector-strong -I/usr/local/include'
ccversion=''
gccversion='7.5.0'
gccosandvers=''
intsize=4
longsize=8
ptrsize=8
doublesize=8
byteorder=12345678
doublekind=3
d_longlong=define
longlongsize=8
d_longdbl=define
longdblsize=16
longdblkind=3
ivtype='long'
ivsize=8
nvtype='double'
nvsize=8
Off_t='off_t'
lseeksize=8
alignbytes=8
prototype=define
Linker and Libraries:
ld='cc'
ldflags =' -fstack-protector-strong -L/usr/local/lib'
libpth=/usr/local/lib /usr/lib/x86_64-linux-gnu /usr/lib /lib/x86_64-linux-gnu /lib
libs=-lpthread -lnsl -ldl -lm -lcrypt -lutil -lc
perllibs=-lpthread -lnsl -ldl -lm -lcrypt -lutil -lc
libc=libc-2.27.so
so=so
useshrplib=false
libperl=libperl.a
gnulibc_version='2.27'
Dynamic Linking:
dlsrc=dl_dlopen.xs
dlext=so
d_dlsymun=undef
ccdlflags='-Wl,-E'
cccdlflags='-fPIC'
lddlflags='-shared -O2 -g -L/usr/local/lib -fstack-protector-strong'
Characteristics of this binary (from libperl):
Compile-time options:
HAS_TIMES
PERLIO_LAYERS
PERL_COPY_ON_WRITE
PERL_DONT_CREATE_GVSV
PERL_MALLOC_WRAP
PERL_OP_PARENT
PERL_PRESERVE_IVUV
PERL_USE_DEVEL
USE_64_BIT_ALL
USE_64_BIT_INT
USE_LARGE_FILES
USE_LOCALE
USE_LOCALE_COLLATE
USE_LOCALE_CTYPE
USE_LOCALE_NUMERIC
USE_LOCALE_TIME
USE_PERLIO
USE_PERL_ATOF
Built under linux
Compiled at Nov 30 2021 10:31:23
%ENV:
PERL5LIB="/tmp/loop_over_bdir-31349-_1QDNd/dta-tokwrap-0.98-0/blib/arch:/tmp/loop_over_bdir-31349-_1QDNd/dta-tokwrap-0.98-0/blib/lib"
PERL5OPT=""
PERL5_CPANPLUS_IS_RUNNING="31357"
PERL5_CPAN_IS_RUNNING="31357"
PERL_CANARY_STABILITY_NOPROMPT="1"
PERL_MM_USE_DEFAULT="1"
PERL_USE_UNSAFE_INC="1"
@INC:
/tmp/loop_over_bdir-31349-_1QDNd/dta-tokwrap-0.98-0/blib/arch
/tmp/loop_over_bdir-31349-_1QDNd/dta-tokwrap-0.98-0/blib/lib
/home/sand/src/perl/repoperls/installed-perls/host/k93bionic/v5.35.6/2aaf/lib/site_perl/5.35.6/x86_64-linux
/home/sand/src/perl/repoperls/installed-perls/host/k93bionic/v5.35.6/2aaf/lib/site_perl/5.35.6
/home/sand/src/perl/repoperls/installed-perls/host/k93bionic/v5.35.6/2aaf/lib/5.35.6/x86_64-linux
/home/sand/src/perl/repoperls/installed-perls/host/k93bionic/v5.35.6/2aaf/lib/5.35.6
.