Net-Async-Redis v6.006 Perl 5 v5.36.1 x86_64-linux-thread-multi

Status
Pass
From
Andreas J. König (ANDK)
Dist
Net-Async-Redis v6.006
Platform
Perl 5 v5.36.1 x86_64-linux-thread-multi
Date
2024-12-15 11:06:05
ID
93faf12c-bad4-11ef-b0fd-e55f0d68a36c
This distribution has been tested as part of the CPAN Testers
project, supporting the Perl programming language.  See
http://wiki.cpantesters.org/ for more information or email
questions to cpan-testers-discuss@perl.org


--
Dear Tom Molesworth,

This is a computer-generated report for Net-Async-Redis-6.006
on perl 5.36.1, created by CPAN-Reporter-1.2018.

Thank you for uploading your work to CPAN.  Congratulations!
All tests were successful.

Sections of this report:

    * Tester comments
    * Program output
    * Prerequisites
    * Environment and other context

------------------------------
TESTER COMMENTS
------------------------------

Additional comments from tester:

this report is from an automated smoke testing program
and was not reviewed by a human for accuracy

------------------------------
PROGRAM OUTPUT
------------------------------

Output from '/usr/bin/make test':

Skip blib/lib/auto/share/dist/Net-Async-Redis/commands.yaml (unchanged)
PERL_DL_NONLAZY=1 "/home/sand/src/perl/repoperls/installed-perls/host/k93msid/v5.36.1/29fb/bin/perl" "-MExtUtils::Command::MM" "-MTest::Harness" "-e" "undef *Test::Harness::Switches; test_harness(0, 'blib/lib', 'blib/arch')" t/*.t
t/00-check-deps.t ................ ok
t/00-compile.t ................... ok
# 
# Versions for all modules listed in MYMETA.json (including optional ones):
# 
# === Configure Requires ===
# 
#     Module                  Want Have
#     ----------------------- ---- ----
#     ExtUtils::MakeMaker      any 7.70
#     File::ShareDir::Install 0.06 0.14
# 
# === Build Requires ===
# 
#     Module              Want Have
#     ------------------- ---- ----
#     ExtUtils::MakeMaker  any 7.70
# 
# === Test Requires ===
# 
#     Module                 Want     Have
#     --------------------- ----- --------
#     ExtUtils::MakeMaker     any     7.70
#     File::Spec              any     3.84
#     IO::Handle              any     1.55
#     IPC::Open3              any     1.22
#     Test::CheckDeps       0.010    0.010
#     Test::Deep              any    1.204
#     Test::Fatal           0.016    0.017
#     Test::HexString         any     0.03
#     Test::MockModule        any  0.177.0
#     Test::More             0.98 1.302204
#     Variable::Disposition 0.004    0.004
# 
# === Test Recommends ===
# 
#     Module         Want     Have
#     ---------- -------- --------
#     CPAN::Meta 2.120900 2.150010
# 
# === Runtime Requires ===
# 
#     Module                        Want     Have
#     ---------------------------- ----- --------
#     Cache::LRU                    0.04     0.04
#     Class::Method::Modifiers       any     2.15
#     Digest::CRC                   0.22     0.24
#     Dir::Self                      any     0.11
#     File::ShareDir                 any    1.118
#     File::ShareDir::Install        any     0.14
#     Full::Class                  1.004    1.004
#     Future                        0.51     0.51
#     Future::AsyncAwait            0.48     0.69
#     Future::Queue                 0.50     0.52
#     IO::Async                      any    0.802
#     List::BinarySearch::XS        0.09     0.09
#     List::Util                    1.55     1.68
#     Log::Any                     1.708    1.717
#     Math::Random::Secure           any 0.080001
#     Metrics::Any                   any     0.10
#     Object::Pad                  0.800    0.816
#     Path::Tiny                     any    0.144
#     Ryu                          2.009    4.001
#     Ryu::Async                   0.019    0.020
#     Syntax::Keyword::Dynamically  0.07     0.14
#     Syntax::Keyword::Match         any     0.15
#     Syntax::Keyword::Try          0.21     0.30
#     URI                            any     5.31
#     URI::redis                     any     0.02
#     YAML::XS                      0.88     0.88
#     curry                          any 2.000001
#     parent                         any    0.241
# 
# === Runtime Recommends ===
# 
#     Module              Want  Have
#     ------------------ ----- -----
#     OpenTelemetry      0.018 0.023
#     OpenTelemetry::SDK 0.020 0.024
# 
# === Runtime Suggests ===
# 
#     Module            Want    Have
#     ---------------- ----- -------
#     OpenTracing::Any 1.003 missing
# 
t/00-report-prereqs.t ............ ok
t/basic.t ........................ skipped: set NET_ASYNC_REDIS_HOST env var to test, but be prepared for it to *wipe that redis instance*
t/client_side_caching.t .......... skipped: set NET_ASYNC_REDIS_HOST or NET_ASYNC_REDIS_URI env var to test
t/cluster.t ...................... skipped: set NET_ASYNC_REDIS_CLUSTER env var to test
t/hash_slot.t .................... ok
t/interleave.t ................... skipped: set NET_ASYNC_REDIS_HOST env var to test
t/keyspec.t ...................... ok
t/multi.t ........................ skipped: set NET_ASYNC_REDIS_HOST env var to test
t/pipeline.t ..................... skipped: set NET_ASYNC_REDIS_HOST or NET_ASYNC_REDIS_URI env var to test
t/protocol.t ..................... ok
t/protocol_compatibility_test.t .. skipped: set NET_ASYNC_REDIS5_URI and NET_ASYNC_REDIS6_URI env var to test
t/psubscribe.t ................... skipped: set NET_ASYNC_REDIS_HOST env var to test
t/pubsub.t ....................... skipped: set NET_ASYNC_REDIS_HOST or NET_ASYNC_REDIS_URI env var to test
t/watch_keyspace.t ............... skipped: set NET_ASYNC_REDIS_HOST env var to test
All tests successful.
Files=16, Tests=737, 17 wallclock secs ( 0.13 usr  0.08 sys +  9.65 cusr  1.50 csys = 11.36 CPU)
Result: PASS

------------------------------
PREREQUISITES
------------------------------

Prerequisite modules loaded:

requires:

    Module                       Need  Have    
    ---------------------------- ----- --------
    Cache::LRU                   0.04  0.04    
    Class::Method::Modifiers     0     2.15    
    curry                        0     2.000001
    Digest::CRC                  0.22  0.24    
    Dir::Self                    0     0.11    
    File::ShareDir               0     1.118   
    File::ShareDir::Install      0     0.14    
    Full::Class                  1.004 1.004   
    Future                       0.51  0.51    
    Future::AsyncAwait           0.48  0.69    
    Future::Queue                0.50  0.52    
    IO::Async                    0     0.802   
    List::BinarySearch::XS       0.09  0.09    
    List::Util                   1.55  1.68    
    Log::Any                     1.708 1.717   
    Math::Random::Secure         0     0.080001
    Metrics::Any                 0     0.10    
    Object::Pad                  0.800 0.816   
    parent                       0     0.241   
    Path::Tiny                   0     0.144   
    Ryu                          2.009 4.001   
    Ryu::Async                   0.019 0.020   
    Syntax::Keyword::Dynamically 0.07  0.14    
    Syntax::Keyword::Match       0     0.15    
    Syntax::Keyword::Try         0.21  0.30    
    URI                          0     5.31    
    URI::redis                   0     0.02    
    YAML::XS                     0.88  0.88    

build_requires:

    Module                       Need  Have    
    ---------------------------- ----- --------
    ExtUtils::MakeMaker          0     7.70    
    File::Spec                   0     3.84    
    IO::Handle                   0     1.55    
    IPC::Open3                   0     1.22    
    Test::CheckDeps              0.010 0.010   
    Test::Deep                   0     1.204   
    Test::Fatal                  0.016 0.017   
    Test::HexString              0     0.03    
    Test::MockModule             0     0.177.0 
    Test::More                   0.98  1.302204
    Variable::Disposition        0.004 0.004   

configure_requires:

    Module                       Need  Have    
    ---------------------------- ----- --------
    ExtUtils::MakeMaker          0     7.70    
    File::ShareDir::Install      0.06  0.14    

opt_requires:

    Module                       Need  Have    
    ---------------------------- ----- --------
    OpenTelemetry                0.018 0.023   
    OpenTelemetry::SDK           0.020 0.024   


------------------------------
ENVIRONMENT AND OTHER CONTEXT
------------------------------

Environment variables:

    AUTOMATED_TESTING = 1
    LANG = en_US.UTF-8
    LANGUAGE = en_US:en
    PATH = /home/sand/bin:/usr/local/bin:/usr/bin:/bin:/usr/games:/usr/local/perl/bin:/usr/X11/bin:/sbin:/usr/sbin
    PERL5LIB = 
    PERL5OPT = 
    PERL5_CPANPLUS_IS_RUNNING = 3005581
    PERL5_CPAN_IS_RUNNING = 3005581
    PERL_CANARY_STABILITY_NOPROMPT = 1
    PERL_MM_USE_DEFAULT = 1
    PERL_USE_UNSAFE_INC = 1
    SHELL = /usr/bin/zsh
    TERM = screen

Perl special variables (and OS-specific diagnostics, for MSWin32):

    $^X = /home/sand/src/perl/repoperls/installed-perls/host/k93msid/v5.36.1/29fb/bin/perl
    $UID/$EUID = 1005 / 1005
    $GID = 1005 1005
    $EGID = 1005 1005

Perl module toolchain versions installed:

    Module              Have    
    ------------------- --------
    CPAN                2.34    
    CPAN::Meta          2.150010
    Cwd                 3.84    
    ExtUtils::CBuilder  0.280236
    ExtUtils::Command   7.70    
    ExtUtils::Install   2.20    
    ExtUtils::MakeMaker 7.70    
    ExtUtils::Manifest  1.75    
    ExtUtils::ParseXS   3.45    
    File::Spec          3.84    
    JSON                4.10    
    JSON::PP            4.16    
    Module::Build       0.4234  
    Module::Signature   0.88    
    Parse::CPAN::Meta   2.150010
    Test::Harness       3.50    
    Test::More          1.302204
    YAML                1.30    
    YAML::Syck          1.34    
    version             0.9929  


--

Summary of my perl5 (revision 5 version 36 subversion 1) configuration:
  Commit id: 42e3343be621a2b9cdb98befd92de43cc0b7ef3e
  Platform:
    osname=linux
    osvers=6.1.0-7-amd64
    archname=x86_64-linux-thread-multi
    uname='linux k93msid 6.1.0-7-amd64 #1 smp preempt_dynamic debian 6.1.20-1 (2023-03-19) x86_64 gnulinux '
    config_args='-Dprefix=/home/sand/src/perl/repoperls/installed-perls/host/k93msid/v5.36.1/29fb -Dmyhostname=k93msid -Dinstallusrbinperl=n -Uversiononly -Dusedevel -des -Ui_db -Dlibswanted=cl pthread socket inet nsl gdbm dbm malloc dl ld sun m crypt sec util c cposix posix ucb BSD gdbm_compat -Duseithreads -Uuselongdouble -DEBUGGING=both'
    hint=recommended
    useposix=true
    d_sigaction=define
    useithreads=define
    usemultiplicity=define
    use64bitint=define
    use64bitall=define
    uselongdouble=undef
    usemymalloc=n
    default_inc_excludes_dot=define
  Compiler:
    cc='cc'
    ccflags ='-D_REENTRANT -D_GNU_SOURCE -fwrapv -DDEBUGGING -fno-strict-aliasing -pipe -fstack-protector-strong -I/usr/local/include -D_LARGEFILE_SOURCE -D_FILE_OFFSET_BITS=64 -D_FORTIFY_SOURCE=2'
    optimize='-O2 -g'
    cppflags='-D_REENTRANT -D_GNU_SOURCE -fwrapv -DDEBUGGING -fno-strict-aliasing -pipe -fstack-protector-strong -I/usr/local/include'
    ccversion=''
    gccversion='12.2.0'
    gccosandvers=''
    intsize=4
    longsize=8
    ptrsize=8
    doublesize=8
    byteorder=12345678
    doublekind=3
    d_longlong=define
    longlongsize=8
    d_longdbl=define
    longdblsize=16
    longdblkind=3
    ivtype='long'
    ivsize=8
    nvtype='double'
    nvsize=8
    Off_t='off_t'
    lseeksize=8
    alignbytes=8
    prototype=define
  Linker and Libraries:
    ld='cc'
    ldflags =' -fstack-protector-strong -L/usr/local/lib'
    libpth=/usr/local/lib /usr/lib/x86_64-linux-gnu /usr/lib /usr/lib64
    libs=-lpthread -lnsl -ldl -lm -lcrypt -lutil -lc
    perllibs=-lpthread -lnsl -ldl -lm -lcrypt -lutil -lc
    libc=/lib/x86_64-linux-gnu/libc.so.6
    so=so
    useshrplib=false
    libperl=libperl.a
    gnulibc_version='2.36'
  Dynamic Linking:
    dlsrc=dl_dlopen.xs
    dlext=so
    d_dlsymun=undef
    ccdlflags='-Wl,-E'
    cccdlflags='-fPIC'
    lddlflags='-shared -O2 -g -L/usr/local/lib -fstack-protector-strong'


Characteristics of this binary (from libperl): 
  Compile-time options:
    DEBUGGING
    HAS_TIMES
    MULTIPLICITY
    PERLIO_LAYERS
    PERL_COPY_ON_WRITE
    PERL_DONT_CREATE_GVSV
    PERL_MALLOC_WRAP
    PERL_OP_PARENT
    PERL_PRESERVE_IVUV
    PERL_TRACK_MEMPOOL
    PERL_USE_DEVEL
    USE_64_BIT_ALL
    USE_64_BIT_INT
    USE_ITHREADS
    USE_LARGE_FILES
    USE_LOCALE
    USE_LOCALE_COLLATE
    USE_LOCALE_CTYPE
    USE_LOCALE_NUMERIC
    USE_LOCALE_TIME
    USE_PERLIO
    USE_PERL_ATOF
    USE_REENTRANT_API
    USE_THREAD_SAFE_LOCALE
  Built under linux
  Compiled at Apr 23 2023 22:21:46
  %ENV:
    PERL5LIB=""
    PERL5OPT=""
    PERL5_CPANPLUS_IS_RUNNING="3005581"
    PERL5_CPAN_IS_RUNNING="3005581"
    PERL_CANARY_STABILITY_NOPROMPT="1"
    PERL_MM_USE_DEFAULT="1"
    PERL_USE_UNSAFE_INC="1"
  @INC:
    /home/sand/src/perl/repoperls/installed-perls/host/k93msid/v5.36.1/29fb/lib/site_perl/5.36.1/x86_64-linux-thread-multi
    /home/sand/src/perl/repoperls/installed-perls/host/k93msid/v5.36.1/29fb/lib/site_perl/5.36.1
    /home/sand/src/perl/repoperls/installed-perls/host/k93msid/v5.36.1/29fb/lib/5.36.1/x86_64-linux-thread-multi
    /home/sand/src/perl/repoperls/installed-perls/host/k93msid/v5.36.1/29fb/lib/5.36.1
    .